BEGIN:VCALENDAR
VERSION:2.0
PRODID:-//Sistema Museale - ECPv5.14.0.4//NONSGML v1.0//EN
CALSCALE:GREGORIAN
METHOD:PUBLISH
X-WR-CALNAME:Sistema Museale
X-ORIGINAL-URL:https://sistemamuseale.cmvs.it
X-WR-CALDESC:Events for Sistema Museale
REFRESH-INTERVAL;VALUE=DURATION:PT1H
X-Robots-Tag:noindex
X-PUBLISHED-TTL:PT1H
BEGIN:VTIMEZONE
TZID:Europe/Rome
BEGIN:DAYLIGHT
TZOFFSETFROM:+0100
TZOFFSETTO:+0200
TZNAME:CEST
DTSTART:20240331T010000
END:DAYLIGHT
BEGIN:STANDARD
TZOFFSETFROM:+0200
TZOFFSETTO:+0100
TZNAME:CET
DTSTART:20241027T010000
END:STANDARD
END:VTIMEZONE
BEGIN:VEVENT
DTSTART;VALUE=DATE:20240413
DTEND;VALUE=DATE:20250101
DTSTAMP:20260423T024056
CREATED:20240403T104006Z
LAST-MODIFIED:20240403T104027Z
UID:2089-1712966400-1735689599@sistemamuseale.cmvs.it
SUMMARY:Mostra L'età del Legno. 4000 anni fa al Lucone
DESCRIPTION:Al Museo Archeologico della Valle Sabbia una nuova mostra dedicata ai manufatti in legno e tessuti dal sito palafitticolo dell’età del Bronzo. \nInaugurazione aperta al pubblico sabato 13 aprile 2024 alle ore 11.00 \nLa mostra\, visitabile fino al 31 dicembre 2024\, sarà l’occasione per osservare oggetti di una rarità assoluta\, da raffinati manufatti decorati fino ad elementi strutturali delle antiche case. Spicca su tutti la porta in legno più antica d’Italia! \nPer informazioni\, orari e biglietti contattare il Museo.
URL:https://sistemamuseale.cmvs.it/event/mostra-leta-del-legno-4000-anni-fa-al-lucone/
LOCATION:museo archeologico della valle sabbia\, Piazza S. Bernardino\, 5\, Gavardo\, BS\, 25085\, Italia
CATEGORIES:Mostra,Visita Guidata
ATTACH;FMTTYPE=image/jpeg:https://sistemamuseale.cmvs.it/wp-content/uploads/2024/04/mostra-bronzo-mavs-lucone-13-aprile.jpg
END:VEVENT
BEGIN:VEVENT
DTSTART;TZID=Europe/Rome:20240929T090000
DTEND;TZID=Europe/Rome:20240929T140000
DTSTAMP:20260423T024056
CREATED:20240920T071415Z
LAST-MODIFIED:20240920T071415Z
UID:2535-1727600400-1727618400@sistemamuseale.cmvs.it
SUMMARY:Escursione sul Monte Stino con degustazione - GEP 2024
DESCRIPTION:In occasione delle #GEP2024 un’escursione alla scoperta degli angoli nascosti della nostra valle. \nProgramma e dettagli nella locandina. Obbligatoria la prenotazione contattando la guida Giovanni Freddi 3385072123
URL:https://sistemamuseale.cmvs.it/event/escursione-sul-monte-stino-con-degustazione-gep-2024/
LOCATION:Museo dei reperti bellici – Capovalle\, Via XXIV Maggio\, 9\, Capovalle\, BS\, 25070\, Italia
CATEGORIES:Enogastronomia,Escursione,Visita Guidata
ATTACH;FMTTYPE=image/jpeg:https://sistemamuseale.cmvs.it/wp-content/uploads/2024/09/GEP-Capovalle-29-settembre-freddi.jpeg
END:VEVENT
BEGIN:VEVENT
DTSTART;TZID=Europe/Rome:20240929T100000
DTEND;TZID=Europe/Rome:20240929T170000
DTSTAMP:20260423T024056
CREATED:20240924T075229Z
LAST-MODIFIED:20240924T075229Z
UID:2538-1727604000-1727629200@sistemamuseale.cmvs.it
SUMMARY:GEP 2024 In cammino nel passato al Lucone di Polpenazze
DESCRIPTION:IN CAMMINO NEL PASSATO. IL LUCONE DI POLPENAZZE \nIn occasione delle Giornate Europee del patrimonio\, che si terranno sabato 28 e domenica 29 settembre e aventi come tema “Patrimonio in cammino”\, il Museo Archeologico della Valle Sabbia di Gavardo propone la giornata “In cammino nel passato” dedicata alla scoperta del Sito Archeologico del Lucone di Polpenazze. \nDomenica 29 settembre\, alle ore 10\, appuntamento all’area di scavo Lucone D per un percorso naturalistico adatto a tutti e visita guidato allo scavo. È consigliato abbigliamento adeguato con calzature chiuse. \nLa giornata prosegue al Museo Archeologico della Valle Sabbia a Gavardo con la visita guidata alla mostra L’età del Legno. 1000 anni fa al Lucone a cura del Direttore del Museo\, Dottor Marco Baioni.\nIl museo sarà aperto seguendo i consueti orari di apertura 14.30-18.30. \nLe attività sono gratuite e finanziate da Regione Lombardia. La prenotazione non è obbligatoria ma comunque consigliata. In caso di pioggia l’attività del mattino potrebbe essere annullata.\nÈ previsto l’ingresso ridotto al Museo di 2 euro a partecipante.\nL’evento è organizzato dal Museo Archeologico della Valle Sabbia in collaborazione con gli educatori della Coop La Melagrana. \nPer informazioni:\n0365371474 (martedì-venerdì 9:00-13:00\, il giovedì anche dalle 14:00 alle 17:00 e la domenica dalle 14:30 alle 18:30) oppure info@museoarcheologicogavardo.it
URL:https://sistemamuseale.cmvs.it/event/gep-2024-in-cammino-nel-passato-al-lucone-di-polpenazze/
LOCATION:museo archeologico della valle sabbia\, Piazza S. Bernardino\, 5\, Gavardo\, BS\, 25085\, Italia
CATEGORIES:Apertura Straordinaria,Escursione,Visita Guidata
ATTACH;FMTTYPE=image/jpeg:https://sistemamuseale.cmvs.it/wp-content/uploads/2024/09/GEP-MAVS-2024.jpg
END:VEVENT
END:VCALENDAR