BEGIN:VCALENDAR
VERSION:2.0
PRODID:-//Sistema Museale - ECPv5.14.0.4//NONSGML v1.0//EN
CALSCALE:GREGORIAN
METHOD:PUBLISH
X-WR-CALNAME:Sistema Museale
X-ORIGINAL-URL:https://sistemamuseale.cmvs.it
X-WR-CALDESC:Events for Sistema Museale
REFRESH-INTERVAL;VALUE=DURATION:PT1H
X-Robots-Tag:noindex
X-PUBLISHED-TTL:PT1H
BEGIN:VTIMEZONE
TZID:Europe/Rome
BEGIN:DAYLIGHT
TZOFFSETFROM:+0100
TZOFFSETTO:+0200
TZNAME:CEST
DTSTART:20240331T010000
END:DAYLIGHT
BEGIN:STANDARD
TZOFFSETFROM:+0200
TZOFFSETTO:+0100
TZNAME:CET
DTSTART:20241027T010000
END:STANDARD
END:VTIMEZONE
BEGIN:VEVENT
DTSTART;VALUE=DATE:20240413
DTEND;VALUE=DATE:20250101
DTSTAMP:20260423T054845
CREATED:20240403T104006Z
LAST-MODIFIED:20240403T104027Z
UID:2089-1712966400-1735689599@sistemamuseale.cmvs.it
SUMMARY:Mostra L'età del Legno. 4000 anni fa al Lucone
DESCRIPTION:Al Museo Archeologico della Valle Sabbia una nuova mostra dedicata ai manufatti in legno e tessuti dal sito palafitticolo dell’età del Bronzo. \nInaugurazione aperta al pubblico sabato 13 aprile 2024 alle ore 11.00 \nLa mostra\, visitabile fino al 31 dicembre 2024\, sarà l’occasione per osservare oggetti di una rarità assoluta\, da raffinati manufatti decorati fino ad elementi strutturali delle antiche case. Spicca su tutti la porta in legno più antica d’Italia! \nPer informazioni\, orari e biglietti contattare il Museo.
URL:https://sistemamuseale.cmvs.it/event/mostra-leta-del-legno-4000-anni-fa-al-lucone/
LOCATION:museo archeologico della valle sabbia\, Piazza S. Bernardino\, 5\, Gavardo\, BS\, 25085\, Italia
CATEGORIES:Mostra,Visita Guidata
ATTACH;FMTTYPE=image/jpeg:https://sistemamuseale.cmvs.it/wp-content/uploads/2024/04/mostra-bronzo-mavs-lucone-13-aprile.jpg
END:VEVENT
BEGIN:VEVENT
DTSTART;TZID=Europe/Rome:20241109T150000
DTEND;TZID=Europe/Rome:20241109T170000
DTSTAMP:20260423T054845
CREATED:20241029T115305Z
LAST-MODIFIED:20241029T115341Z
UID:2596-1731164400-1731171600@sistemamuseale.cmvs.it
SUMMARY:Museum & More in Valle Sabbia. Per fare un albero ci vuole un seme
DESCRIPTION:Passeggiata all’Isolo e laboratorio presso il Museo Archeologico della Valle Sabbia. Osserviamo la natura e creiamo insieme un grande albero ispirato ai lavori di Bruno Munari. Durata: 2 ore circa \n\n\nAttività gratuita\, i minori dovranno essere accompagnati da un adulto. Non dimenticare: scarpe comode\, giubbotto impermeabile. Il laboratorio si svolgerà anche in caso di pioggia. Prenotazione obbligatoria\, whatsapp o e-mail fino a 24 ore prima: didattica@lamelagrana.it oppure whatsapp 345 6192700  \n\nMuseums & More in Vallesabbia è una rassegna a cura del Sistema Museale della Valle Sabbia\, realizzata con il contributo di Regione Lombardia.
URL:https://sistemamuseale.cmvs.it/event/museum-more-laboratorio-seme/
LOCATION:Gavardo
CATEGORIES:Laboratori
ATTACH;FMTTYPE=image/png:https://sistemamuseale.cmvs.it/wp-content/uploads/2024/10/MM-Laboratorio-Gavardo-9.11.png
ORGANIZER;CN="Sistema%20Museale%20Valle%20Sabbia":MAILTO:sistemamuseale@cmvs.it
END:VEVENT
BEGIN:VEVENT
DTSTART;TZID=Europe/Rome:20241109T160000
DTEND;TZID=Europe/Rome:20241109T170000
DTSTAMP:20260423T054845
CREATED:20240924T121832Z
LAST-MODIFIED:20240924T121832Z
UID:2554-1731168000-1731171600@sistemamuseale.cmvs.it
SUMMARY:Gente di Vallesabbia - Donne e uomini nella resistenza valsabbina
DESCRIPTION:Gente di Vallesabbia – ciclo di incontri a cura dell’Associazione Artistica Culturale “Eridio” presso la Sala Convegni della Cassa Rurale di Ponte Caffaro. \nTutti i dettagli nella locandina allegata.
URL:https://sistemamuseale.cmvs.it/event/gente-di-vallesabbia-donne-e-uomini-nella-resistenza-valsabbina/
LOCATION:Ponte Caffaro\, Ponte Caffaro\, 25072\, Italia
CATEGORIES:Conferenza,Incontro con l'autore
ATTACH;FMTTYPE=image/jpeg:https://sistemamuseale.cmvs.it/wp-content/uploads/2024/09/ponte-caffaro-conferenze-gente-di-vallesabbia-eridio-ott-nov-24.jpeg
END:VEVENT
END:VCALENDAR