BEGIN:VCALENDAR
VERSION:2.0
PRODID:-//Sistema Museale - ECPv5.14.0.4//NONSGML v1.0//EN
CALSCALE:GREGORIAN
METHOD:PUBLISH
X-WR-CALNAME:Sistema Museale
X-ORIGINAL-URL:https://sistemamuseale.cmvs.it
X-WR-CALDESC:Events for Sistema Museale
REFRESH-INTERVAL;VALUE=DURATION:PT1H
X-Robots-Tag:noindex
X-PUBLISHED-TTL:PT1H
BEGIN:VTIMEZONE
TZID:Europe/Rome
BEGIN:DAYLIGHT
TZOFFSETFROM:+0100
TZOFFSETTO:+0200
TZNAME:CEST
DTSTART:20250330T010000
END:DAYLIGHT
BEGIN:STANDARD
TZOFFSETFROM:+0200
TZOFFSETTO:+0100
TZNAME:CET
DTSTART:20251026T010000
END:STANDARD
END:VTIMEZONE
BEGIN:VEVENT
DTSTART;TZID=Europe/Rome:20250412T200000
DTEND;TZID=Europe/Rome:20250412T220000
DTSTAMP:20260423T121750
CREATED:20250325T092122Z
LAST-MODIFIED:20250325T092122Z
UID:2723-1744488000-1744495200@sistemamuseale.cmvs.it
SUMMARY:Giuseppe Biati presenta Racconti Resistenziali
DESCRIPTION:Incontro con l’Autore Giuseppe Biati il 12 aprile alle 20 presso la Sala Assemblee della Comunità Montana di Valle Sabbia a Vestone. \nAlfredo Bonomi presenterà il volume Racconti Resistenziali. 80° anniversario della Liberazione 1945-2025 di Biati (edizioni Valle Sabbia). \nSaluti istituzionali del Presidente di CMVS Giovanmaria Flocchini. \nIngresso libero e gratuito fino ad esaurimento posti disponibili.
URL:https://sistemamuseale.cmvs.it/event/giuseppe-biati-presenta-racconti-resistenziali/
LOCATION:Sala Assemblee Comunità Montana di Valle Sabbia\, Via Generale Reverberi 2\, Vestone\, BS\, 25078\, Italy
CATEGORIES:Incontro con l'autore
ATTACH;FMTTYPE=image/png:https://sistemamuseale.cmvs.it/wp-content/uploads/2025/03/incontro-con-lAutore-12-aprile.png
ORGANIZER;CN="Comunit%C3%A0%20Montana%20di%20Valle%20Sabbia":MAILTO:info@cmvs.it
END:VEVENT
END:VCALENDAR