BEGIN:VCALENDAR
VERSION:2.0
PRODID:-//Sistema Museale - ECPv5.14.0.4//NONSGML v1.0//EN
CALSCALE:GREGORIAN
METHOD:PUBLISH
X-WR-CALNAME:Sistema Museale
X-ORIGINAL-URL:https://sistemamuseale.cmvs.it
X-WR-CALDESC:Events for Sistema Museale
REFRESH-INTERVAL;VALUE=DURATION:PT1H
X-Robots-Tag:noindex
X-PUBLISHED-TTL:PT1H
BEGIN:VTIMEZONE
TZID:Europe/Rome
BEGIN:DAYLIGHT
TZOFFSETFROM:+0100
TZOFFSETTO:+0200
TZNAME:CEST
DTSTART:20250330T010000
END:DAYLIGHT
BEGIN:STANDARD
TZOFFSETFROM:+0200
TZOFFSETTO:+0100
TZNAME:CET
DTSTART:20251026T010000
END:STANDARD
END:VTIMEZONE
BEGIN:VEVENT
DTSTART;VALUE=DATE:20250803
DTEND;VALUE=DATE:20250901
DTSTAMP:20260423T165002
CREATED:20250813T071859Z
LAST-MODIFIED:20250813T071859Z
UID:2989-1754179200-1756684799@sistemamuseale.cmvs.it
SUMMARY:Mostra fotografica "Il territorio dell'incontro"
DESCRIPTION:IL TERRITORIO DELL’INCONTRO – la montagna Bresciana in dialogo\, mostra fotografica dal 3 al 31 agosto\nTutti i giorni dalle 9:00 alle 16:00\, presso Rocca d’Anfo – magazzino C
URL:https://sistemamuseale.cmvs.it/event/mostra-fotografica-il-territorio-dellincontro/
LOCATION:Parco della Rocca D’Anfo\, SS 237 c/o Rocca d'Anfo\, Anfo\, 25080\, Italia
CATEGORIES:Mostra
ATTACH;FMTTYPE=image/jpeg:https://sistemamuseale.cmvs.it/wp-content/uploads/2025/08/mostra-rocca-agosto-2025.jpeg
ORGANIZER;CN="Comunit%C3%A0%20Montana%20di%20Valle%20Sabbia":MAILTO:info@cmvs.it
END:VEVENT
BEGIN:VEVENT
DTSTART;TZID=Europe/Rome:20250803T093000
DTEND;TZID=Europe/Rome:20250803T143000
DTSTAMP:20260423T165002
CREATED:20250721T144539Z
LAST-MODIFIED:20250721T145034Z
UID:2929-1754213400-1754231400@sistemamuseale.cmvs.it
SUMMARY:Museums & More in Valle Sabbia. Capovalle e il Monte Stino
DESCRIPTION:Un’escursione panoramica ci condurrà alla scoperta del Monte Stino\, una delle vette più affascinanti della Valle Sabbia. L’itinerario\, della durata di circa 5 ore\, si sviluppa su 11 chilometri con un dislivello di 550 metri\, offrendo scorci spettacolari sul territorio circostante e sul lago d’Idro.\nLa partenza è prevista dalla Piazza del Municipio di Capovalle\, dove ci ritroveremo alle 9:30\, accompagnati dalla guida AIGAE Giovanni Freddi. Al termine dell’escursione\, i partecipanti potranno godere di una degustazione facoltativa di prodotti locali (8€ da pagare in loco)\, un’occasione perfetta per assaporare le tradizioni enogastronomiche del territorio in un contesto unico e rilassante. \nDettagli nella locandina allegata.\nPrenotazione obbligatoria da effettuarsi obbligatoriamente online a questo indirizzo: https://form.jotform.com/252012749491356 
URL:https://sistemamuseale.cmvs.it/event/museums-more-in-valle-sabbia-capovalle-e-il-monte-stino-2/
LOCATION:Capovalle\, Piazza del Municipio\, Capovalle\, 25070\, Italy
CATEGORIES:Enogastronomia,Escursione,Visita Guidata
ATTACH;FMTTYPE=image/png:https://sistemamuseale.cmvs.it/wp-content/uploads/2025/07/MM-Monte-Stino-Capovalle-3-agosto-locandina.png
ORGANIZER;CN="Sistema%20Museale%20Valle%20Sabbia":MAILTO:sistemamuseale@cmvs.it
END:VEVENT
BEGIN:VEVENT
DTSTART;TZID=Europe/Rome:20250803T150000
DTEND;TZID=Europe/Rome:20250803T170000
DTSTAMP:20260423T165002
CREATED:20250416T091241Z
LAST-MODIFIED:20250416T091241Z
UID:2746-1754233200-1754240400@sistemamuseale.cmvs.it
SUMMARY:Apertura Museo della Resistenza e del Folklore Valsabbino
DESCRIPTION:Il museo sarà aperto ogni prima domenica del mese\, dalle ore 15:00 alle 18:00\, secondo il seguente calendario: \n\n4 maggio 2025\n1 giugno 2025\n6 luglio 2025\n3 agosto 2025\n7 settembre 2025\n5 ottobre 2025\n\nAperture speciali: \n\nVenerdì 25 aprile 2025: dalle 15:00 alle 18:00\nMercoledì 23 luglio 2025: ore 20:30\, con visita guidata in italiano e inglese\n\nVi invitiamo a scoprire questo importante patrimonio culturale che racconta la storia della resistenza locale e le tradizioni folkloristiche della Vallesabbia. \nPer maggiori informazioni e contatti\, visitate la pagina: https://sistemamuseale.cmvs.it/pertica-bassa/
URL:https://sistemamuseale.cmvs.it/event/apertura-museo-della-resistenza-e-del-folklore-valsabbino-5/
LOCATION:Museo della Resistenza e del Folklore Valsabbino\, Via Roma 7\, Forno d'Ono\, 25078\, Italia
CATEGORIES:Apertura Straordinaria
ATTACH;FMTTYPE=image/jpeg:https://sistemamuseale.cmvs.it/wp-content/uploads/2024/07/MdR8.jpg
END:VEVENT
BEGIN:VEVENT
DTSTART;TZID=Europe/Rome:20250803T150000
DTEND;TZID=Europe/Rome:20250803T170000
DTSTAMP:20260423T165002
CREATED:20250416T093209Z
LAST-MODIFIED:20250716T104201Z
UID:2760-1754233200-1754240400@sistemamuseale.cmvs.it
SUMMARY:MAVS 4 Kids. Caccia al tesoro al Lucone
DESCRIPTION:In occasione della nuova campagna di scavo presso il sito palafitticolo del Lucone di Polpenazze\, ritornano gli appuntamenti per grandi e piccoli curiosi ed appassionati di storia ed archeologia.\n\n\n\n\n\nBimbi ed adulti\, muniti di una mappa\, dovranno trovare un tesoro tra gli scavi archeologici\, raccogliendo tracce ed indizi per superare le piccole prove che troveranno nel percorso. \nDomenica 3 agosto\, ore 10:00-12:00\nEtà consigliata a partire dai 6 anni\, costo 2 € a persona\nPosti limitati – prenotazione online: https://form.jotform.com/251952069243358 \n*In caso di maltempo l’evento verrà annullato.\nData l’attività all’aperto\, si consiglia abbigliamento comodo (scarpe da ginnastica\, cappellino)\, di portare una bottiglietta di acqua a seconda delle proprie esigenze ed uno spray repellente insetti. \nAttività in collaborazione con La Melagrana
URL:https://sistemamuseale.cmvs.it/event/mavs-4-kids-caccia-al-tesoro-al-lucone/
LOCATION:Area archeologica del Lucone di Polpenazze\, Via lago Lucone\, Polpenazze del Garda\, 25080\, Italia
CATEGORIES:Apertura Straordinaria,Attività Ludica,Visita Guidata
ATTACH;FMTTYPE=image/jpeg:https://sistemamuseale.cmvs.it/wp-content/uploads/2025/04/CACCIA-AL-TESORO_3-agosto-mavs.jpg
END:VEVENT
END:VCALENDAR