BEGIN:VCALENDAR
VERSION:2.0
PRODID:-//Sistema Museale - ECPv5.14.0.4//NONSGML v1.0//EN
CALSCALE:GREGORIAN
METHOD:PUBLISH
X-WR-CALNAME:Sistema Museale
X-ORIGINAL-URL:https://sistemamuseale.cmvs.it
X-WR-CALDESC:Events for Sistema Museale
REFRESH-INTERVAL;VALUE=DURATION:PT1H
X-Robots-Tag:noindex
X-PUBLISHED-TTL:PT1H
BEGIN:VTIMEZONE
TZID:Europe/Rome
BEGIN:DAYLIGHT
TZOFFSETFROM:+0100
TZOFFSETTO:+0200
TZNAME:CEST
DTSTART:20260329T010000
END:DAYLIGHT
BEGIN:STANDARD
TZOFFSETFROM:+0200
TZOFFSETTO:+0100
TZNAME:CET
DTSTART:20261025T010000
END:STANDARD
END:VTIMEZONE
BEGIN:VEVENT
DTSTART;TZID=Europe/Rome:20260111T150000
DTEND;TZID=Europe/Rome:20260111T163000
DTSTAMP:20260422T122145
CREATED:20260102T084946Z
LAST-MODIFIED:20260102T084946Z
UID:3136-1768143600-1768149000@sistemamuseale.cmvs.it
SUMMARY:Un museo animato – Laboratorio creativo per bambini al MAVS
DESCRIPTION:Ripartono gli appuntamenti della rassegna MAVS for Kids! Un pomeriggio dedicato ai più piccoli per scoprire la nuova sala immersiva del museo attraverso un’attività creativa divertente e coinvolgente – non dimenticate di portare una torcia!\nBambini\, età: 4-10 anni accompagnati\nCosto: 2 € a partecipante\n11 gennaio ore 15.00. Prenotazione obbligatoria tramite modulo online sul sito del museo. \nPer ulteriori informazioni è possibile telefonare al numero 0365371474 (dal martedì al venerdì\, ore 9.00-13.00)\, oppure inviare una mail a info@museoarcheologicogavardo.it.
URL:https://sistemamuseale.cmvs.it/event/un-museo-animato-laboratorio-creativo-per-bambini-al-mavs/
LOCATION:museo archeologico della valle sabbia\, Piazza S. Bernardino\, 5\, Gavardo\, BS\, 25085\, Italia
CATEGORIES:Attività Ludica,Laboratori
ATTACH;FMTTYPE=image/png:https://sistemamuseale.cmvs.it/wp-content/uploads/2026/01/Un-museo-animato-mavs-11-gennaio.png
END:VEVENT
END:VCALENDAR