BEGIN:VCALENDAR
VERSION:2.0
PRODID:-//Sistema Museale - ECPv5.14.0.4//NONSGML v1.0//EN
CALSCALE:GREGORIAN
METHOD:PUBLISH
X-WR-CALNAME:Sistema Museale
X-ORIGINAL-URL:https://sistemamuseale.cmvs.it
X-WR-CALDESC:Events for Sistema Museale
REFRESH-INTERVAL;VALUE=DURATION:PT1H
X-Robots-Tag:noindex
X-PUBLISHED-TTL:PT1H
BEGIN:VTIMEZONE
TZID:Europe/Rome
BEGIN:DAYLIGHT
TZOFFSETFROM:+0100
TZOFFSETTO:+0200
TZNAME:CEST
DTSTART:20260329T010000
END:DAYLIGHT
BEGIN:STANDARD
TZOFFSETFROM:+0200
TZOFFSETTO:+0100
TZNAME:CET
DTSTART:20261025T010000
END:STANDARD
END:VTIMEZONE
BEGIN:VEVENT
DTSTART;TZID=Europe/Rome:20260515T203000
DTEND;TZID=Europe/Rome:20260515T220000
DTSTAMP:20260422T134453
CREATED:20260420T083157Z
LAST-MODIFIED:20260421T123729Z
UID:3241-1778877000-1778882400@sistemamuseale.cmvs.it
SUMMARY:Le donne dell’Odissea. Spettacolo teatrale - Laura Mantovi
DESCRIPTION:Venerdì 15 maggio 2026 alle ore 20.45\, presso l’Aula Magna I.I.S. G. Perlasca di Idro\, va in scena Le donne dell’Odissea\, spettacolo con Laura Mantovi e Daniela Savoldi al violoncello\, nell’ambito della rassegna Altri Sguardi – Teatro in Valle Sabbia.\nUn intreccio di parola e musica che restituisce voce alle figure femminili del poema omerico\, offrendo una rilettura intensa e contemporanea del mito. Attraverso testi di Pavese\, Tabucchi\, Vecchioni\, Ritsos\, Carol Ann Daffy\, Joyce e Omero\, custoditi da scatole sonore create da uno strumento antico\, il violoncello e sostenute anche da uno strumento contemporaneo\, il tablet\, l’antico e il moderno si fonderanno con lo scopo di ricordare indimenticate e indimenticabili figure centrali dell’Odissea: Calipso\, Circe\, le sirene\, Nausicaa\, Atena e Penelope; donne d’amore e di passione che tentano\, salvano\, mettono alla prova\, aspettano e amano Ulisse le cui gesta sarebbero state\, in loro assenza\, molto meno mitologiche. \nPartecipazione libera e gratuita fino a esaurimento posti disponibili
URL:https://sistemamuseale.cmvs.it/event/le-donne-dellodissea-spettacolo-teatrale-laura-mantovi/
LOCATION:Biblioteca di Idro
CATEGORIES:Spettacolo
ATTACH;FMTTYPE=image/png:https://sistemamuseale.cmvs.it/wp-content/uploads/2026/04/altri-sguardi-idro-15-maggio-mantovi.png
ORGANIZER;CN="Comunit%C3%A0%20Montana%20di%20Valle%20Sabbia":MAILTO:info@cmvs.it
END:VEVENT
END:VCALENDAR