BEGIN:VCALENDAR
VERSION:2.0
PRODID:-//Sistema Museale - ECPv5.14.0.4//NONSGML v1.0//EN
CALSCALE:GREGORIAN
METHOD:PUBLISH
X-WR-CALNAME:Sistema Museale
X-ORIGINAL-URL:https://sistemamuseale.cmvs.it
X-WR-CALDESC:Events for Sistema Museale
REFRESH-INTERVAL;VALUE=DURATION:PT1H
X-Robots-Tag:noindex
X-PUBLISHED-TTL:PT1H
BEGIN:VTIMEZONE
TZID:Europe/Rome
BEGIN:DAYLIGHT
TZOFFSETFROM:+0100
TZOFFSETTO:+0200
TZNAME:CEST
DTSTART:20250330T010000
END:DAYLIGHT
BEGIN:STANDARD
TZOFFSETFROM:+0200
TZOFFSETTO:+0100
TZNAME:CET
DTSTART:20251026T010000
END:STANDARD
END:VTIMEZONE
BEGIN:VEVENT
DTSTART;TZID=Europe/Rome:20250601T150000
DTEND;TZID=Europe/Rome:20250601T180000
DTSTAMP:20260421T075722
CREATED:20250416T090009Z
LAST-MODIFIED:20250520T112937Z
UID:2736-1748790000-1748800800@sistemamuseale.cmvs.it
SUMMARY:Apertura Museo della Resistenza e del Folklore Valsabbino
DESCRIPTION:Speciale apertura con concerto alle ore 17:00 \nIl museo sarà aperto ogni prima domenica del mese\, dalle ore 15:00 alle 18:00\, secondo il seguente calendario: \n\n1 giugno 2025\n6 luglio 2025\n3 agosto 2025\n7 settembre 2025\n5 ottobre 2025\n\nAperture speciali: \n\nVenerdì 25 aprile 2025: dalle 15:00 alle 18:00\nMercoledì 23 luglio 2025: ore 20:30\, con visita guidata in italiano e inglese\n\nVi invitiamo a scoprire questo importante patrimonio culturale che racconta la storia della resistenza locale e le tradizioni folkloristiche della Vallesabbia. \nPer maggiori informazioni e contatti\, visitate la pagina: https://sistemamuseale.cmvs.it/pertica-bassa/
URL:https://sistemamuseale.cmvs.it/event/apertura-museo-della-resistenza-e-del-folklore-valsabbino-2/
LOCATION:Museo della Resistenza e del Folklore Valsabbino\, Via Roma 7\, Forno d'Ono\, 25078\, Italia
CATEGORIES:Apertura Straordinaria,Musica,Visita Guidata
ATTACH;FMTTYPE=image/jpeg:https://sistemamuseale.cmvs.it/wp-content/uploads/2025/04/museo-resistenza-1-giugno.jpeg
END:VEVENT
BEGIN:VEVENT
DTSTART;TZID=Europe/Rome:20250614T143000
DTEND;TZID=Europe/Rome:20250614T170000
DTSTAMP:20260421T075722
CREATED:20250603T081751Z
LAST-MODIFIED:20250603T081751Z
UID:2817-1749911400-1749920400@sistemamuseale.cmvs.it
SUMMARY:Laboratorio per bambini. La stampa si fa con tutto - Stampare con... la luce!
DESCRIPTION:Il Museo Stampatori «da Sabbio»\, è lieto di presentare un nuovo appuntamento dedicato alle famiglie con il laboratorio creativo La stampa si fa con tutto – Stampare con… la luce.\nSabato 14 giugno 2025 con due turni: alle 14:30 e alle 16:00.\nEtà consigliata: Bambini dai 5 ai 12 anni\, accompagnati da un adulto \nDurante questo laboratorio\, i partecipanti avranno l’opportunità di sperimentare una tecnica di stampa alternativa utilizzando la luce.\nL’attività è pensata per avvicinare i più giovani al mondo della stampa attraverso un approccio ludico e interattivo\, in linea con la missione educativa del museo. \nIl laboratorio è completamente gratuito\nÈ necessaria la prenotazione tramite WhatsApp al numero 338 1495924\nTutti i materiali necessari saranno forniti dal museo
URL:https://sistemamuseale.cmvs.it/event/laboratorio-per-bambini-la-stampa-si-fa-con-tutto-stampare-con-la-luce/
LOCATION:Museo Stampatori «da Sabbio»\, Via Parrocchiale\, 13\, Sabbio Chiese\, BS\, 25070
CATEGORIES:Apertura Straordinaria,Attività Ludica,Laboratori
ATTACH;FMTTYPE=image/jpeg:https://sistemamuseale.cmvs.it/wp-content/uploads/2025/06/stampatori-sabbio-14-giugno.jpeg
END:VEVENT
BEGIN:VEVENT
DTSTART;TZID=Europe/Rome:20250616T203000
DTEND;TZID=Europe/Rome:20250616T220000
DTSTAMP:20260421T075722
CREATED:20250603T071334Z
LAST-MODIFIED:20250603T071906Z
UID:2814-1750105800-1750111200@sistemamuseale.cmvs.it
SUMMARY:"Il Giudice Albertano" - Presentazione libro al Museo del Ferro
DESCRIPTION:Prossimo incontro con l’autore Enrico Giustacchini\, che presenterà il suo ultimo libro “Il Giudice Albertano e il caso degli indizi impossibili” presso il Museo del Ferro di Odolo.\nL’appuntamento è fissato per lunedì 16 giugno 2025 alle ore 20:30\, con la moderazione di Marcello Zane. L’opera di Giustacchini si inserisce nel filone del giallo storico\, ambientato in epoca medievale e caratterizzato da un intreccio avvincente che unisce mistero e ricostruzione storica accurata.\nLa serata sarà arricchita da intermezzi musicali della Filarmonica Conca d’Oro\, che accompagneranno il pubblico in un viaggio tra letteratura e melodia. L’evento rappresenta un’occasione preziosa per gli appassionati di letteratura gialla e storia medievale\, in un contesto museale che valorizza la tradizione culturale del territorio. \nL’ingresso è gratuito. Per informazioni è possibile contattare la Biblioteca di Odolo al numero 036826376 o via email biblioteca@comune.odolo.bs.it.
URL:https://sistemamuseale.cmvs.it/event/il-giudice-albertano-presentazione-libro-al-museo-del-ferro/
LOCATION:museo del ferro\, Via M. D'Azeglio\, 25076 Odolo BS\, Odolo\, Brescia\, 25076\, Italia
CATEGORIES:Apertura Straordinaria,Incontro con l'autore
ATTACH;FMTTYPE=image/jpeg:https://sistemamuseale.cmvs.it/wp-content/uploads/2025/06/dopocena-con-autore-odolo-16-giugno.jpg
END:VEVENT
BEGIN:VEVENT
DTSTART;TZID=Europe/Rome:20250620T193000
DTEND;TZID=Europe/Rome:20250620T220000
DTSTAMP:20260421T075722
CREATED:20250603T070859Z
LAST-MODIFIED:20250603T071104Z
UID:2810-1750447800-1750456800@sistemamuseale.cmvs.it
SUMMARY:"Il violinista di Dooney" - Apericena e concerto al Museo del Ferro
DESCRIPTION:Il Museo del Ferro Dario Leali di Odolo ospita una serata musicale speciale dedicata alla poesia di W.B. Yeats. “Il violinista di Dooney” è un concerto che unisce musica e letteratura in un’atmosfera suggestiva\, dove le note del violino si intrecciano con le parole del grande poeta irlandese. \nL’evento\, in programma per venerdì 20 giugno 2025\, prevede un’apericena alle ore 19:30 seguita dal concerto alle 20:30. Sul palco si esibiranno Alice Katia Stefani (voce)\, Vincenzo Albini (violino) e Valentino Alberti (chitarra)\, che daranno vita a un’interpretazione originale e coinvolgente dell’opera di Yeats.\nLa serata rappresenta un’occasione unica per vivere il museo in una dimensione diversa\, dove la cultura si fa esperienza sensoriale completa. L’apericena ha un costo di 12€ a persona e la prenotazione è obbligatoria entro il 16 giugno. \nInformazioni e prenotazioni:\nFlora: 339 526 8443\nLisa: 339 227 2283
URL:https://sistemamuseale.cmvs.it/event/il-violinista-di-dooney-apericena-e-concerto-al-museo-del-ferro/
LOCATION:museo del ferro\, Via M. D'Azeglio\, 25076 Odolo BS\, Odolo\, Brescia\, 25076\, Italia
CATEGORIES:Apertura Straordinaria,Enogastronomia,Musica
ATTACH;FMTTYPE=image/jpeg:https://sistemamuseale.cmvs.it/wp-content/uploads/2025/06/concerto-museo-ferro-odolo-20-giugno.jpg
END:VEVENT
BEGIN:VEVENT
DTSTART;TZID=Europe/Rome:20250622T150000
DTEND;TZID=Europe/Rome:20250622T170000
DTSTAMP:20260421T075722
CREATED:20250604T093845Z
LAST-MODIFIED:20250606T075813Z
UID:2839-1750604400-1750611600@sistemamuseale.cmvs.it
SUMMARY:Museums & More in Valle Sabbia. L'Eco della spiritualità
DESCRIPTION:Passeggiata alla scoperta del Santuario di Auro\, Casto\nVisita guidata ArteconNoi – ritrovo presso il Santuario di Madonna della Neve a Casto\, 22 giugno ore 15:00\n\n\n\n\nDurata 90 minuti circa. Attività gratuita\, posti limitati\, prenotazione esclusivamente tramite modulo online (aperto fino a 24 ore prima dell’evento) \nCostruita nel XVI secolo a seguito di un’apparizione mariana\, la chiesa conserva svariate opere d’arte tra cui spiccano la splendida pala di Moretto raffigurante Sant’Antonio Abate e le meravigliose opere lignee dei Pialorsi detti Boscaì\, famiglia di intagliatori della Valsabbia. \nA cura di Cinzia Pasini\, storica dell’arte e guida turistica. \nRitrovo di fronte al santuario dotato di parcheggio.\nIndicazioni:\nDopo essere arrivati ad Auro dalla SP3 girare al cartello di Briale e seguire per località Famea dopo la prima curva girare a destra dove si trova il cartello con indicazione per il Santuario.
URL:https://sistemamuseale.cmvs.it/event/museums-more-in-valle-sabbia-leco-della-spiritualita/
LOCATION:Auro\, Santuario Madonna della Neve di Auro\, Casto\, BS\, Italy
CATEGORIES:Apertura Straordinaria,Visita Guidata
ATTACH;FMTTYPE=image/jpeg:https://sistemamuseale.cmvs.it/wp-content/uploads/2025/06/800px-SantAntonio_Abate_Moretto-Auro.jpg
ORGANIZER;CN="Sistema%20Museale%20Valle%20Sabbia":MAILTO:sistemamuseale@cmvs.it
END:VEVENT
BEGIN:VEVENT
DTSTART;TZID=Europe/Rome:20250628T150000
DTEND;TZID=Europe/Rome:20250628T163000
DTSTAMP:20260421T075722
CREATED:20250604T143421Z
LAST-MODIFIED:20250604T143421Z
UID:2848-1751122800-1751128200@sistemamuseale.cmvs.it
SUMMARY:Museums & More - Obiettivo Creatività: giovani fotografi alla scoperta del Museo del Lavoro
DESCRIPTION:Laboratorio per bambini e ragazzi dai 6 ai 12 anni – ritrovo a Vestone\, loc. Mocenigo\, via Madonna del Covento\, 28 giugno ore 15:00\n\n\n\n\nDurata 1\,5 ore circa. Attività gratuita\, posti limitati (15 bambini)\, prenotazioni esclusivamente online aperte fino al 27 giugno\, tramite modulo disponibile qui. \nIn collaborazione con Associazione Fotoclub 8 marzo di Vestone. \nAllestiamo con gli oggetti del museo un originale set fotografico e scopriamo i segreti che si celano dietro lo scatto perfetto! \nPer bambini e bambine dai 6 ai 12 anni\, obbligatoriamente accompagnati da un adulto per tutta la durata delle attività.
URL:https://sistemamuseale.cmvs.it/event/museums-more-obiettivo-creativita-giovani-fotografi-alla-scoperta-del-museo-del-lavoro/
LOCATION:Museo del Lavoro – Vestone\, Vestone\, BS\, 25078\, Italia
CATEGORIES:Apertura Straordinaria,Attività Ludica,Laboratori,Visita Guidata
ATTACH;FMTTYPE=image/jpeg:https://sistemamuseale.cmvs.it/wp-content/uploads/2021/12/vestone-prev.jpg
ORGANIZER;CN="Sistema%20Museale%20Valle%20Sabbia":MAILTO:sistemamuseale@cmvs.it
END:VEVENT
END:VCALENDAR