BEGIN:VCALENDAR
VERSION:2.0
PRODID:-//Sistema Museale - ECPv5.14.0.4//NONSGML v1.0//EN
CALSCALE:GREGORIAN
METHOD:PUBLISH
X-WR-CALNAME:Sistema Museale
X-ORIGINAL-URL:https://sistemamuseale.cmvs.it
X-WR-CALDESC:Events for Sistema Museale
REFRESH-INTERVAL;VALUE=DURATION:PT1H
X-Robots-Tag:noindex
X-PUBLISHED-TTL:PT1H
BEGIN:VTIMEZONE
TZID:Europe/Rome
BEGIN:DAYLIGHT
TZOFFSETFROM:+0100
TZOFFSETTO:+0200
TZNAME:CEST
DTSTART:20250330T010000
END:DAYLIGHT
BEGIN:STANDARD
TZOFFSETFROM:+0200
TZOFFSETTO:+0100
TZNAME:CET
DTSTART:20251026T010000
END:STANDARD
END:VTIMEZONE
BEGIN:VEVENT
DTSTART;TZID=Europe/Rome:20250425T150000
DTEND;TZID=Europe/Rome:20250425T180000
DTSTAMP:20260421T202307
CREATED:20250416T090320Z
LAST-MODIFIED:20250416T090320Z
UID:2738-1745593200-1745604000@sistemamuseale.cmvs.it
SUMMARY:Apertura Speciale Museo della Resistenza e del Folklore Valsabbino
DESCRIPTION:Speciale apertura in occasione dell’80esimo anniversario della Liberazione d’Italia. \nIl museo sarà aperto ogni prima domenica del mese\, dalle ore 15:00 alle 18:00\, secondo il seguente calendario: \n\n4 maggio 2025\n1 giugno 2025\n6 luglio 2025\n3 agosto 2025\n7 settembre 2025\n5 ottobre 2025\n\nAperture speciali: \n\nVenerdì 25 aprile 2025: dalle 15:00 alle 18:00\nMercoledì 23 luglio 2025: ore 20:30\, con visita guidata in italiano e inglese\n\nVi invitiamo a scoprire questo importante patrimonio culturale che racconta la storia della resistenza locale e le tradizioni folkloristiche della Vallesabbia. \nPer maggiori informazioni e contatti\, visitate la pagina: https://sistemamuseale.cmvs.it/pertica-bassa/
URL:https://sistemamuseale.cmvs.it/event/apertura-25-aprile-perticabassa/
LOCATION:Museo della Resistenza e del Folklore Valsabbino\, Via Roma 7\, Forno d'Ono\, 25078\, Italia
CATEGORIES:Apertura Straordinaria
ATTACH;FMTTYPE=image/jpeg:https://sistemamuseale.cmvs.it/wp-content/uploads/2023/09/MdRritratti1.jpg
END:VEVENT
END:VCALENDAR