BEGIN:VCALENDAR
VERSION:2.0
PRODID:-//Sistema Museale - ECPv5.14.0.4//NONSGML v1.0//EN
CALSCALE:GREGORIAN
METHOD:PUBLISH
X-WR-CALNAME:Sistema Museale
X-ORIGINAL-URL:https://sistemamuseale.cmvs.it
X-WR-CALDESC:Events for Sistema Museale
REFRESH-INTERVAL;VALUE=DURATION:PT1H
X-Robots-Tag:noindex
X-PUBLISHED-TTL:PT1H
BEGIN:VTIMEZONE
TZID:Europe/Rome
BEGIN:DAYLIGHT
TZOFFSETFROM:+0100
TZOFFSETTO:+0200
TZNAME:CEST
DTSTART:20250330T010000
END:DAYLIGHT
BEGIN:STANDARD
TZOFFSETFROM:+0200
TZOFFSETTO:+0100
TZNAME:CET
DTSTART:20251026T010000
END:STANDARD
END:VTIMEZONE
BEGIN:VEVENT
DTSTART;TZID=Europe/Rome:20250616T203000
DTEND;TZID=Europe/Rome:20250616T220000
DTSTAMP:20260421T093800
CREATED:20250603T071334Z
LAST-MODIFIED:20250603T071906Z
UID:2814-1750105800-1750111200@sistemamuseale.cmvs.it
SUMMARY:"Il Giudice Albertano" - Presentazione libro al Museo del Ferro
DESCRIPTION:Prossimo incontro con l’autore Enrico Giustacchini\, che presenterà il suo ultimo libro “Il Giudice Albertano e il caso degli indizi impossibili” presso il Museo del Ferro di Odolo.\nL’appuntamento è fissato per lunedì 16 giugno 2025 alle ore 20:30\, con la moderazione di Marcello Zane. L’opera di Giustacchini si inserisce nel filone del giallo storico\, ambientato in epoca medievale e caratterizzato da un intreccio avvincente che unisce mistero e ricostruzione storica accurata.\nLa serata sarà arricchita da intermezzi musicali della Filarmonica Conca d’Oro\, che accompagneranno il pubblico in un viaggio tra letteratura e melodia. L’evento rappresenta un’occasione preziosa per gli appassionati di letteratura gialla e storia medievale\, in un contesto museale che valorizza la tradizione culturale del territorio. \nL’ingresso è gratuito. Per informazioni è possibile contattare la Biblioteca di Odolo al numero 036826376 o via email biblioteca@comune.odolo.bs.it.
URL:https://sistemamuseale.cmvs.it/event/il-giudice-albertano-presentazione-libro-al-museo-del-ferro/
LOCATION:museo del ferro\, Via M. D'Azeglio\, 25076 Odolo BS\, Odolo\, Brescia\, 25076\, Italia
CATEGORIES:Apertura Straordinaria,Incontro con l'autore
ATTACH;FMTTYPE=image/jpeg:https://sistemamuseale.cmvs.it/wp-content/uploads/2025/06/dopocena-con-autore-odolo-16-giugno.jpg
END:VEVENT
END:VCALENDAR