BEGIN:VCALENDAR
VERSION:2.0
PRODID:-//Sistema Museale - ECPv5.14.0.4//NONSGML v1.0//EN
CALSCALE:GREGORIAN
METHOD:PUBLISH
X-WR-CALNAME:Sistema Museale
X-ORIGINAL-URL:https://sistemamuseale.cmvs.it
X-WR-CALDESC:Events for Sistema Museale
REFRESH-INTERVAL;VALUE=DURATION:PT1H
X-Robots-Tag:noindex
X-PUBLISHED-TTL:PT1H
BEGIN:VTIMEZONE
TZID:Europe/Rome
BEGIN:DAYLIGHT
TZOFFSETFROM:+0100
TZOFFSETTO:+0200
TZNAME:CEST
DTSTART:20250330T010000
END:DAYLIGHT
BEGIN:STANDARD
TZOFFSETFROM:+0200
TZOFFSETTO:+0100
TZNAME:CET
DTSTART:20251026T010000
END:STANDARD
END:VTIMEZONE
BEGIN:VEVENT
DTSTART;VALUE=DATE:20250830
DTEND;VALUE=DATE:20251229
DTSTAMP:20260421T061620
CREATED:20250827T143524Z
LAST-MODIFIED:20251117T115819Z
UID:3018-1756512000-1766966399@sistemamuseale.cmvs.it
SUMMARY:Mostra Ottorino Garosio (1904-1980)
DESCRIPTION:Geografie umane tra la Valle Sabbia e la città – mostra antologica su cinque sedi\, ingresso libero: \n\nSabbio Chiese – Santuario Madonna della Rocca\n30 agosto – 28 settembre 2025\nVenerdì 14:30-18:30\, sabato e domenica 10-12 e 14:30-18:30\nInaugurazione sabato 30 agosto ore 17:00\nVestone – Associazione Via Glisenti\, 43\n19 settembre – 16 novembre 2025\nMercoledì-sabato 17:00-19:00\, domenica 9:00-12:00\nInaugurazione venerdì 19 settembre ore 18:00\nBrescia – Associazione Artisti Bresciani\n20 settembre – 8 ottobre 2025\nBagolino – Palazzo San Giorgio\n21 settembre – 26 ottobre 2025\nvenerdì 16:00-19:00\, sabato e domenica 10:00-12:00 e 16:00-19:00\nInaugurazione domenica 21 settembre ore 17:30\nBrescia – Museo Martino Dolci\n8 novembre – 28 dicembre 2025\nDal mercoledì alla domenica 10:00-12:00 / 15:00-19:00
URL:https://sistemamuseale.cmvs.it/event/mostra-ottorino-garosio-1904-1980/
LOCATION:Museo Dolci – Cascina Aurora\, Via Raffaello 163/165\, Brescia\, BS\, Italy
CATEGORIES:Apertura Straordinaria,Mostra
ATTACH;FMTTYPE=image/jpeg:https://sistemamuseale.cmvs.it/wp-content/uploads/2025/08/garosio-brescia-fino-28-dicembre.jpg
ORGANIZER;CN="Comunit%C3%A0%20Montana%20di%20Valle%20Sabbia":MAILTO:info@cmvs.it
END:VEVENT
BEGIN:VEVENT
DTSTART;TZID=Europe/Rome:20250830T090000
DTEND;TZID=Europe/Rome:20250830T190000
DTSTAMP:20260421T061620
CREATED:20250825T113059Z
LAST-MODIFIED:20250825T113059Z
UID:3009-1756544400-1756580400@sistemamuseale.cmvs.it
SUMMARY:I silenziosi guardiani del Lago
DESCRIPTION:Evento da non perdere realizzato dalla collaborazione tra Rocca d’Anfo e Castello di San Giovanni di Bondone \nsabato 30 agosto dalle ore 9:00 alle 19:00\nRocca d’Anfo e Castello San Giovanni di Bondone \nLeggi nella locandina tutto il programma e iscriviti a questo link: https://www.ticketlandia.com/m/event/silenziosiguardiani-it
URL:https://sistemamuseale.cmvs.it/event/i-silenziosi-guardiani-del-lago/
LOCATION:Parco della Rocca D’Anfo\, SS 237 c/o Rocca d'Anfo\, Anfo\, 25080\, Italia
CATEGORIES:Apertura Straordinaria,Attività Ludica,Enogastronomia,Escursione,Visita Guidata
ATTACH;FMTTYPE=image/jpeg:https://sistemamuseale.cmvs.it/wp-content/uploads/2025/08/EXTRA-ROCCA-DA-INSERIRE.jpeg
ORGANIZER;CN="Comunit%C3%A0%20Montana%20di%20Valle%20Sabbia":MAILTO:info@cmvs.it
END:VEVENT
BEGIN:VEVENT
DTSTART;TZID=Europe/Rome:20250830T150000
DTEND;TZID=Europe/Rome:20250830T170000
DTSTAMP:20260421T061620
CREATED:20250730T072817Z
LAST-MODIFIED:20250827T143726Z
UID:2960-1756566000-1756573200@sistemamuseale.cmvs.it
SUMMARY:Museums & More in Valle Sabbia. Laboratorio "A tutta panna!"
DESCRIPTION:Un laboratorio affascinante che trasporta i bambini indietro nel tempo\, alla scoperta delle tradizioni rurali della Valle Sabbia. Presso la sede di Habitar in sta terra a Bagolino (via Lombardi)\, i piccoli partecipanti dai 5 anni (accompagnati dai genitori) potranno esplorare la raccolta etnografica\, ricca di strumenti e testimonianze della vita contadina di un tempo. \nIl momento clou dell’attività sarà la sperimentazione pratica della produzione del burro\, utilizzando tecniche tradizionali che permetteranno ai bambini di toccare con mano il lavoro dei loro antenati. Attraverso il gioco e l’esperienza diretta\, i giovani visitatori comprenderanno l’importanza dell’agricoltura e dell’allevamento nella cultura locale\, sviluppando al contempo manualità e consapevolezza delle tradizioni. \nEvento gratuito\, prenotazione obbligatoria a questo link: modulo aperto fino a 24h prima dell’evento o al raggiungimento del numero massimo di iscritti. \nPer informazioni whatsapp +39 3456192700 (lun-gio 9-16\, venerdì fino alle 12)
URL:https://sistemamuseale.cmvs.it/event/museums-more-in-valle-sabbia-laboratorio-a-tutta-panna/
LOCATION:Bagolino\, Via Parrocchia\, Bagolino\, 25070\, Italia
CATEGORIES:Apertura Straordinaria,Attività Ludica,Laboratori
ATTACH;FMTTYPE=image/png:https://sistemamuseale.cmvs.it/wp-content/uploads/2025/07/MM-Bagolino-A-tutta-panna-30-agosto.png
ORGANIZER;CN="Sistema%20Museale%20Valle%20Sabbia":MAILTO:sistemamuseale@cmvs.it
END:VEVENT
END:VCALENDAR