BEGIN:VCALENDAR
VERSION:2.0
PRODID:-//Sistema Museale - ECPv5.14.0.4//NONSGML v1.0//EN
CALSCALE:GREGORIAN
METHOD:PUBLISH
X-WR-CALNAME:Sistema Museale
X-ORIGINAL-URL:https://sistemamuseale.cmvs.it
X-WR-CALDESC:Events for Sistema Museale
REFRESH-INTERVAL;VALUE=DURATION:PT1H
X-Robots-Tag:noindex
X-PUBLISHED-TTL:PT1H
BEGIN:VTIMEZONE
TZID:Europe/Rome
BEGIN:DAYLIGHT
TZOFFSETFROM:+0100
TZOFFSETTO:+0200
TZNAME:CEST
DTSTART:20240331T010000
END:DAYLIGHT
BEGIN:STANDARD
TZOFFSETFROM:+0200
TZOFFSETTO:+0100
TZNAME:CET
DTSTART:20241027T010000
END:STANDARD
END:VTIMEZONE
BEGIN:VEVENT
DTSTART;TZID=Europe/Rome:20240508T203000
DTEND;TZID=Europe/Rome:20240508T223000
DTSTAMP:20260424T143739
CREATED:20240503T082132Z
LAST-MODIFIED:20240503T082132Z
UID:2189-1715200200-1715207400@sistemamuseale.cmvs.it
SUMMARY:Brescia adagio. Parole\, suoni e immagini
DESCRIPTION:Spettacolo tratto dal libro di Massimo Tedeschi “Brescia Adagio”\, edito da Enrico Damiano Editore. Ingresso libero e gratuito. \nTesti: Massimo Tedeschi.\nFoto: Marialuisa Stefanini\, Pier Scuri\, Massimo Tedeschi.\nNarratore: Daniele Squassina.\nChitarra: Alessandro Bono\, Romina Brentan.\nIdeazione: Maurizio Lovisetti. \n«Forse bisognerebbe cominciare dalla luce che c’è nell’aria: quella cristallina di certe mattine d’inverno\, che dalla balconata del Castello ti permette di vedere il profilo degli Appennini.\nO quella brumosa di certe sere d’autunno\, che porta con sé voglia di tepore e di abbracci.\nOppure dagli aromi: quello dolciastro dei viali di tigli in fiore\, quello delle cucine di mezzo mondo che aleggia nel Carmine\, quello – per alcuni afrodisiaco – della benzina delle auto storiche che una volta all’anno si danno appuntamento qui per la Mille Miglia.\nOppure dai monumenti e dal colore della pietra di cui sono fatti: la Loggia e il Duomo\, il Broletto e il Vantiniano\, i chiostri e le torri.\nLa città del tondino\, dal cipiglio burbero e dal cuore generoso\, è anche molte altre cose: città-caleidoscopio e città-enciclopedia\, città-laboratorio e città-confine\, capitale del terzo settore e\, insieme a Bergamo\, Capitale Italiana della Cultura 2023.\nBrescia\, insomma\, può essere “un luogo delizioso dove vivere”. E dunque incamminiamoci. Insieme. Adagio».
URL:https://sistemamuseale.cmvs.it/event/brescia-adagio-parole-suoni-e-immagini/
LOCATION:museo del ferro\, Via M. D'Azeglio\, 25076 Odolo BS\, Odolo\, Brescia\, 25076\, Italia
CATEGORIES:Incontro con l'autore,Musica
ATTACH;FMTTYPE=image/png:https://sistemamuseale.cmvs.it/wp-content/uploads/2024/05/Brescia-Adagio-Parole-ODOLO.png
END:VEVENT
BEGIN:VEVENT
DTSTART;TZID=Europe/Rome:20240509T203000
DTEND;TZID=Europe/Rome:20240509T223000
DTSTAMP:20260424T143739
CREATED:20240405T074601Z
LAST-MODIFIED:20240405T075748Z
UID:2093-1715286600-1715293800@sistemamuseale.cmvs.it
SUMMARY:Gli stampatori da Sabbio - Le storie tra i libri.
DESCRIPTION:In occasione della GIORNATA INTERNAZIONALE DEI MUSEI (18 maggio) un corso di formazione per curiosi ed appassionati:\nA TU PER TU CON IL LIBRO ANTICO\, UNA PAGINA ALLA VOLTA \nPresso il Museo Stampatori «da Sabbio»\nVia Parrocchiale\, 13 – Sabbio Chiese (BS) \nPrimo appuntamento:\nGLI STAMPATORI «DA SABBIO» – LE STORIE TRA I LIBRI\n9 maggio 2024\, ore 20:30\nEnnio Ferraglio\, Biblioteca Queriniana\, Brescia. Introduce Alfredo Bonomi\, storico \nIl corso è gratuito e aperto a tutti\nÈ consigliabile l’iscrizione al 3381495924 \nL’iniziativa è organizzata nell’ambito del Patto intercomunale per la lettura\, promosso dal Sistema Bibliotecario Brescia Est e dal Sistema Bibliotecario Nord Est Bresciano\, con il patrocinio di Comunità Montana di Valle Sabbia e del suo  Sistema Museale.
URL:https://sistemamuseale.cmvs.it/event/gli-stampatori-da-sabbio-le-storie-tra-i-libri/
LOCATION:Museo Stampatori “Da Sabbio”\, Via Parrocchiale\, 13\, Sabbio Chiese\, BS\, 25070\, Italia
CATEGORIES:Conferenza,Corso
ATTACH;FMTTYPE=image/jpeg:https://sistemamuseale.cmvs.it/wp-content/uploads/2024/04/corso-museo-stampatori-sabbio-maggio-2024.jpeg
END:VEVENT
BEGIN:VEVENT
DTSTART;TZID=Europe/Rome:20240514T203000
DTEND;TZID=Europe/Rome:20240514T223000
DTSTAMP:20260424T143739
CREATED:20240405T074927Z
LAST-MODIFIED:20240405T075923Z
UID:2099-1715718600-1715725800@sistemamuseale.cmvs.it
SUMMARY:Come è fatto un libro antico? Materiali e tecniche
DESCRIPTION:In occasione della GIORNATA INTERNAZIONALE DEI MUSEI (18 maggio) un corso di formazione per curiosi ed appassionati:\nA TU PER TU CON IL LIBRO ANTICO\, UNA PAGINA ALLA VOLTA \nSecondo appuntamento: \nCOME É FATTO UN LIBRO ANTICO? – MATERIALI E TECNICHE\n14 maggio 2024\, ore 20:30\nFlavio Richiedei\, Associazione Habitar in sta terra\, Bagolino \nIl corso è gratuito e aperto a tutti\nÈ consigliabile l’iscrizione \nL’iniziativa è organizzata nell’ambito del Patto intercomunale per la lettura\, promosso dal Sistema Bibliotecario Brescia Est e dal Sistema Bibliotecario Nord Est Bresciano\, con il patrocinio di Comunità Montana di Valle Sabbia e del suo Sistema Museale.
URL:https://sistemamuseale.cmvs.it/event/come-e-fatto-un-libro-antico-materiali-e-tecniche/
LOCATION:Museo Stampatori “Da Sabbio”\, Via Parrocchiale\, 13\, Sabbio Chiese\, BS\, 25070\, Italia
CATEGORIES:Conferenza,Corso
ATTACH;FMTTYPE=image/jpeg:https://sistemamuseale.cmvs.it/wp-content/uploads/2024/04/corso-museo-stampatori-sabbio-maggio-2024.jpeg
END:VEVENT
BEGIN:VEVENT
DTSTART;TZID=Europe/Rome:20240523T203000
DTEND;TZID=Europe/Rome:20240523T223000
DTSTAMP:20260424T143739
CREATED:20240405T075146Z
LAST-MODIFIED:20240405T075854Z
UID:2101-1716496200-1716503400@sistemamuseale.cmvs.it
SUMMARY:Pagine in controluce - la filigrana
DESCRIPTION:In occasione della GIORNATA INTERNAZIONALE DEI MUSEI (18 maggio) un corso di formazione per curiosi ed appassionati:\nA TU PER TU CON IL LIBRO ANTICO\, UNA PAGINA ALLA VOLTA \nTerzo appuntamento: \nPAGINE IN CONTROLUCE – LE FILIGRANE\n23 maggio 2024\, ore 20:30\nSilvia Merigo\, Museo della Carta – Valle delle Cartiere\, Toscolano Maderno \nIl corso è gratuito e aperto a tutti\nÈ consigliabile l’iscrizione \nL’iniziativa è organizzata nell’ambito del Patto intercomunale per la lettura\, promosso dal Sistema Bibliotecario Brescia Est e dal Sistema Bibliotecario Nord Est Bresciano\, con il patrocinio di Comunità Montana di Valle Sabbia e del suo Sistema Museale.
URL:https://sistemamuseale.cmvs.it/event/pagine-in-controluce-la-filigrana/
LOCATION:Museo Stampatori “Da Sabbio”\, Via Parrocchiale\, 13\, Sabbio Chiese\, BS\, 25070\, Italia
CATEGORIES:Conferenza,Corso
ATTACH;FMTTYPE=image/jpeg:https://sistemamuseale.cmvs.it/wp-content/uploads/2024/04/corso-museo-stampatori-sabbio-maggio-2024.jpeg
END:VEVENT
BEGIN:VEVENT
DTSTART;TZID=Europe/Rome:20240528T203000
DTEND;TZID=Europe/Rome:20240528T223000
DTSTAMP:20260424T143739
CREATED:20240405T075308Z
LAST-MODIFIED:20240405T075702Z
UID:2103-1716928200-1716935400@sistemamuseale.cmvs.it
SUMMARY:Dentro i libri\, tra le parole - riflessi di epoche lontane
DESCRIPTION:In occasione della GIORNATA INTERNAZIONALE DEI MUSEI (18 maggio) un corso di formazione per curiosi ed appassionati:\nA TU PER TU CON IL LIBRO ANTICO\, UNA PAGINA ALLA VOLTA \nQuarto appuntamento: \nDENTRO I LIBRI\, TRA LE PAROLE – RIFLESSI DI EPOCHE LONTANE \n28 maggio 2024\, ore 20:30\nOttavio Ghidini\, Università Cattolica del Sacro Cuore\, Brescia \nIl corso è gratuito e aperto a tutti\nÈ consigliabile l’iscrizione \nL’iniziativa è organizzata nell’ambito del Patto intercomunale per la lettura\, promosso dal Sistema Bibliotecario Brescia Est e dal Sistema Bibliotecario Nord Est Bresciano\, con il patrocinio di Comunità Montana di Valle Sabbia e del suo Sistema Museale.
URL:https://sistemamuseale.cmvs.it/event/dentro-i-libri-tra-le-parole-riflessi-di-epoche-lontane/
LOCATION:Museo Stampatori “Da Sabbio”\, Via Parrocchiale\, 13\, Sabbio Chiese\, BS\, 25070\, Italia
CATEGORIES:Conferenza,Corso
ATTACH;FMTTYPE=image/jpeg:https://sistemamuseale.cmvs.it/wp-content/uploads/2024/04/corso-museo-stampatori-sabbio-maggio-2024.jpeg
END:VEVENT
END:VCALENDAR