BEGIN:VCALENDAR
VERSION:2.0
PRODID:-//Sistema Museale - ECPv5.14.0.4//NONSGML v1.0//EN
CALSCALE:GREGORIAN
METHOD:PUBLISH
X-WR-CALNAME:Sistema Museale
X-ORIGINAL-URL:https://sistemamuseale.cmvs.it
X-WR-CALDESC:Events for Sistema Museale
REFRESH-INTERVAL;VALUE=DURATION:PT1H
X-Robots-Tag:noindex
X-PUBLISHED-TTL:PT1H
BEGIN:VTIMEZONE
TZID:Europe/Rome
BEGIN:DAYLIGHT
TZOFFSETFROM:+0100
TZOFFSETTO:+0200
TZNAME:CEST
DTSTART:20240331T010000
END:DAYLIGHT
BEGIN:STANDARD
TZOFFSETFROM:+0200
TZOFFSETTO:+0100
TZNAME:CET
DTSTART:20241027T010000
END:STANDARD
END:VTIMEZONE
BEGIN:VEVENT
DTSTART;TZID=Europe/Rome:20240604T203000
DTEND;TZID=Europe/Rome:20240604T223000
DTSTAMP:20260424T131739
CREATED:20240405T075453Z
LAST-MODIFIED:20240405T075531Z
UID:2105-1717533000-1717540200@sistemamuseale.cmvs.it
SUMMARY:Avere cura. Il restauro del libro antico
DESCRIPTION:In occasione della GIORNATA INTERNAZIONALE DEI MUSEI (18 maggio) un corso di formazione per curiosi ed appassionati:\nA TU PER TU CON IL LIBRO ANTICO\, UNA PAGINA ALLA VOLTA \nQuinto e ultimo appuntamento: \nAVERE CURA – IL RESTAURO DEL LIBRO ANTICO\n4 giugno 2024\, ore 20:30\nViviana Molinari\, Molinari Restauro\, Gavardo \nIl corso è gratuito e aperto a tutti\nÈ consigliabile l’iscrizione \nL’iniziativa è organizzata nell’ambito del Patto intercomunale per la lettura\, promosso dal Sistema Bibliotecario Brescia Est e dal Sistema Bibliotecario Nord Est Bresciano\, con il patrocinio di Comunità Montana di Valle Sabbia e del suo Sistema Museale.
URL:https://sistemamuseale.cmvs.it/event/2105/
LOCATION:Museo Stampatori “Da Sabbio”\, Via Parrocchiale\, 13\, Sabbio Chiese\, BS\, 25070\, Italia
CATEGORIES:Conferenza,Corso
ATTACH;FMTTYPE=image/jpeg:https://sistemamuseale.cmvs.it/wp-content/uploads/2024/04/corso-museo-stampatori-sabbio-maggio-2024.jpeg
END:VEVENT
BEGIN:VEVENT
DTSTART;TZID=Europe/Rome:20240615T203000
DTEND;TZID=Europe/Rome:20240615T223000
DTSTAMP:20260424T131739
CREATED:20240611T084925Z
LAST-MODIFIED:20240611T084925Z
UID:2228-1718483400-1718490600@sistemamuseale.cmvs.it
SUMMARY:Presentazione libro "Intrecci d'arte nella Pertica di Valle Sabbia"
DESCRIPTION:Sabato 15 giugno presso la Casa Torre di Ono Degno si terrà la presentazione del nuovo libro di Giuseppe Biati\, dal titolo Intrecci d’arte nella Pertica di Valle Sabbia. Alla scoperta dello splendore degli altari marmorei barocchi tra plurimi influssi\, religiose prescrizioni\, gusto del bello. \nAppuntamento alle ore 20.30\, ingresso libero.
URL:https://sistemamuseale.cmvs.it/event/presentazione-libro-intrecci-darte-nella-pertica-di-valle-sabbia/
LOCATION:Casa Torre Ono Degno\, Via Parrocchia\, 64\, Ono Degno\, BS\, 25078\, Italia
CATEGORIES:Incontro con l'autore
ATTACH;FMTTYPE=image/jpeg:https://sistemamuseale.cmvs.it/wp-content/uploads/2024/06/biati-pertica-15-giugno.jpg
END:VEVENT
END:VCALENDAR