BEGIN:VCALENDAR
VERSION:2.0
PRODID:-//Sistema Museale - ECPv5.14.0.4//NONSGML v1.0//EN
CALSCALE:GREGORIAN
METHOD:PUBLISH
X-WR-CALNAME:Sistema Museale
X-ORIGINAL-URL:https://sistemamuseale.cmvs.it
X-WR-CALDESC:Events for Sistema Museale
REFRESH-INTERVAL;VALUE=DURATION:PT1H
X-Robots-Tag:noindex
X-PUBLISHED-TTL:PT1H
BEGIN:VTIMEZONE
TZID:Europe/Rome
BEGIN:DAYLIGHT
TZOFFSETFROM:+0100
TZOFFSETTO:+0200
TZNAME:CEST
DTSTART:20250330T010000
END:DAYLIGHT
BEGIN:STANDARD
TZOFFSETFROM:+0200
TZOFFSETTO:+0100
TZNAME:CET
DTSTART:20251026T010000
END:STANDARD
BEGIN:DAYLIGHT
TZOFFSETFROM:+0100
TZOFFSETTO:+0200
TZNAME:CEST
DTSTART:20260329T010000
END:DAYLIGHT
BEGIN:STANDARD
TZOFFSETFROM:+0200
TZOFFSETTO:+0100
TZNAME:CET
DTSTART:20261025T010000
END:STANDARD
END:VTIMEZONE
BEGIN:VEVENT
DTSTART;TZID=Europe/Rome:20251119T203000
DTEND;TZID=Europe/Rome:20251119T213000
DTSTAMP:20260421T072632
CREATED:20251031T105128Z
LAST-MODIFIED:20251031T105128Z
UID:3102-1763584200-1763587800@sistemamuseale.cmvs.it
SUMMARY:Ciclo di conferenze autunnali al MAVS - Il Paleolitico medio in Cina e l’enigma dell’Uomo di Denisova
DESCRIPTION:Il MAVS propone quattro conferenze dedicate a archeologia e storia: \n\n5/11: L’Uomo di Neanderthal sul Monte Budellone\n19/11: Il Paleolitico medio in Cina e l’enigma dell’Uomo di Denisova\n3/12: Un viaggio nell’affascinante storia del colore blu\n17/12: Artigiani e carpentieri sull’acqua. Novità dagli scavi al Lucone\n\nGli incontri si terranno alle ore 20.30 nella sala conferenze del MAVS. Ingresso libero. Maggiori informazioni nella locandina allegata\nInfo: museoarcheologicogavardo.it – Tel. 0365.371474 – info@museoarcheologicogavardo.it
URL:https://sistemamuseale.cmvs.it/event/ciclo-di-conferenze-autunnali-al-mavs-il-paleolitico-medio-in-cina-e-lenigma-delluomo-di-denisova/
LOCATION:museo archeologico della valle sabbia\, Piazza S. Bernardino\, 5\, Gavardo\, BS\, 25085\, Italia
CATEGORIES:Conferenza,Corso
ATTACH;FMTTYPE=image/jpeg:https://sistemamuseale.cmvs.it/wp-content/uploads/2025/10/Conferenze-2025-MAVS.jpg
END:VEVENT
BEGIN:VEVENT
DTSTART;TZID=Europe/Rome:20251121T203000
DTEND;TZID=Europe/Rome:20251121T220000
DTSTAMP:20260421T072632
CREATED:20251103T081753Z
LAST-MODIFIED:20251105T102413Z
UID:3108-1763757000-1763762400@sistemamuseale.cmvs.it
SUMMARY:Nozza\, aprile 1945: la resa. Una conferenza per ricordare l’ultimo inverno di guerra
DESCRIPTION:Il Sistema Museale della Valle Sabbia\, la Comunità Montana di Valle Sabbia e il MuSa – Museo di Salò\, propongono una conferenza dedicata a uno degli episodi più significativi della storia locale: la resa avvenuta a Nozza tra il 27 e il 29 aprile 1945\, negli ultimi giorni della Seconda guerra mondiale. \nVenerdì 21 novembre 2025\, ore 20:30\nSala assemblee della Comunità Montana di Valle Sabbia\, via Gen. L. Reverberi\, 2 – Nozza di Vestone \nProgramma:\nSaluti istituzionali: Stefano Zane (Fondazione Opera Pia Carità Laicale e Istituto Lodroniano)\, Giovanmaria Flocchini (Comunità Montana di Valle Sabbia)\nIntroduzione: Alfredo Bonomi\nRelatore: Fabio Fontana \nLa conferenza offrirà spunti di riflessione sulla fine del conflitto e sul ruolo della Valle Sabbia in quei giorni cruciali\, attraverso documenti e testimonianze che raccontano la resa e il passaggio alla Liberazione. \nL’incontro è un evento collaterale della mostra “L’ultimo inverno. 1943-1945: dalla Resistenza alla Liberazione”\, ospitata al Museo di Salò: l’esposizione temporanea\, visitabile fino al 7 gennaio 2026\, ripercorre il difficile cammino verso la libertà\, tra sacrifici\, speranze e scelte coraggiose. \nIngresso libero\nPer informazioni: www.museodisalo.it – tel. 0365 20553 – info@museodisalo.it
URL:https://sistemamuseale.cmvs.it/event/nozza-aprile-1945-la-resa-una-conferenza-per-ricordare-lultimo-inverno-di-guerra/
LOCATION:Sala Assemblee Comunità Montana di Valle Sabbia\, Via Generale Reverberi 2\, Vestone\, BS\, 25078\, Italy
CATEGORIES:Conferenza
ATTACH;FMTTYPE=image/jpeg:https://sistemamuseale.cmvs.it/wp-content/uploads/2025/11/Inverno-loc-conferenza-musa-nozza-21-nov_page-0001.jpg
ORGANIZER;CN="Comunit%C3%A0%20Montana%20di%20Valle%20Sabbia":MAILTO:info@cmvs.it
END:VEVENT
BEGIN:VEVENT
DTSTART;TZID=Europe/Rome:20251203T203000
DTEND;TZID=Europe/Rome:20251203T213000
DTSTAMP:20260421T072632
CREATED:20251031T105303Z
LAST-MODIFIED:20251031T105303Z
UID:3104-1764793800-1764797400@sistemamuseale.cmvs.it
SUMMARY:Ciclo di conferenze autunnali al MAVS - Un viaggio nell’affascinante storia del colore blu
DESCRIPTION:Il MAVS propone quattro conferenze dedicate a archeologia e storia: \n\n5/11: L’Uomo di Neanderthal sul Monte Budellone\n19/11: Il Paleolitico medio in Cina e l’enigma dell’Uomo di Denisova\n3/12: Un viaggio nell’affascinante storia del colore blu\n17/12: Artigiani e carpentieri sull’acqua. Novità dagli scavi al Lucone\nGli incontri si terranno alle ore 20.30 nella sala conferenze del MAVS. Ingresso libero. Maggiori informazioni nella locandina allaegata\nInfo: museoarcheologicogavardo.it – Tel. 0365.371474 – info@museoarcheologicogavardo.it
URL:https://sistemamuseale.cmvs.it/event/ciclo-di-conferenze-autunnali-al-mavs-un-viaggio-nellaffascinante-storia-del-colore-blu/
LOCATION:museo archeologico della valle sabbia\, Piazza S. Bernardino\, 5\, Gavardo\, BS\, 25085\, Italia
CATEGORIES:Conferenza
ATTACH;FMTTYPE=image/jpeg:https://sistemamuseale.cmvs.it/wp-content/uploads/2025/10/Conferenze-2025-MAVS.jpg
END:VEVENT
BEGIN:VEVENT
DTSTART;TZID=Europe/Rome:20251217T203000
DTEND;TZID=Europe/Rome:20251217T213000
DTSTAMP:20260421T072632
CREATED:20251031T105444Z
LAST-MODIFIED:20251031T105444Z
UID:3106-1766003400-1766007000@sistemamuseale.cmvs.it
SUMMARY:Ciclo di conferenze autunnali al MAVS - Artigiani e carpentieri sull’acqua. Novità dagli scavi al Lucone
DESCRIPTION:Il MAVS propone quattro conferenze dedicate a archeologia e storia: \n\n5/11: L’Uomo di Neanderthal sul Monte Budellone\n19/11: Il Paleolitico medio in Cina e l’enigma dell’Uomo di Denisova\n3/12: Un viaggio nell’affascinante storia del colore blu\n17/12: Artigiani e carpentieri sull’acqua. Novità dagli scavi al Lucone\n\nGli incontri si terranno alle ore 20.30 nella sala conferenze del MAVS. Ingresso libero. Maggiori informazioni nella locandina allegata\nInfo: museoarcheologicogavardo.it – Tel. 0365371474 – info@museoarcheologicogavardo.it
URL:https://sistemamuseale.cmvs.it/event/ciclo-di-conferenze-autunnali-al-mavs-artigiani-e-carpentieri-sullacqua-novita-dagli-scavi-al-lucone/
LOCATION:museo archeologico della valle sabbia\, Piazza S. Bernardino\, 5\, Gavardo\, BS\, 25085\, Italia
CATEGORIES:Conferenza
ATTACH;FMTTYPE=image/jpeg:https://sistemamuseale.cmvs.it/wp-content/uploads/2025/10/Conferenze-2025-MAVS.jpg
END:VEVENT
BEGIN:VEVENT
DTSTART;TZID=Europe/Rome:20260213T180000
DTEND;TZID=Europe/Rome:20260213T190000
DTSTAMP:20260421T072632
CREATED:20260203T135432Z
LAST-MODIFIED:20260216T114153Z
UID:3153-1771005600-1771009200@sistemamuseale.cmvs.it
SUMMARY:Presentazione film d'animazione
DESCRIPTION:Restituzione del progetto Museums & More in Valle Sabbia. Risuona la Valle! con le classi degli istituti coinvolti e le loro famiglie.
URL:https://sistemamuseale.cmvs.it/event/presentazione-film-danimazione-risuona-la-valle/
LOCATION:Sala Assemblee Comunità Montana di Valle Sabbia\, Via Generale Reverberi 2\, Vestone\, BS\, 25078\, Italy
CATEGORIES:Conferenza,Spettacolo
ATTACH;FMTTYPE=image/png:https://sistemamuseale.cmvs.it/wp-content/uploads/2026/02/invito-13-febbraio-cmvs.png
ORGANIZER;CN="Sistema%20Museale%20Valle%20Sabbia":MAILTO:sistemamuseale@cmvs.it
END:VEVENT
BEGIN:VEVENT
DTSTART;TZID=Europe/Rome:20260321T170000
DTEND;TZID=Europe/Rome:20260321T190000
DTSTAMP:20260421T072632
CREATED:20260310T101116Z
LAST-MODIFIED:20260310T101136Z
UID:3190-1774112400-1774119600@sistemamuseale.cmvs.it
SUMMARY:Terre di confine della Riviera – Incontro con Fabio Bianchetti
DESCRIPTION:In occasione del seicentenario della Magnifica Patria (1426–2026)\, ASAR e Comune di Idro presentano un incontro dedicato alla storia e alle giurisdizioni del Lago d’Idro tra Venezia\, Lodroni e Brescia. \nSabato 21 marzo\, ore 17 presso la  Biblioteca Comunale di Idro \nPer appassionati di storia e territorio\nIngresso: libero fino a esaurimento posti
URL:https://sistemamuseale.cmvs.it/event/terre-di-confine-della-riviera-incontro-con-fabio-bianchetti/
LOCATION:Biblioteca di Idro
CATEGORIES:Incontro con l'autore
ATTACH;FMTTYPE=image/jpeg:https://sistemamuseale.cmvs.it/wp-content/uploads/2026/03/idro-musa-21-marzo.jpeg
END:VEVENT
BEGIN:VEVENT
DTSTART;TZID=Europe/Rome:20260424T170000
DTEND;TZID=Europe/Rome:20260424T190000
DTSTAMP:20260421T072632
CREATED:20260415T122501Z
LAST-MODIFIED:20260415T122501Z
UID:3218-1777050000-1777057200@sistemamuseale.cmvs.it
SUMMARY:Storie di Idro e del suo lago
DESCRIPTION:Presentazione della collana di volumi a cura degli autori. \n\nCastelli\, abitati e paesaggi produttivi – Gian Pietro Brogiolo\nCh’è ragion di quelli d’Idro. Contrabbandieri\, briganti e le molte liti per il pacifico possesso dell’Eridio (XV-XVIII sec.) – Fabio Bianchetti\n\nPresso sede Ivars S.p.A – Via Gargnà 23A\, Vestone \nA seguire aperitivo
URL:https://sistemamuseale.cmvs.it/event/storie-di-idro-e-del-suo-lago/
LOCATION:Ivars Vestone\, Via Gargnà 23A\, Vestone\, BS\, 25079\, Italy
CATEGORIES:Conferenza,Enogastronomia,Incontro con l'autore
ATTACH;FMTTYPE=image/png:https://sistemamuseale.cmvs.it/wp-content/uploads/2026/04/brogiolo-idro-24-aprile-1.png
ORGANIZER;CN="Comunit%C3%A0%20Montana%20di%20Valle%20Sabbia":MAILTO:info@cmvs.it
END:VEVENT
BEGIN:VEVENT
DTSTART;TZID=Europe/Rome:20260425T170000
DTEND;TZID=Europe/Rome:20260425T183000
DTSTAMP:20260421T072632
CREATED:20260403T071932Z
LAST-MODIFIED:20260403T071932Z
UID:3207-1777136400-1777141800@sistemamuseale.cmvs.it
SUMMARY:La Resistenza non ha frontiere
DESCRIPTION:Storie di Resistenza e Musica tra Italia e Sudamerica \nConcerto letterario ispirato a racconti di Angel Luis Galzerano\, Gilgamesh Edizioni \nSabato 25 aprile alle 17:00 al Museo della Resistenza e del folklore valsabbino di Pertica Bassa\, fraz. Forno d’Ono
URL:https://sistemamuseale.cmvs.it/event/la-resistenza-non-ha-frontiere/
LOCATION:Museo della Resistenza e del Folklore Valsabbino\, Via Roma 7\, Forno d'Ono\, 25078\, Italia
CATEGORIES:Incontro con l'autore,Musica
ATTACH;FMTTYPE=image/jpeg:https://sistemamuseale.cmvs.it/wp-content/uploads/2026/04/25-aprile-museo-resistenza.jpeg
END:VEVENT
BEGIN:VEVENT
DTSTART;TZID=Europe/Rome:20260505T173000
DTEND;TZID=Europe/Rome:20260505T193000
DTSTAMP:20260421T072632
CREATED:20260420T080305Z
LAST-MODIFIED:20260420T080330Z
UID:3230-1778002200-1778009400@sistemamuseale.cmvs.it
SUMMARY:Festival Giallo Garda – “Caccia ai tesori” Conferenza stampa
DESCRIPTION:Martedì 5 maggio 2026 alle ore 17.30\, presso la Comunità Montana di Valle Sabbia a Nozza di Vestone\, si terrà la conferenza stampa di presentazione dell’antologia Caccia ai tesori\, all’interno del Festival Giallo Garda. \nCon Laura Marsadri\, Aldo Dalla Vecchia e alcuni autori dei racconti. \nPer info e prenotazioni\, segreteria@festivalgiallogarda.it\nTel. 3201560066 \nL’incontro sarà un’occasione per scoprire itinerari narrativi insoliti e dialogare con chi ha dato voce alle storie che raccontano alcuni luoghi della Valle Sabbia. \nIngresso libero – evento gratuito\nA seguire aperitivo
URL:https://sistemamuseale.cmvs.it/event/festival-giallo-garda-caccia-ai-tesori-conferenza-stampa/
LOCATION:Sala Assemblee Comunità Montana di Valle Sabbia\, Via Generale Reverberi 2\, Vestone\, BS\, 25078\, Italy
CATEGORIES:Enogastronomia,Incontro con l'autore
ATTACH;FMTTYPE=image/jpeg:https://sistemamuseale.cmvs.it/wp-content/uploads/2026/04/FGG-tesori-VS-5-maggio.jpeg
ORGANIZER;CN="Comunit%C3%A0%20Montana%20di%20Valle%20Sabbia":MAILTO:info@cmvs.it
END:VEVENT
END:VCALENDAR