BEGIN:VCALENDAR
VERSION:2.0
PRODID:-//Sistema Museale - ECPv5.14.0.4//NONSGML v1.0//EN
CALSCALE:GREGORIAN
METHOD:PUBLISH
X-WR-CALNAME:Sistema Museale
X-ORIGINAL-URL:https://sistemamuseale.cmvs.it
X-WR-CALDESC:Events for Sistema Museale
REFRESH-INTERVAL;VALUE=DURATION:PT1H
X-Robots-Tag:noindex
X-PUBLISHED-TTL:PT1H
BEGIN:VTIMEZONE
TZID:Europe/Rome
BEGIN:DAYLIGHT
TZOFFSETFROM:+0100
TZOFFSETTO:+0200
TZNAME:CEST
DTSTART:20240331T010000
END:DAYLIGHT
BEGIN:STANDARD
TZOFFSETFROM:+0200
TZOFFSETTO:+0100
TZNAME:CET
DTSTART:20241027T010000
END:STANDARD
END:VTIMEZONE
BEGIN:VEVENT
DTSTART;TZID=Europe/Rome:20240919T203000
DTEND;TZID=Europe/Rome:20240919T220000
DTSTAMP:20260424T090332
CREATED:20240830T080146Z
LAST-MODIFIED:20240830T080146Z
UID:2512-1726777800-1726783200@sistemamuseale.cmvs.it
SUMMARY:Per segni e per scritture. Alfabeti attraverso i secoli
DESCRIPTION:In occasione della Giornata Mondiale dell’Alfabetizzazione varie iniziative presso il Museo degli Stampatori «da Sabbio» e il MAVS. \nConferenza\n«Delo excellente scrivere de diverse varie sorti de litere»\nGiovanni Antonio Tagliente per i tipi di Stefano Nicolini & c. Luca Rivali\, Università Cattolica del Sacro Cuore\nSabbio Chiese\, Museo Stampatori «da Sabbio»\, giovedì 19 settembre 2024\, ore 20.30 \nPer info e iscrizioni:\nMuseo Stampatori «da Sabbio» www.museostampatorisabbio.it | cell. 338 1495924 (WhatsApp)\nMAVS Gavardo museoarcheologicogavardo.it | tel. 0365 371474 (in orari di apertura)
URL:https://sistemamuseale.cmvs.it/event/per-segni-e-per-scritture-alfabeti-attraverso-i-secoli-2/
LOCATION:Museo Stampatori “Da Sabbio”\, Via Parrocchiale\, 13\, Sabbio Chiese\, BS\, 25070\, Italia
CATEGORIES:Apertura Straordinaria,Conferenza
ATTACH;FMTTYPE=image/jpeg:https://sistemamuseale.cmvs.it/wp-content/uploads/2024/08/Locandina_PerSegniePerScritture_page-0001.jpg
END:VEVENT
END:VCALENDAR