BEGIN:VCALENDAR
VERSION:2.0
PRODID:-//Sistema Museale - ECPv5.14.0.4//NONSGML v1.0//EN
CALSCALE:GREGORIAN
METHOD:PUBLISH
X-WR-CALNAME:Sistema Museale
X-ORIGINAL-URL:https://sistemamuseale.cmvs.it
X-WR-CALDESC:Events for Sistema Museale
REFRESH-INTERVAL;VALUE=DURATION:PT1H
X-Robots-Tag:noindex
X-PUBLISHED-TTL:PT1H
BEGIN:VTIMEZONE
TZID:Europe/Rome
BEGIN:DAYLIGHT
TZOFFSETFROM:+0100
TZOFFSETTO:+0200
TZNAME:CEST
DTSTART:20240331T010000
END:DAYLIGHT
BEGIN:STANDARD
TZOFFSETFROM:+0200
TZOFFSETTO:+0100
TZNAME:CET
DTSTART:20241027T010000
END:STANDARD
END:VTIMEZONE
BEGIN:VEVENT
DTSTART;TZID=Europe/Rome:20240528T203000
DTEND;TZID=Europe/Rome:20240528T223000
DTSTAMP:20260422T163424
CREATED:20240405T075308Z
LAST-MODIFIED:20240405T075702Z
UID:2103-1716928200-1716935400@sistemamuseale.cmvs.it
SUMMARY:Dentro i libri\, tra le parole - riflessi di epoche lontane
DESCRIPTION:In occasione della GIORNATA INTERNAZIONALE DEI MUSEI (18 maggio) un corso di formazione per curiosi ed appassionati:\nA TU PER TU CON IL LIBRO ANTICO\, UNA PAGINA ALLA VOLTA \nQuarto appuntamento: \nDENTRO I LIBRI\, TRA LE PAROLE – RIFLESSI DI EPOCHE LONTANE \n28 maggio 2024\, ore 20:30\nOttavio Ghidini\, Università Cattolica del Sacro Cuore\, Brescia \nIl corso è gratuito e aperto a tutti\nÈ consigliabile l’iscrizione \nL’iniziativa è organizzata nell’ambito del Patto intercomunale per la lettura\, promosso dal Sistema Bibliotecario Brescia Est e dal Sistema Bibliotecario Nord Est Bresciano\, con il patrocinio di Comunità Montana di Valle Sabbia e del suo Sistema Museale.
URL:https://sistemamuseale.cmvs.it/event/dentro-i-libri-tra-le-parole-riflessi-di-epoche-lontane/
LOCATION:Museo Stampatori “Da Sabbio”\, Via Parrocchiale\, 13\, Sabbio Chiese\, BS\, 25070\, Italia
CATEGORIES:Conferenza,Corso
ATTACH;FMTTYPE=image/jpeg:https://sistemamuseale.cmvs.it/wp-content/uploads/2024/04/corso-museo-stampatori-sabbio-maggio-2024.jpeg
END:VEVENT
END:VCALENDAR