BEGIN:VCALENDAR
VERSION:2.0
PRODID:-//Sistema Museale - ECPv5.14.0.4//NONSGML v1.0//EN
CALSCALE:GREGORIAN
METHOD:PUBLISH
X-WR-CALNAME:Sistema Museale
X-ORIGINAL-URL:https://sistemamuseale.cmvs.it
X-WR-CALDESC:Events for Sistema Museale
REFRESH-INTERVAL;VALUE=DURATION:PT1H
X-Robots-Tag:noindex
X-PUBLISHED-TTL:PT1H
BEGIN:VTIMEZONE
TZID:Europe/Rome
BEGIN:DAYLIGHT
TZOFFSETFROM:+0100
TZOFFSETTO:+0200
TZNAME:CEST
DTSTART:20240331T010000
END:DAYLIGHT
BEGIN:STANDARD
TZOFFSETFROM:+0200
TZOFFSETTO:+0100
TZNAME:CET
DTSTART:20241027T010000
END:STANDARD
END:VTIMEZONE
BEGIN:VEVENT
DTSTART;TZID=Europe/Rome:20241026T143000
DTEND;TZID=Europe/Rome:20241026T173000
DTSTAMP:20260422T020124
CREATED:20241016T125126Z
LAST-MODIFIED:20241016T131447Z
UID:2575-1729953000-1729963800@sistemamuseale.cmvs.it
SUMMARY:Museums & More in Valle Sabbia. Da Montesuello a Sant'Antonio
DESCRIPTION:Sabato 26 ottobre | ore 14:30 | Ossario di Montesuello\, Anfo\nDa Montesuello a Sant’Antonio\, escursione tra arte e storia\nAccompagnati dalle guide AIGAE Giovanni Freddi e Nadia Panelli \nVisita all’Ossario a cura di Matteo Ghedi\, trekking fino alla località Sant’Antonio e visita all’omonima chiesa a cura di Romeo Seccamani. \nAttività adatta a tutti – bambini accompagnati. Durata 3 ore circa \nAttrezzatura obbligatoria: scarpe da trekking o ginnastica\, borraccia e giaccavento\nAssicurazione medica inclusa \nPrenotazioni (solo whatsapp\, fino a 24 ore prima): Giovanni 3385072123 o Nadia 3283187042 \nPossibilità di degustazione (facoltativa) di prodotti tipici presso Locanda Sant’Antonio\, su prenotazione al costo di 7€ (pagamento in loco). \n  \nMuseums & More in Vallesabbia è una rassegna a cura del Sistema Museale della Valle Sabbia\, realizzata con il contributo di Regione Lombardia.
URL:https://sistemamuseale.cmvs.it/event/museums-more-in-valle-sabbia-da-montesuello-a-santantonio/
LOCATION:Ossario di Montesuello\, SP669\, 25070 Anfo BS
CATEGORIES:Apertura Straordinaria,Enogastronomia,Escursione,Visita Guidata
ATTACH;FMTTYPE=image/png:https://sistemamuseale.cmvs.it/wp-content/uploads/2024/10/MM-26-ottobre-santantonio.png
ORGANIZER;CN="Sistema%20Museale%20Valle%20Sabbia":MAILTO:sistemamuseale@cmvs.it
END:VEVENT
END:VCALENDAR