BEGIN:VCALENDAR
VERSION:2.0
PRODID:-//Sistema Museale - ECPv5.14.0.4//NONSGML v1.0//EN
CALSCALE:GREGORIAN
METHOD:PUBLISH
X-WR-CALNAME:Sistema Museale
X-ORIGINAL-URL:https://sistemamuseale.cmvs.it
X-WR-CALDESC:Events for Sistema Museale
REFRESH-INTERVAL;VALUE=DURATION:PT1H
X-Robots-Tag:noindex
X-PUBLISHED-TTL:PT1H
BEGIN:VTIMEZONE
TZID:Europe/Rome
BEGIN:DAYLIGHT
TZOFFSETFROM:+0100
TZOFFSETTO:+0200
TZNAME:CEST
DTSTART:20230326T010000
END:DAYLIGHT
BEGIN:STANDARD
TZOFFSETFROM:+0200
TZOFFSETTO:+0100
TZNAME:CET
DTSTART:20231029T010000
END:STANDARD
END:VTIMEZONE
BEGIN:VEVENT
DTSTART;TZID=Europe/Rome:20230804T183000
DTEND;TZID=Europe/Rome:20230804T193000
DTSTAMP:20260425T050620
CREATED:20230711T103138Z
LAST-MODIFIED:20230713T093317Z
UID:1567-1691173800-1691177400@sistemamuseale.cmvs.it
SUMMARY:Experience Valle Sabbia – Chiesa di San Rocco a Gavardo e Cena a km 0
DESCRIPTION:Appuntamento a venerdì 4 agosto alle 18:30 con una nuova Experience Valle Sabbia! \nVisita guidata gratuita alla Chiesa di San Rocco di Gavardo. Punto di ritrovo: piazzale antistante la chiesetta\, via Giovanni Quarena. \nPer informazioni e prenotazioni Cell. 375 6221121 \n  \nA seguire la cena finale a km 0\, nell’ambito del “Laboratorio gastronomico: pranzi e cene itineranti tra le valli Sabbia e Trompia ” in collaborazione con l’Ufficio Turismo. \nVi aspettiamo al Non Solo Bar\, viale Orsolina Avanzi\, 62 a Gavardo – cena in collaborazione con Coop. Co Ge S.S. \n35 euro a persona \nInfo: BAR CO.GE.S.S.SPORT – NON SOLO BAR\nTel. 348 6236742\ncoordinatoreservizi.b@coopcogess.org \nClicca qui per il programma completo della rassegna 2023.
URL:https://sistemamuseale.cmvs.it/event/experience-valle-sabbia-chiesa-di-san-rocco-a-gavardo-e-cena-a-km-0/
LOCATION:Gavardo
CATEGORIES:Apertura Straordinaria,Enogastronomia,Visita Guidata
ATTACH;FMTTYPE=application/pdf:https://sistemamuseale.cmvs.it/wp-content/uploads/2023/07/EXPERIENCE-GAVARDO-2.pdf
ORGANIZER;CN="Comunit%C3%A0%20Montana%20di%20Valle%20Sabbia":MAILTO:info@cmvs.it
END:VEVENT
END:VCALENDAR