BEGIN:VCALENDAR
VERSION:2.0
PRODID:-//Sistema Museale - ECPv5.14.0.4//NONSGML v1.0//EN
CALSCALE:GREGORIAN
METHOD:PUBLISH
X-WR-CALNAME:Sistema Museale
X-ORIGINAL-URL:https://sistemamuseale.cmvs.it
X-WR-CALDESC:Events for Sistema Museale
REFRESH-INTERVAL;VALUE=DURATION:PT1H
X-Robots-Tag:noindex
X-PUBLISHED-TTL:PT1H
BEGIN:VTIMEZONE
TZID:Europe/Rome
BEGIN:DAYLIGHT
TZOFFSETFROM:+0100
TZOFFSETTO:+0200
TZNAME:CEST
DTSTART:20230326T010000
END:DAYLIGHT
BEGIN:STANDARD
TZOFFSETFROM:+0200
TZOFFSETTO:+0100
TZNAME:CET
DTSTART:20231029T010000
END:STANDARD
END:VTIMEZONE
BEGIN:VEVENT
DTSTART;TZID=Europe/Rome:20231008T093000
DTEND;TZID=Europe/Rome:20231008T140000
DTSTAMP:20260425T015444
CREATED:20231004T131116Z
LAST-MODIFIED:20231004T131116Z
UID:1920-1696757400-1696773600@sistemamuseale.cmvs.it
SUMMARY:Escursioni in Valle Sabbia - Da Montesuello a Sant'Antonio: tra storia e arte
DESCRIPTION:Tornano le escursioni in Valle con Guide Ambientali Escursionistiche AIGAE. Secondo appuntamento domenica 8 Ottobre 2023 \n• ore 09\,30: ritrovo al parcheggio nei pressi dell’Ossario di Montesuello (Anfo) e visita all’Ossario a cura dell’Associazione Culturale Capitolium e Matteo Ghedi \n• breve trekking per raggiungere la Località Sant’Antonio. \n• Visita guidata alla Chiesa di Sant’Antonio (Anfo) a cura di Romeo Seccamani \n• degustazione di prodotti tipici \n• Ore 14(circa) termine dell’escursione \nLunghezza percorso: 5 km Attrezzatura obbligatoria: scarponi da trekking\, borraccia di acqua e giacca a vento \nCOSTO: EURO 10\,00 ADULTI – EURO 6\,00 (ETA’ 6-15 ANNI) \nEURO 5\,00 DEGUSTAZIONE \nPer informazioni: Giovanni Freddi 3385072123 – giovanni.freddi@trevalliviaggi.it
URL:https://sistemamuseale.cmvs.it/event/escursioni-in-valle-sabbia-da-montesuello-a-santantonio-tra-storia-e-arte/
CATEGORIES:Enogastronomia,Escursione,Visita Guidata
ATTACH;FMTTYPE=image/jpeg:https://sistemamuseale.cmvs.it/wp-content/uploads/2023/10/WhatsApp-Image-2023-10-02-at-18.05.58.jpeg
END:VEVENT
END:VCALENDAR