BEGIN:VCALENDAR
VERSION:2.0
PRODID:-//Sistema Museale - ECPv5.14.0.4//NONSGML v1.0//EN
CALSCALE:GREGORIAN
METHOD:PUBLISH
X-WR-CALNAME:Sistema Museale
X-ORIGINAL-URL:https://sistemamuseale.cmvs.it
X-WR-CALDESC:Events for Sistema Museale
REFRESH-INTERVAL;VALUE=DURATION:PT1H
X-Robots-Tag:noindex
X-PUBLISHED-TTL:PT1H
BEGIN:VTIMEZONE
TZID:Europe/Rome
BEGIN:DAYLIGHT
TZOFFSETFROM:+0100
TZOFFSETTO:+0200
TZNAME:CEST
DTSTART:20240331T010000
END:DAYLIGHT
BEGIN:STANDARD
TZOFFSETFROM:+0200
TZOFFSETTO:+0100
TZNAME:CET
DTSTART:20241027T010000
END:STANDARD
END:VTIMEZONE
BEGIN:VEVENT
DTSTART;TZID=Europe/Rome:20240204T140000
DTEND;TZID=Europe/Rome:20240204T180000
DTSTAMP:20260424T180611
CREATED:20240202T123125Z
LAST-MODIFIED:20240202T123125Z
UID:2047-1707055200-1707069600@sistemamuseale.cmvs.it
SUMMARY:Carnevale di Livemmo 2024
DESCRIPTION:Il Carnevale di Livemmo con le sue tipiche maschere: Vecia dal Val\, Omasi dal zerlo e Doppio \nDurante l’evento avverrà la rappresentazione di scene tipiche degli antichi mestieri della zona.\nVerranno poi esposti prodotti realizzati sul territorio.\n\nOre 14.00 Carnevale dei Bambini\nOre 14.30 sfilata delle maschere tipiche in piazza di Livemmo\n\nIn caso di maltempo\, la manifestazione sarà spostata a domenica 11 febbraio.\n\nPer tutti i dettagli consultare la locandina.
URL:https://sistemamuseale.cmvs.it/event/carnevale-di-livemmo-2024/
LOCATION:Livemmo\, Livemmo Bivio Avenone\, Pertica Alta\, 25070\, Italia
CATEGORIES:Enogastronomia,Manifestazione
ATTACH;FMTTYPE=image/jpeg:https://sistemamuseale.cmvs.it/wp-content/uploads/2024/02/Carnevale-2019_557-2-scaled.jpg
END:VEVENT
END:VCALENDAR