BEGIN:VCALENDAR
VERSION:2.0
PRODID:-//Sistema Museale - ECPv5.14.0.4//NONSGML v1.0//EN
CALSCALE:GREGORIAN
METHOD:PUBLISH
X-WR-CALNAME:Sistema Museale
X-ORIGINAL-URL:https://sistemamuseale.cmvs.it
X-WR-CALDESC:Events for Sistema Museale
REFRESH-INTERVAL;VALUE=DURATION:PT1H
X-Robots-Tag:noindex
X-PUBLISHED-TTL:PT1H
BEGIN:VTIMEZONE
TZID:Europe/Rome
BEGIN:DAYLIGHT
TZOFFSETFROM:+0100
TZOFFSETTO:+0200
TZNAME:CEST
DTSTART:20240331T010000
END:DAYLIGHT
BEGIN:STANDARD
TZOFFSETFROM:+0200
TZOFFSETTO:+0100
TZNAME:CET
DTSTART:20241027T010000
END:STANDARD
END:VTIMEZONE
BEGIN:VEVENT
DTSTART;TZID=Europe/Rome:20240822T150000
DTEND;TZID=Europe/Rome:20240822T170000
DTSTAMP:20260422T070150
CREATED:20240731T093234Z
LAST-MODIFIED:20240731T093234Z
UID:2448-1724338800-1724346000@sistemamuseale.cmvs.it
SUMMARY:Merenda contadina e laboratorio "A tutta panna!" per bambini
DESCRIPTION:MERENDA CONTADINA\, 22 AGOSTO – ORE 15.00\, SABBIO CHIESE MUSEO DELLA CIVILTA’ CONTADINA E DEI MESTIERI E. MORELLI \n\nRITROVO: presso il Museo\, piazza Rocca 11 \nVisita per famiglie con lettura alla sezione del museo dedicata alla vita domestica e laboratorio per bambini “a tutta panna!” \nA seguire merenda contadina a cura di Caseificio Sociale Valsabbino. Durata: 1\,5 ore circa
URL:https://sistemamuseale.cmvs.it/event/merenda-contadina-e-laboratorio-a-tutta-panna-per-bambini/
LOCATION:Museo della Civiltà contadina e degli antichi mestieri – Sabbio Chiese\, Piazza Rocca\, Sabbio Chiese\, BS\, 25070\, Italia
CATEGORIES:Attività Ludica,Enogastronomia,Visita Guidata
ATTACH;FMTTYPE=image/png:https://sistemamuseale.cmvs.it/wp-content/uploads/2024/07/sabbio-22-agosto-locandina.png
ORGANIZER;CN="Sistema%20Museale%20Valle%20Sabbia":MAILTO:sistemamuseale@cmvs.it
END:VEVENT
END:VCALENDAR