BEGIN:VCALENDAR
VERSION:2.0
PRODID:-//Sistema Museale - ECPv5.14.0.4//NONSGML v1.0//EN
CALSCALE:GREGORIAN
METHOD:PUBLISH
X-WR-CALNAME:Sistema Museale
X-ORIGINAL-URL:https://sistemamuseale.cmvs.it
X-WR-CALDESC:Events for Sistema Museale
REFRESH-INTERVAL;VALUE=DURATION:PT1H
X-Robots-Tag:noindex
X-PUBLISHED-TTL:PT1H
BEGIN:VTIMEZONE
TZID:Europe/Rome
BEGIN:DAYLIGHT
TZOFFSETFROM:+0100
TZOFFSETTO:+0200
TZNAME:CEST
DTSTART:20240331T010000
END:DAYLIGHT
BEGIN:STANDARD
TZOFFSETFROM:+0200
TZOFFSETTO:+0100
TZNAME:CET
DTSTART:20241027T010000
END:STANDARD
END:VTIMEZONE
BEGIN:VEVENT
DTSTART;TZID=Europe/Rome:20240829T184500
DTEND;TZID=Europe/Rome:20240829T200000
DTSTAMP:20260422T052016
CREATED:20240820T121606Z
LAST-MODIFIED:20240820T121606Z
UID:2481-1724957100-1724961600@sistemamuseale.cmvs.it
SUMMARY:AperiMuseo
DESCRIPTION:Apertura straordinaria con aperitivo serale al Museo Stampatori “da Sabbio”. \nIn mostra volumi e antichi strumenti per la stampa. Appuntamento giovedì 29 agosto dalle 18:45.
URL:https://sistemamuseale.cmvs.it/event/aperimuseo/
LOCATION:Museo Stampatori “Da Sabbio”\, Via Parrocchiale\, 13\, Sabbio Chiese\, BS\, 25070\, Italia
CATEGORIES:Apertura Straordinaria,Enogastronomia
ATTACH;FMTTYPE=image/jpeg:https://sistemamuseale.cmvs.it/wp-content/uploads/2024/08/sabbio-aperimuseo-29-agosto-.jpeg
END:VEVENT
END:VCALENDAR