BEGIN:VCALENDAR
VERSION:2.0
PRODID:-//Sistema Museale - ECPv5.14.0.4//NONSGML v1.0//EN
CALSCALE:GREGORIAN
METHOD:PUBLISH
X-WR-CALNAME:Sistema Museale
X-ORIGINAL-URL:https://sistemamuseale.cmvs.it
X-WR-CALDESC:Events for Sistema Museale
REFRESH-INTERVAL;VALUE=DURATION:PT1H
X-Robots-Tag:noindex
X-PUBLISHED-TTL:PT1H
BEGIN:VTIMEZONE
TZID:Europe/Rome
BEGIN:DAYLIGHT
TZOFFSETFROM:+0100
TZOFFSETTO:+0200
TZNAME:CEST
DTSTART:20250330T010000
END:DAYLIGHT
BEGIN:STANDARD
TZOFFSETFROM:+0200
TZOFFSETTO:+0100
TZNAME:CET
DTSTART:20251026T010000
END:STANDARD
END:VTIMEZONE
BEGIN:VEVENT
DTSTART;TZID=Europe/Rome:20250615T100000
DTEND;TZID=Europe/Rome:20250615T123000
DTSTAMP:20260421T092528
CREATED:20250606T074913Z
LAST-MODIFIED:20250606T074913Z
UID:2870-1749981600-1749990600@sistemamuseale.cmvs.it
SUMMARY:Museums & More in Valle Sabbia. Passeggiata tra prati e boschi del Monte Stino
DESCRIPTION:Tutti i dettagli nella locandina\nLuogo di ritrovo: Monte Stino\, Capovalle\na cura del Museo dei Reperti Bellici di Capovalle\, info e prenotazioni: 3383057189
URL:https://sistemamuseale.cmvs.it/event/museums-more-in-valle-sabbia-passeggiata-tra-prati-e-boschi-del-monte-stino/
LOCATION:Museo dei reperti bellici – Capovalle\, Via XXIV Maggio\, 9\, Capovalle\, BS\, 25070\, Italia
CATEGORIES:Escursione,Visita Guidata
ATTACH;FMTTYPE=image/jpeg:https://sistemamuseale.cmvs.it/wp-content/uploads/2025/06/angelo-OK-scaled.jpg
ORGANIZER;CN="Sistema%20Museale%20Valle%20Sabbia":MAILTO:sistemamuseale@cmvs.it
END:VEVENT
BEGIN:VEVENT
DTSTART;TZID=Europe/Rome:20250615T100000
DTEND;TZID=Europe/Rome:20250615T130000
DTSTAMP:20260421T092528
CREATED:20250416T092643Z
LAST-MODIFIED:20250416T092643Z
UID:2755-1749981600-1749992400@sistemamuseale.cmvs.it
SUMMARY:Archeotrekking al Lucone
DESCRIPTION:Visita guidata storico naturalistica al sito archeologico del Lucone di Polpenazze.
URL:https://sistemamuseale.cmvs.it/event/archeotrekking-al-lucone-2/
LOCATION:Area archeologica del Lucone di Polpenazze\, Via lago Lucone\, Polpenazze del Garda\, 25080\, Italia
CATEGORIES:Escursione,Visita Guidata
ATTACH;FMTTYPE=image/png:https://sistemamuseale.cmvs.it/wp-content/uploads/2025/04/ESTATE-AL-MAVS-2025-002.png
END:VEVENT
BEGIN:VEVENT
DTSTART;TZID=Europe/Rome:20250622T100000
DTEND;TZID=Europe/Rome:20250622T153000
DTSTAMP:20260421T092528
CREATED:20250606T072822Z
LAST-MODIFIED:20250606T072822Z
UID:2854-1750586400-1750606200@sistemamuseale.cmvs.it
SUMMARY:Museums & More in Valle Sabbia. Passeggiate culturali tra storia e paesaggio
DESCRIPTION:Passeggiate culturali tra storia e paesaggio: trincee\, appostamenti militari e scorci lacustri\nDiverse date: tutti i dettagli nella locandina\nLuogo di ritrovo: Monte Stino\, Capovalle\na cura del Museo dei Reperti Bellici di Capovalle\, info e prenotazioni: 3383057189
URL:https://sistemamuseale.cmvs.it/event/museums-more-in-valle-sabbia-passeggiate-culturali-tra-storia-e-paesaggio/
LOCATION:Museo dei reperti bellici – Capovalle\, Via XXIV Maggio\, 9\, Capovalle\, BS\, 25070\, Italia
CATEGORIES:Escursione,Visita Guidata
ATTACH;FMTTYPE=image/jpeg:https://sistemamuseale.cmvs.it/wp-content/uploads/2025/06/matteo-OK-scaled.jpg
ORGANIZER;CN="Sistema%20Museale%20Valle%20Sabbia":MAILTO:sistemamuseale@cmvs.it
END:VEVENT
END:VCALENDAR