BEGIN:VCALENDAR
VERSION:2.0
PRODID:-//Sistema Museale - ECPv5.14.0.4//NONSGML v1.0//EN
CALSCALE:GREGORIAN
METHOD:PUBLISH
X-WR-CALNAME:Sistema Museale
X-ORIGINAL-URL:https://sistemamuseale.cmvs.it
X-WR-CALDESC:Events for Sistema Museale
REFRESH-INTERVAL;VALUE=DURATION:PT1H
X-Robots-Tag:noindex
X-PUBLISHED-TTL:PT1H
BEGIN:VTIMEZONE
TZID:Europe/Rome
BEGIN:DAYLIGHT
TZOFFSETFROM:+0100
TZOFFSETTO:+0200
TZNAME:CEST
DTSTART:20250330T010000
END:DAYLIGHT
BEGIN:STANDARD
TZOFFSETFROM:+0200
TZOFFSETTO:+0100
TZNAME:CET
DTSTART:20251026T010000
END:STANDARD
BEGIN:DAYLIGHT
TZOFFSETFROM:+0100
TZOFFSETTO:+0200
TZNAME:CEST
DTSTART:20260329T010000
END:DAYLIGHT
BEGIN:STANDARD
TZOFFSETFROM:+0200
TZOFFSETTO:+0100
TZNAME:CET
DTSTART:20261025T010000
END:STANDARD
END:VTIMEZONE
BEGIN:VEVENT
DTSTART;TZID=Europe/Rome:20250821T093000
DTEND;TZID=Europe/Rome:20250821T113000
DTSTAMP:20260421T135500
CREATED:20250730T074348Z
LAST-MODIFIED:20250811T081903Z
UID:2967-1755768600-1755775800@sistemamuseale.cmvs.it
SUMMARY:Museums & More in Valle Sabbia - A spasso per la Rocca d'Anfo!
DESCRIPTION:Un’avventura storica dedicata alle famiglie alla scoperta della maestosa Rocca d’Anfo e della sua affascinante sezione veneta: giovedì 7 o 21 agosto dalle 9:30. \nL’attività\, pensata per bambini dai 5 anni accompagnati dai genitori\, unisce storia e divertimento attraverso una visita guidata alle fortificazioni veneziane\ne un coinvolgente laboratorio dedicato all’equipaggiamento del soldato. \nIl percorso prevede una passeggiata di 2 km con circa 200 gradini in salita\, offrendo panorami mozzafiato sul lago d’Idro.\nI partecipanti\, accompagnati da guida AIGAE\, potranno immergersi nella vita militare del passato\, scoprendo armi\, uniformi e strategie difensive utilizzate dai soldati veneziani. \nUn’esperienza educativa e stimolante che trasforma la storia in un’avventura da vivere insieme\, combinando apprendimento e divertimento\nin uno dei siti fortificati più suggestivi della Valle Sabbia. \nEvento gratuito\, prenotazione obbligatoria a questo link: modulo aperto fino a 24h prima dell’evento o al raggiungimento del numero massimo di iscritti. \nPer informazioni whatsapp +39 3456192700 (lun-gio 9-16\, venerdì fino alle 12)
URL:https://sistemamuseale.cmvs.it/event/museums-more-in-valle-sabbia-a-spasso-per-la-rocca-danfo-2/
LOCATION:Parco della Rocca D’Anfo\, SS 237 c/o Rocca d'Anfo\, Anfo\, 25080\, Italia
CATEGORIES:Attività Ludica,Escursione,Laboratori,Visita Guidata
ATTACH;FMTTYPE=image/png:https://sistemamuseale.cmvs.it/wp-content/uploads/2025/07/MM-Rocca-dAnfo-7-21-agosto-locandina.png
ORGANIZER;CN="Sistema%20Museale%20Valle%20Sabbia":MAILTO:sistemamuseale@cmvs.it
END:VEVENT
BEGIN:VEVENT
DTSTART;TZID=Europe/Rome:20250823T093000
DTEND;TZID=Europe/Rome:20250824T173000
DTSTAMP:20260421T135500
CREATED:20250818T094935Z
LAST-MODIFIED:20250818T094956Z
UID:2995-1755941400-1756056600@sistemamuseale.cmvs.it
SUMMARY:Rievocazione Garibaldina "Gli Eroi di Montesuello" 1866
DESCRIPTION:Informazioni e programma nella locandina allegata.
URL:https://sistemamuseale.cmvs.it/event/rievocazione-gli-eroi-di-montesuello/
LOCATION:Ponte Caffaro\, Ponte Caffaro\, 25072\, Italia
CATEGORIES:Apertura Straordinaria,Conferenza,Escursione,Spettacolo
ATTACH;FMTTYPE=image/jpeg:https://sistemamuseale.cmvs.it/wp-content/uploads/2025/08/WhatsApp-Image-2025-08-15-at-06.44.20.jpeg
END:VEVENT
BEGIN:VEVENT
DTSTART;TZID=Europe/Rome:20250823T150000
DTEND;TZID=Europe/Rome:20250823T180000
DTSTAMP:20260421T135500
CREATED:20250730T073426Z
LAST-MODIFIED:20250730T073426Z
UID:2963-1755961200-1755972000@sistemamuseale.cmvs.it
SUMMARY:Museums & More in Valle Sabbia. Laboratorio bambini + escursione a Pertica Bassa
DESCRIPTION:Un pomeriggio speciale dedicato a tutta la famiglia per scoprire la storia della Resistenza attraverso due percorsi differenziati ma complementari. \nL’evento\, della durata di 3 ore\, si svolge in contemporanea presso il Museo della Resistenza e del Folklore Valsabbino di Forno d’Ono. \nI bambini dai 7 anni potranno partecipare alla visita guidata del museo seguita dal laboratorio interattivo “A tu per tu con i giovani partigiani della Resistenza”\, concludendo con una merenda condivisa. \nParallelamente\, gli adulti saranno impegnati in un trekking guidato lungo il suggestivo Sentiero della Resistenza\, percorrendo 5 km con 200 mt di dislivello\, per poi esplorare il caratteristico borgo di Spessio e la chiesa di San Bartolomeo di Avenone. \nEvento gratuito\, prenotazione obbligatoria a questo link: modulo aperto fino a 24h prima dell’evento o al raggiungimento del numero massimo di iscritti. Assicurazione medica per i partecipanti regolarmente iscritti\, a carico degli organizzatori. Per informazioni whatsapp +39 3456192700 (lun-gio 9-16\, venerdì fino alle 12)
URL:https://sistemamuseale.cmvs.it/event/museums-more-in-valle-sabbia-laboratorio-bambini-escursione-a-pertica-bassa/
LOCATION:Museo della Resistenza e del Folklore Valsabbino\, Via Roma 7\, Forno d'Ono\, 25078\, Italia
CATEGORIES:Escursione,Laboratori,Visita Guidata
ATTACH;FMTTYPE=image/png:https://sistemamuseale.cmvs.it/wp-content/uploads/2025/07/MM-Pertica-Bassa-23-agosto.png
ORGANIZER;CN="Sistema%20Museale%20Valle%20Sabbia":MAILTO:sistemamuseale@cmvs.it
END:VEVENT
BEGIN:VEVENT
DTSTART;TZID=Europe/Rome:20250824T103000
DTEND;TZID=Europe/Rome:20250824T123000
DTSTAMP:20260421T135500
CREATED:20250606T074509Z
LAST-MODIFIED:20250606T074509Z
UID:2868-1756031400-1756038600@sistemamuseale.cmvs.it
SUMMARY:Museums & More in Valle Sabbia. Passeggiate culturali tra storia e paesaggio
DESCRIPTION:Passeggiate culturali tra storia e paesaggio: trincee\, appostamenti militari e scorci lacustri\nDiverse date: tutti i dettagli nella locandina\nLuogo di ritrovo: Monte Stino\, Capovalle\na cura del Museo dei Reperti Bellici di Capovalle\, info e prenotazioni: 3383057189
URL:https://sistemamuseale.cmvs.it/event/museums-more-in-valle-sabbia-passeggiate-culturali-tra-storia-e-paesaggio-6/
LOCATION:Museo dei reperti bellici – Capovalle\, Via XXIV Maggio\, 9\, Capovalle\, BS\, 25070\, Italia
CATEGORIES:Escursione,Visita Guidata
ATTACH;FMTTYPE=image/jpeg:https://sistemamuseale.cmvs.it/wp-content/uploads/2025/06/michelangelo-OK-scaled.jpg
ORGANIZER;CN="Sistema%20Museale%20Valle%20Sabbia":MAILTO:sistemamuseale@cmvs.it
END:VEVENT
BEGIN:VEVENT
DTSTART;TZID=Europe/Rome:20250830T090000
DTEND;TZID=Europe/Rome:20250830T190000
DTSTAMP:20260421T135500
CREATED:20250825T113059Z
LAST-MODIFIED:20250825T113059Z
UID:3009-1756544400-1756580400@sistemamuseale.cmvs.it
SUMMARY:I silenziosi guardiani del Lago
DESCRIPTION:Evento da non perdere realizzato dalla collaborazione tra Rocca d’Anfo e Castello di San Giovanni di Bondone \nsabato 30 agosto dalle ore 9:00 alle 19:00\nRocca d’Anfo e Castello San Giovanni di Bondone \nLeggi nella locandina tutto il programma e iscriviti a questo link: https://www.ticketlandia.com/m/event/silenziosiguardiani-it
URL:https://sistemamuseale.cmvs.it/event/i-silenziosi-guardiani-del-lago/
LOCATION:Parco della Rocca D’Anfo\, SS 237 c/o Rocca d'Anfo\, Anfo\, 25080\, Italia
CATEGORIES:Apertura Straordinaria,Attività Ludica,Enogastronomia,Escursione,Visita Guidata
ATTACH;FMTTYPE=image/jpeg:https://sistemamuseale.cmvs.it/wp-content/uploads/2025/08/EXTRA-ROCCA-DA-INSERIRE.jpeg
ORGANIZER;CN="Comunit%C3%A0%20Montana%20di%20Valle%20Sabbia":MAILTO:info@cmvs.it
END:VEVENT
BEGIN:VEVENT
DTSTART;TZID=Europe/Rome:20250905T170000
DTEND;TZID=Europe/Rome:20250905T190000
DTSTAMP:20260421T135500
CREATED:20250701T122215Z
LAST-MODIFIED:20250829T090206Z
UID:2875-1757091600-1757098800@sistemamuseale.cmvs.it
SUMMARY:Museums & More in Valle Sabbia. Tracce d'arte e memoria
DESCRIPTION:NUOVA DATA: 5 settembre ore 17:00 – rinvio per maltempo\nTracce d’arte e memoria: passeggiata tra i luoghi simbolo di Idro\nUna breve passeggiata ci condurrà alle antiche Fornaci\, per concludersi alla chiesetta di San Sebastiano a Lemprato. Ricordarsi scarpe comode. \nPasseggiata culturale gratuita con storica dell’arte e guida AIGAE\, ritrovo presso Pieve di Maria ad Undas Idro\, due date: 11 luglio oppure 29 agosto\, ore 17:00.\nPrenotazione compilando questo modulo.\nDurata: 2 ore circa. Assicurazione medica inclusa\, a carico degli organizzatori. \nENGLISH FREE GUIDED TOUR of Idro’s landmarks UPON REQUEST – medical insurance included.\nBookings on this website\, open up to 24 hrs before the event.\nMeeting point: Pieve Santa Maria ad Undas\, Idro\nDon’t forget to wear comfortable walking shoes\, the tour will lasts app. 2 hours
URL:https://sistemamuseale.cmvs.it/event/museums-more-in-valle-sabbia-tracce-darte-e-memoria-2/
LOCATION:Idro – Pieve di Santa Maria ad Undas\, Via Trento 68\, Idro\, 25074\, Italia
CATEGORIES:Apertura Straordinaria,Escursione,Visita Guidata
ATTACH;FMTTYPE=image/png:https://sistemamuseale.cmvs.it/wp-content/uploads/2025/07/MM-idro-agosto.png
ORGANIZER;CN="Sistema%20Museale%20Valle%20Sabbia":MAILTO:sistemamuseale@cmvs.it
END:VEVENT
BEGIN:VEVENT
DTSTART;TZID=Europe/Rome:20250906T190000
DTEND;TZID=Europe/Rome:20250906T210000
DTSTAMP:20260421T135500
CREATED:20250825T112702Z
LAST-MODIFIED:20250825T112702Z
UID:3006-1757185200-1757192400@sistemamuseale.cmvs.it
SUMMARY:Apebox in Rocca d'Anfo
DESCRIPTION:NUOVO APPUNTAMENTO CON “ROCCA AL CHIARO DI LUNA”\nvisita in notturna alla Rocca d’Anfo con ApeBox\nSabato 6 settembre ore 19:00 in Rocca d’Anfo \nPrenotazione obbligatoria entro il giorno precedente\, tutti i dettagli nella locandina allegata oppure contattando il 3756221121
URL:https://sistemamuseale.cmvs.it/event/apebox-in-rocca-danfo/
LOCATION:Parco della Rocca D’Anfo\, SS 237 c/o Rocca d'Anfo\, Anfo\, 25080\, Italia
CATEGORIES:Apertura Straordinaria,Enogastronomia,Escursione
ATTACH;FMTTYPE=image/jpeg:https://sistemamuseale.cmvs.it/wp-content/uploads/2025/08/rocca-night-6-settembre.jpg
ORGANIZER;CN="Comunit%C3%A0%20Montana%20di%20Valle%20Sabbia":MAILTO:info@cmvs.it
END:VEVENT
BEGIN:VEVENT
DTSTART;TZID=Europe/Rome:20250907T103000
DTEND;TZID=Europe/Rome:20250907T133000
DTSTAMP:20260421T135500
CREATED:20250825T122102Z
LAST-MODIFIED:20250825T122102Z
UID:3012-1757241000-1757251800@sistemamuseale.cmvs.it
SUMMARY:Passeggiata storica alla Rocca d'Anfo
DESCRIPTION:Una visita guidata dedicata ad appassionati di storia di ogni età\nDomenica 7 settembre ore 10:30 presso la Rocca d’Anfo \nNon dimenticare: scarpe da trekking\, acqua\, torcia e pranzo al sacco\nInfo & prenotazioni contattando 📞 375 622 1121 | www.roccadanfo.eu
URL:https://sistemamuseale.cmvs.it/event/passeggiata-storica-alla-rocca-danfo-4/
LOCATION:Parco della Rocca D’Anfo\, SS 237 c/o Rocca d'Anfo\, Anfo\, 25080\, Italia
CATEGORIES:Escursione
ATTACH;FMTTYPE=image/jpeg:https://sistemamuseale.cmvs.it/wp-content/uploads/2025/08/passeggiata-storica-rocca-danfo-7-settembre.jpg
ORGANIZER;CN="Comunit%C3%A0%20Montana%20di%20Valle%20Sabbia":MAILTO:info@cmvs.it
END:VEVENT
BEGIN:VEVENT
DTSTART;TZID=Europe/Rome:20250914T100000
DTEND;TZID=Europe/Rome:20250914T173000
DTSTAMP:20260421T135500
CREATED:20250908T092859Z
LAST-MODIFIED:20250908T092859Z
UID:3035-1757844000-1757871000@sistemamuseale.cmvs.it
SUMMARY:La macchina del tempo\, una preistoria da vivere - VI edizione
DESCRIPTION:Ritorna come ogni anno al termine delle indagini archeologiche presso il sito palafitticolo del Lucone di Polpenazze\, lo speciale appuntamento per piccoli e grandi curiosi ed appassionati del passato. \nDomenica 14 settembre durante l’iniziativa “La macchina del tempo: una Preistoria da vivere” sarà possibile conoscere ed osservare da vicino le tecnologie utilizzate nell’antichità\, attraverso dimostrazioni di archeologia sperimentale come la scheggiatura della selce o la fusione dei metalli\, oltre all’esperienza del tiro con l’arco e la consueta visita agli scavi.\nLe attività\, in programma dalle ore 10.00 alle 12.00 e dalle 14.00 alle 17.30 si svolgeranno direttamente presso il sito archeologico del Lucone. \nL’evento\, gratuito e senza necessità di iscrizione\, è curato dal Museo Archeologico della Valle Sabbia con il supporto delle educatrici museali della cooperativa La Melagrana\, e con il sostegno delle associazioni Gruppo Grotte Gavardo\, Appassionati della selce\, Gli Amici del Maglio di Ome e la Compagnia Arcieri del Castello di Breno.\nLe attività educative sono finanziate da Regione Lombardia.\nSi ricorda infine che il MAVS sarà regolarmente aperto secondo i consueti orari domenicali (14.30-18.30).
URL:https://sistemamuseale.cmvs.it/event/la-macchina-del-tempo-una-preistoria-da-vivere-vi-edizione/
LOCATION:Area archeologica del Lucone di Polpenazze\, Via lago Lucone\, Polpenazze del Garda\, 25080\, Italia
CATEGORIES:Apertura Straordinaria,Escursione,Laboratori,Visita Guidata
ATTACH;FMTTYPE=image/png:https://sistemamuseale.cmvs.it/wp-content/uploads/2025/09/archeo-sperimentale-14-settembre.png
END:VEVENT
BEGIN:VEVENT
DTSTART;TZID=Europe/Rome:20250914T143000
DTEND;TZID=Europe/Rome:20250914T170000
DTSTAMP:20260421T135500
CREATED:20250825T122618Z
LAST-MODIFIED:20250825T122618Z
UID:3015-1757860200-1757869200@sistemamuseale.cmvs.it
SUMMARY:Concerto itinerante in Rocca d'Anfo
DESCRIPTION:Prosegue la rassegna di eventi “Di Forte in Forte” realizzata grazie al contributo di Provincia di Brescia 😍\nProssimo evento domenica 14 settembre ore 14:30 \nTutti i dettagli nella locandina allegata. Per informazioni e prenotazioni contattare il numero 3756221121
URL:https://sistemamuseale.cmvs.it/event/concerto-itinerante-in-rocca-danfo/
LOCATION:Parco della Rocca D’Anfo\, SS 237 c/o Rocca d'Anfo\, Anfo\, 25080\, Italia
CATEGORIES:Escursione,Musica
ATTACH;FMTTYPE=image/jpeg:https://sistemamuseale.cmvs.it/wp-content/uploads/2025/08/rocca-14-settembre.jpeg
ORGANIZER;CN="Comunit%C3%A0%20Montana%20di%20Valle%20Sabbia":MAILTO:info@cmvs.it
END:VEVENT
BEGIN:VEVENT
DTSTART;TZID=Europe/Rome:20250920T150000
DTEND;TZID=Europe/Rome:20250920T170000
DTSTAMP:20260421T135500
CREATED:20250903T093646Z
LAST-MODIFIED:20250908T110624Z
UID:3028-1758380400-1758387600@sistemamuseale.cmvs.it
SUMMARY:Museums & More in Valle Sabbia. La Musica del Metallo
DESCRIPTION:Esplorazioni creative al Museo del Ferro di Odolo\, attività didattica gratuita per famiglie con bambini dai 5 ai 12 anni in collaborazione con Cooperativa La Melagrana. \nRitrovo alle 15:00 presso il Museo del Ferro “Dario Leali”\, Fucina di Pamparane – via M. D’Azeglio\, Odolo \nDurata: circa 2 ore \nUn pomeriggio tra natura\, suoni e tradizione: una passeggiata guidata lungo il sentiero delle Gnarche\, accompagnati dal suono del torrente Vrenda\, seguita da una visita alla fucina con dimostrazione al maglio.\nObbligatorie scarpe da trekking. I bambini dovranno essere accompagnati da un genitore/adulto per tutta la durata dell’attività. \nPrenotazione obbligatoria esclusivamente tramite modulo online\, aperto fino al 19 settembre alle ore 12:00.\nInfo nella locandina\, per richieste solo WhatsApp 345 6192700 (lun-gio 9-16\, ven fino alle 12)
URL:https://sistemamuseale.cmvs.it/event/museums-more-in-valle-sabbia-la-musica-del-metallo/
LOCATION:museo del ferro\, Via M. D'Azeglio\, 25076 Odolo BS\, Odolo\, Brescia\, 25076\, Italia
CATEGORIES:Apertura Straordinaria,Attività Ludica,Escursione,Visita Guidata
ATTACH;FMTTYPE=image/png:https://sistemamuseale.cmvs.it/wp-content/uploads/2025/09/MM-odolo-20-settembre-locandina.png
ORGANIZER;CN="Sistema%20Museale%20Valle%20Sabbia":MAILTO:sistemamuseale@cmvs.it
END:VEVENT
BEGIN:VEVENT
DTSTART;TZID=Europe/Rome:20250928T100000
DTEND;TZID=Europe/Rome:20250928T120000
DTSTAMP:20260421T135500
CREATED:20250922T135828Z
LAST-MODIFIED:20250922T135828Z
UID:3051-1759053600-1759060800@sistemamuseale.cmvs.it
SUMMARY:In cammino nel passato. Archeo trekking al Lucone
DESCRIPTION:In occasione delle Giornate Europee del Patrimonio\, passeggiata nella conca del Lucone e visita guidata al Lucone D\nInizio alle ore 10\, durata 2h circa\, percorso adatto a tutti\nPrenotazione obbligatoria https://form.jotform.com/252592043990360
URL:https://sistemamuseale.cmvs.it/event/in-cammino-nel-passato-archeo-trekking-al-lucone/
LOCATION:Area archeologica del Lucone di Polpenazze\, Via lago Lucone\, Polpenazze del Garda\, 25080\, Italia
CATEGORIES:Apertura Straordinaria,Escursione,Visita Guidata
ATTACH;FMTTYPE=image/png:https://sistemamuseale.cmvs.it/wp-content/uploads/2025/09/GEP-2.png
END:VEVENT
BEGIN:VEVENT
DTSTART;TZID=Europe/Rome:20251005T140000
DTEND;TZID=Europe/Rome:20251005T180000
DTSTAMP:20260421T135500
CREATED:20251001T103209Z
LAST-MODIFIED:20251001T103209Z
UID:3062-1759672800-1759687200@sistemamuseale.cmvs.it
SUMMARY:Escursione a Casto: “Un trekking urbano tra arte e cultura”
DESCRIPTION:Domenica 5 ottobre 2025 – ore 14:00\nRitrovo: Piazza del Municipio di Casto\nUn pomeriggio di cammino per scoprire le bellezze nascoste del borgo di Casto: dalle santelle alla fucina\, dal mulino alla chiesa di Sant’Antonio. Un percorso che intreccia natura\, arte sacra e cultura popolare\, per leggere insieme le tracce lasciate nel tempo dalla comunità.\nPercorso: 3\,5 km – dislivello 150 m – difficoltà turistica\nDurata: dalle ore 14:00 alle ore 18:00 circa\nAttrezzatura consigliata: scarpe comode\, borraccia d’acqua\, giaccavento \nLa visita è gratuita\, ma è richiesta la prenotazione.\nPosti limitati.\nLe prenotazioni dovranno pervenire entro sabato 4 ottobre alle ore 12\,00.\nCompila il modulo per riservare il tuo posto cliccando sul link: https://forms.gle/BVrErrQVKR2kv1wJ6
URL:https://sistemamuseale.cmvs.it/event/escursione-a-casto-un-trekking-urbano-tra-arte-e-cultura/
LOCATION:Casto\, Piazza del Municipio\, Casto\, BS\, 25070\, Italy
CATEGORIES:Escursione
ATTACH;FMTTYPE=image/jpeg:https://sistemamuseale.cmvs.it/wp-content/uploads/2025/10/casto-giovanni-freddi-5-ottobre.jpeg
END:VEVENT
BEGIN:VEVENT
DTSTART;VALUE=DATE:20260425
DTEND;VALUE=DATE:20260427
DTSTAMP:20260421T135500
CREATED:20260420T081053Z
LAST-MODIFIED:20260420T081339Z
UID:3236-1777075200-1777247999@sistemamuseale.cmvs.it
SUMMARY:Escursioni in Valle Sabbia – Una notte di libertà
DESCRIPTION:Sabato 25 e domenica 26 aprile 2026 si svolge l’escursione guidata Una notte di libertà\, lungo il Sentiero della 7ª Brigata Matteotti\, nei luoghi della Resistenza in Valle Sabbia.\nPartendo da Arveaco\, l’esperienza unisce cammino\, narrazione storica e memoria\, con pernottamento in tenda nei pressi del Monte Besume.\n5 km – dislivello 320 m\nNotte in tenda. Attrezzatura obbligatoria: materassino\, tenda\, sacco a pelo\, scarpe da trekking\, acqua\, antipioggia/antivento \nPer informazioni e prenotazioni: +39 3385072123 Giovanni Freddi
URL:https://sistemamuseale.cmvs.it/event/escursioni-in-valle-sabbia-una-notte-di-liberta/
LOCATION:Provaglio Val Sabbia\, Via Milano\, Provaglio Val Sabbia\, Italia
CATEGORIES:Enogastronomia,Escursione,Visita Guidata
ATTACH;FMTTYPE=image/jpeg:https://sistemamuseale.cmvs.it/wp-content/uploads/2026/04/giovanni-freddi-25-26-apr.jpeg
END:VEVENT
BEGIN:VEVENT
DTSTART;TZID=Europe/Rome:20260501T100000
DTEND;TZID=Europe/Rome:20260501T130000
DTSTAMP:20260421T135500
CREATED:20260408T142616Z
LAST-MODIFIED:20260408T142616Z
UID:3210-1777629600-1777640400@sistemamuseale.cmvs.it
SUMMARY:Passeggiata Olistica alla Rocca d'Anfo
DESCRIPTION:Passeggiata Olistica alla Rocca d’Anfo – mindful walking\nUn’esperienza di camminata consapevole ispirata alla pratica della mindfulness\, volta ad ampliare la percezione dei cinque sensi e favorire una profonda connessione con sé stessi e con l’ambiente circostante. \nvenerdì 1 maggio 2026\, ore 10:00\nRocca d’Anfo \nInformazioni nella locandina allegata
URL:https://sistemamuseale.cmvs.it/event/passeggiata-olistica-alla-rocca-danfo/
LOCATION:Parco della Rocca D’Anfo\, SS 237 c/o Rocca d'Anfo\, Anfo\, 25080\, Italia
CATEGORIES:Escursione
ATTACH;FMTTYPE=image/jpeg:https://sistemamuseale.cmvs.it/wp-content/uploads/2026/04/rocca-danfo-1-maggio-26.jpeg
ORGANIZER;CN="Comunit%C3%A0%20Montana%20di%20Valle%20Sabbia":MAILTO:info@cmvs.it
END:VEVENT
END:VCALENDAR