BEGIN:VCALENDAR
VERSION:2.0
PRODID:-//Sistema Museale - ECPv5.14.0.4//NONSGML v1.0//EN
CALSCALE:GREGORIAN
METHOD:PUBLISH
X-WR-CALNAME:Sistema Museale
X-ORIGINAL-URL:https://sistemamuseale.cmvs.it
X-WR-CALDESC:Events for Sistema Museale
REFRESH-INTERVAL;VALUE=DURATION:PT1H
X-Robots-Tag:noindex
X-PUBLISHED-TTL:PT1H
BEGIN:VTIMEZONE
TZID:Europe/Rome
BEGIN:DAYLIGHT
TZOFFSETFROM:+0100
TZOFFSETTO:+0200
TZNAME:CEST
DTSTART:20230326T010000
END:DAYLIGHT
BEGIN:STANDARD
TZOFFSETFROM:+0200
TZOFFSETTO:+0100
TZNAME:CET
DTSTART:20231029T010000
END:STANDARD
END:VTIMEZONE
BEGIN:VEVENT
DTSTART;TZID=Europe/Rome:20231126T150000
DTEND;TZID=Europe/Rome:20231126T170000
DTSTAMP:20260422T195642
CREATED:20231023T090506Z
LAST-MODIFIED:20231023T090524Z
UID:1977-1701010800-1701018000@sistemamuseale.cmvs.it
SUMMARY:Labor. Sulla via di S. Giacomo tra terra e lago
DESCRIPTION:La rassegna 𝑳𝒂𝒃𝒐𝒓: 𝒆𝒔𝒑𝒆𝒓𝒊𝒆𝒏𝒛𝒆 𝒊𝒏𝒆𝒅𝒊𝒕𝒆 𝒕𝒓𝒂 𝒗𝒂𝒍𝒍𝒆 𝒆 𝒍𝒂𝒈𝒐 sta volgendo al termine: a novembre due appuntamenti a Gargnano. \nIl secondo evento si svolgerà domenica 26 Novembre 2023 \nSulla via di S. Giacomo tra terra e lago \nVisita guidata teatralizzata con rievocatori in costume d’epoca a cura di Animus Brixiae. \nOre 15.00 Località San Giacomo \nInfo e prenotazioni: Ufficio Cultura 03657988305 – biblioteca@comune.gargnano.bs.it
URL:https://sistemamuseale.cmvs.it/event/1977/
CATEGORIES:Escursione,Spettacolo,Visita Guidata
ATTACH;FMTTYPE=image/jpeg:https://sistemamuseale.cmvs.it/wp-content/uploads/2023/10/gargnano_visite-guidate-teatralizzate.jpeg
END:VEVENT
END:VCALENDAR