BEGIN:VCALENDAR
VERSION:2.0
PRODID:-//Sistema Museale - ECPv5.14.0.4//NONSGML v1.0//EN
CALSCALE:GREGORIAN
METHOD:PUBLISH
X-WR-CALNAME:Sistema Museale
X-ORIGINAL-URL:https://sistemamuseale.cmvs.it
X-WR-CALDESC:Events for Sistema Museale
REFRESH-INTERVAL;VALUE=DURATION:PT1H
X-Robots-Tag:noindex
X-PUBLISHED-TTL:PT1H
BEGIN:VTIMEZONE
TZID:Europe/Rome
BEGIN:DAYLIGHT
TZOFFSETFROM:+0100
TZOFFSETTO:+0200
TZNAME:CEST
DTSTART:20240331T010000
END:DAYLIGHT
BEGIN:STANDARD
TZOFFSETFROM:+0200
TZOFFSETTO:+0100
TZNAME:CET
DTSTART:20241027T010000
END:STANDARD
END:VTIMEZONE
BEGIN:VEVENT
DTSTART;TZID=Europe/Rome:20240420T143000
DTEND;TZID=Europe/Rome:20240420T170000
DTSTAMP:20260422T113544
CREATED:20240403T095929Z
LAST-MODIFIED:20240403T095929Z
UID:2085-1713623400-1713632400@sistemamuseale.cmvs.it
SUMMARY:Una valle da scoprire. Da Montesuello a Sant'Antonio
DESCRIPTION:Visto il successo dello scorso anno e alle nuove richieste viene proposto nuovamente l’itinerario tra storia e arte. \nSabato 20 aprile ritrovo alle 14.30 presso il parcheggio nei pressi dell’Ossario di Montesuello\, visita a cura di Matteo Ghedi (Associazione Culturale Capitolium)\, trekking fino alla località Sant’Antonio e visita all’omonima chiesa a cura di Romeo Seccamani. \nConclude il pomeriggio una degustazione di prodotti tipici. \nPer informazioni e prenotazioni: \nGiovanni 3385072123 \nNadia 3283187042
URL:https://sistemamuseale.cmvs.it/event/una-valle-da-scoprire-da-montesuello-a-santantonio/
LOCATION:Ossario di Montesuello\, SP669\, 25070 Anfo BS
CATEGORIES:Escursione,Visita Guidata
ATTACH;FMTTYPE=image/png:https://sistemamuseale.cmvs.it/wp-content/uploads/2024/04/da-Montesuello-a-SantAntonio-20-aprile-2024-GAE.png
END:VEVENT
END:VCALENDAR