BEGIN:VCALENDAR
VERSION:2.0
PRODID:-//Sistema Museale - ECPv5.14.0.4//NONSGML v1.0//EN
CALSCALE:GREGORIAN
METHOD:PUBLISH
X-WR-CALNAME:Sistema Museale
X-ORIGINAL-URL:https://sistemamuseale.cmvs.it
X-WR-CALDESC:Events for Sistema Museale
REFRESH-INTERVAL;VALUE=DURATION:PT1H
X-Robots-Tag:noindex
X-PUBLISHED-TTL:PT1H
BEGIN:VTIMEZONE
TZID:Europe/Rome
BEGIN:DAYLIGHT
TZOFFSETFROM:+0100
TZOFFSETTO:+0200
TZNAME:CEST
DTSTART:20240331T010000
END:DAYLIGHT
BEGIN:STANDARD
TZOFFSETFROM:+0200
TZOFFSETTO:+0100
TZNAME:CET
DTSTART:20241027T010000
END:STANDARD
END:VTIMEZONE
BEGIN:VEVENT
DTSTART;TZID=Europe/Rome:20240630T083000
DTEND;TZID=Europe/Rome:20240630T130000
DTSTAMP:20260422T070036
CREATED:20240619T095251Z
LAST-MODIFIED:20240619T095251Z
UID:2286-1719736200-1719752400@sistemamuseale.cmvs.it
SUMMARY:Gita botanica a Bagolino
DESCRIPTION:Prenotazione obbligatoria via whatsapp al numero 3283187042
URL:https://sistemamuseale.cmvs.it/event/gita-botanica-a-bagolino/
LOCATION:Bagolino\, Via Parrocchia\, Bagolino\, 25070\, Italia
CATEGORIES:Escursione,Visita Guidata
ATTACH;FMTTYPE=image/jpeg:https://sistemamuseale.cmvs.it/wp-content/uploads/2024/06/gita-botanica-30-giugno-bagolino.jpeg
END:VEVENT
BEGIN:VEVENT
DTSTART;TZID=Europe/Rome:20240630T160000
DTEND;TZID=Europe/Rome:20240630T180000
DTSTAMP:20260422T070036
CREATED:20240618T152119Z
LAST-MODIFIED:20240618T152119Z
UID:2280-1719763200-1719770400@sistemamuseale.cmvs.it
SUMMARY:Storie di vita di un lontano passato a Livemmo
DESCRIPTION:Percorso teatralizzato in cammino verso il sito del Forno Fusorio di Livemmo a cura dell’Associazione Culturale Animus Brixiae e dello storico Alessandro Darra \nRITROVO: Laghetto di Bongi (Mura) Passeggiata di 3 KM su sentiero Durata: 2 \,5 ore circa \nAttrezzatura obbligatoria: acqua\, scarpe da trekking\, cappellino
URL:https://sistemamuseale.cmvs.it/event/storie-di-vita-di-un-lontano-passato-a-livemmo/
LOCATION:Forno fusorio di Livemmo\, Pertica alta BS\, Pertica alta BS\, 25070\, Italia
CATEGORIES:Escursione,Visita Guidata
ATTACH;FMTTYPE=image/png:https://sistemamuseale.cmvs.it/wp-content/uploads/2024/06/famiglie-30-giugno-livemmo.png
END:VEVENT
END:VCALENDAR