BEGIN:VCALENDAR
VERSION:2.0
PRODID:-//Sistema Museale - ECPv5.14.0.4//NONSGML v1.0//EN
CALSCALE:GREGORIAN
METHOD:PUBLISH
X-WR-CALNAME:Sistema Museale
X-ORIGINAL-URL:https://sistemamuseale.cmvs.it
X-WR-CALDESC:Events for Sistema Museale
REFRESH-INTERVAL;VALUE=DURATION:PT1H
X-Robots-Tag:noindex
X-PUBLISHED-TTL:PT1H
BEGIN:VTIMEZONE
TZID:Europe/Rome
BEGIN:DAYLIGHT
TZOFFSETFROM:+0100
TZOFFSETTO:+0200
TZNAME:CEST
DTSTART:20240331T010000
END:DAYLIGHT
BEGIN:STANDARD
TZOFFSETFROM:+0200
TZOFFSETTO:+0100
TZNAME:CET
DTSTART:20241027T010000
END:STANDARD
END:VTIMEZONE
BEGIN:VEVENT
DTSTART;TZID=Europe/Rome:20240706T170000
DTEND;TZID=Europe/Rome:20240706T190000
DTSTAMP:20260422T070114
CREATED:20240626T132234Z
LAST-MODIFIED:20240626T132234Z
UID:2309-1720285200-1720292400@sistemamuseale.cmvs.it
SUMMARY:Dal Vrenda al Museo del Ferro
DESCRIPTION:DAL VRENDA AL MUSEO DEL FERRO\, 6 LUGLIO – ORE 17.00\, ODOLO\nRitrovo: MUSEO DEL FERRO Alla scoperta delle antiche fucine con dimostrazione di lavoro al maglio \nLe attività sono aperte a tutti\, i laboratori sono invece pensati nello specifico per i più piccoli. I bambini dovranno essere sempre accompagnati da un adulto. \nSi tratta di attività gratuite\, con prenotazione OBBLIGATORIA scrivendo a sistemamuseale@cmvs.it oppure tramite messaggio whatsapp al numero 3456192700.
URL:https://sistemamuseale.cmvs.it/event/dal-vrenda-al-museo-del-ferro/
LOCATION:museo del ferro\, Via M. D'Azeglio\, 25076 Odolo BS\, Odolo\, Brescia\, 25076\, Italia
CATEGORIES:Escursione,Laboratori,Visita Guidata
ATTACH;FMTTYPE=image/png:https://sistemamuseale.cmvs.it/wp-content/uploads/2024/06/famiglie-6-luglio-odolo.png
END:VEVENT
END:VCALENDAR