BEGIN:VCALENDAR
VERSION:2.0
PRODID:-//Sistema Museale - ECPv5.14.0.4//NONSGML v1.0//EN
CALSCALE:GREGORIAN
METHOD:PUBLISH
X-WR-CALNAME:Sistema Museale
X-ORIGINAL-URL:https://sistemamuseale.cmvs.it
X-WR-CALDESC:Events for Sistema Museale
REFRESH-INTERVAL;VALUE=DURATION:PT1H
X-Robots-Tag:noindex
X-PUBLISHED-TTL:PT1H
BEGIN:VTIMEZONE
TZID:Europe/Rome
BEGIN:DAYLIGHT
TZOFFSETFROM:+0100
TZOFFSETTO:+0200
TZNAME:CEST
DTSTART:20240331T010000
END:DAYLIGHT
BEGIN:STANDARD
TZOFFSETFROM:+0200
TZOFFSETTO:+0100
TZNAME:CET
DTSTART:20241027T010000
END:STANDARD
END:VTIMEZONE
BEGIN:VEVENT
DTSTART;TZID=Europe/Rome:20240719T190000
DTEND;TZID=Europe/Rome:20240719T210000
DTSTAMP:20260422T034509
CREATED:20240702T092600Z
LAST-MODIFIED:20240702T092600Z
UID:2315-1721415600-1721422800@sistemamuseale.cmvs.it
SUMMARY:Rocca al Chiaro di Luna
DESCRIPTION:ROCCA AL CHIARO DI LUNA CON APERITIVO 😍✨\nVenerdì 19 luglio 2024 alle ore 19:00 \n15€ adulti\, 10€ bambini \nPrenotazioni sul sito www.roccadanfo.eu oppure chiamando il 375 622 1121.
URL:https://sistemamuseale.cmvs.it/event/rocca-al-chiaro-di-luna/
LOCATION:Parco della Rocca D’Anfo\, SS 237 c/o Rocca d'Anfo\, Anfo\, 25080\, Italia
CATEGORIES:Enogastronomia,Escursione,Visita Guidata
ATTACH;FMTTYPE=image/jpeg:https://sistemamuseale.cmvs.it/wp-content/uploads/2024/07/rocca-anfo-chiaro-luna-19-luglio.jpg
END:VEVENT
END:VCALENDAR