BEGIN:VCALENDAR
VERSION:2.0
PRODID:-//Sistema Museale - ECPv5.14.0.4//NONSGML v1.0//EN
CALSCALE:GREGORIAN
METHOD:PUBLISH
X-WR-CALNAME:Sistema Museale
X-ORIGINAL-URL:https://sistemamuseale.cmvs.it
X-WR-CALDESC:Events for Sistema Museale
REFRESH-INTERVAL;VALUE=DURATION:PT1H
X-Robots-Tag:noindex
X-PUBLISHED-TTL:PT1H
BEGIN:VTIMEZONE
TZID:Europe/Rome
BEGIN:DAYLIGHT
TZOFFSETFROM:+0100
TZOFFSETTO:+0200
TZNAME:CEST
DTSTART:20240331T010000
END:DAYLIGHT
BEGIN:STANDARD
TZOFFSETFROM:+0200
TZOFFSETTO:+0100
TZNAME:CET
DTSTART:20241027T010000
END:STANDARD
END:VTIMEZONE
BEGIN:VEVENT
DTSTART;TZID=Europe/Rome:20240804T103000
DTEND;TZID=Europe/Rome:20240804T163000
DTSTAMP:20260422T020612
CREATED:20240724T141303Z
LAST-MODIFIED:20240724T141303Z
UID:2427-1722767400-1722789000@sistemamuseale.cmvs.it
SUMMARY:Passeggiata storica alla Rocca d’Anfo
DESCRIPTION:Una visita dedicata agli appassionati di storia di ogni età!\n\n4 agosto 2024 ore 10:30 – durata 6 ore\n\n6€ per bambini 5-15 anni\n12€ adulti\nRicordarsi pranzo al sacco\, scarpe da trekking\, acqua e torcia\n\n\n\n\nIscrizioni chiamando il numero 375 622 1121  oppure tramite il sito www.roccadanfo.eu
URL:https://sistemamuseale.cmvs.it/event/passeggiata-storica-alla-rocca-danfo-3/
LOCATION:Parco della Rocca D’Anfo\, SS 237 c/o Rocca d'Anfo\, Anfo\, 25080\, Italia
CATEGORIES:Escursione,Visita Guidata
ATTACH;FMTTYPE=image/png:https://sistemamuseale.cmvs.it/wp-content/uploads/2024/07/Agosto-Passeggiata-storica-4-agosto.png
END:VEVENT
BEGIN:VEVENT
DTSTART;TZID=Europe/Rome:20240804T150000
DTEND;TZID=Europe/Rome:20240804T170000
DTSTAMP:20260422T020612
CREATED:20240724T142224Z
LAST-MODIFIED:20240724T142224Z
UID:2432-1722783600-1722790800@sistemamuseale.cmvs.it
SUMMARY:Passeggiata animata per famiglie alla Rocca d’Anfo
DESCRIPTION:𝗩𝗶𝘀𝗶𝘁𝗮 𝗴𝘂𝗶𝗱𝗮𝘁𝗮 𝗮𝗻𝗶𝗺𝗮𝘁𝗮 𝗽𝗲𝗿 𝗯𝗮𝗺𝗯𝗶𝗻𝗶 𝗲 𝗳𝗮𝗺𝗶𝗴𝗹𝗶𝗲\nTorna la visita guidata animata per bambini e famiglie\, una camminata immersi nel verde animata da simpatici balletti e indovinelli\, seguendo il percorso “Dalla Serenissima al Regno d’Italia” \nInizio attività ore 15:00\, costo 10€ a persona\nInfo & Prenotazioni: Rocca d’Anfo 375 622 1121 oppure www.roccadanfo.eu
URL:https://sistemamuseale.cmvs.it/event/passeggiata-animata-per-famiglie-alla-rocca-danfo-2/
LOCATION:Parco della Rocca D’Anfo\, SS 237 c/o Rocca d'Anfo\, Anfo\, 25080\, Italia
CATEGORIES:Attività Ludica,Escursione,Visita Guidata
ATTACH;FMTTYPE=image/png:https://sistemamuseale.cmvs.it/wp-content/uploads/2024/07/Agosto-Passeggiata-animata-4-agosto.png
END:VEVENT
END:VCALENDAR