BEGIN:VCALENDAR
VERSION:2.0
PRODID:-//Sistema Museale - ECPv5.14.0.4//NONSGML v1.0//EN
CALSCALE:GREGORIAN
METHOD:PUBLISH
X-WR-CALNAME:Sistema Museale
X-ORIGINAL-URL:https://sistemamuseale.cmvs.it
X-WR-CALDESC:Events for Sistema Museale
REFRESH-INTERVAL;VALUE=DURATION:PT1H
X-Robots-Tag:noindex
X-PUBLISHED-TTL:PT1H
BEGIN:VTIMEZONE
TZID:Europe/Rome
BEGIN:DAYLIGHT
TZOFFSETFROM:+0100
TZOFFSETTO:+0200
TZNAME:CEST
DTSTART:20240331T010000
END:DAYLIGHT
BEGIN:STANDARD
TZOFFSETFROM:+0200
TZOFFSETTO:+0100
TZNAME:CET
DTSTART:20241027T010000
END:STANDARD
END:VTIMEZONE
BEGIN:VEVENT
DTSTART;TZID=Europe/Rome:20240806T090000
DTEND;TZID=Europe/Rome:20240806T130000
DTSTAMP:20260422T020602
CREATED:20240731T092309Z
LAST-MODIFIED:20240731T092309Z
UID:2442-1722934800-1722949200@sistemamuseale.cmvs.it
SUMMARY:Vita in malga tra suoni e profumi
DESCRIPTION:VITA IN MALGA TRA SUONI E PROFUMI\, 6 AGOSTO – ORE 9.00 \nRitrovo: p.zza Marconi\, BAGOLINO Escursione con guida AIGAE Nadia Panelli con letture a cura del Sistema Bibliotecario Nord Est Bresciano. \nPrenotazione obbligatoria
URL:https://sistemamuseale.cmvs.it/event/vita-in-malga-tra-suoni-e-profumi/
LOCATION:Bagolino\, Via Parrocchia\, Bagolino\, 25070\, Italia
CATEGORIES:Attività Ludica,Escursione
ATTACH;FMTTYPE=image/png:https://sistemamuseale.cmvs.it/wp-content/uploads/2024/07/6-agosto-bagolino-locandina.png
ORGANIZER;CN="Sistema%20Museale%20Valle%20Sabbia":MAILTO:sistemamuseale@cmvs.it
END:VEVENT
END:VCALENDAR