BEGIN:VCALENDAR
VERSION:2.0
PRODID:-//Sistema Museale - ECPv5.14.0.4//NONSGML v1.0//EN
CALSCALE:GREGORIAN
METHOD:PUBLISH
X-WR-CALNAME:Sistema Museale
X-ORIGINAL-URL:https://sistemamuseale.cmvs.it
X-WR-CALDESC:Events for Sistema Museale
REFRESH-INTERVAL;VALUE=DURATION:PT1H
X-Robots-Tag:noindex
X-PUBLISHED-TTL:PT1H
BEGIN:VTIMEZONE
TZID:Europe/Rome
BEGIN:DAYLIGHT
TZOFFSETFROM:+0100
TZOFFSETTO:+0200
TZNAME:CEST
DTSTART:20240331T010000
END:DAYLIGHT
BEGIN:STANDARD
TZOFFSETFROM:+0200
TZOFFSETTO:+0100
TZNAME:CET
DTSTART:20241027T010000
END:STANDARD
END:VTIMEZONE
BEGIN:VEVENT
DTSTART;TZID=Europe/Rome:20240814T093000
DTEND;TZID=Europe/Rome:20240814T113000
DTSTAMP:20260422T020558
CREATED:20240702T095207Z
LAST-MODIFIED:20240702T095207Z
UID:2336-1723627800-1723635000@sistemamuseale.cmvs.it
SUMMARY:Esplorando la Rocca d'Anfo - Attività per famiglie
DESCRIPTION:ESPLORANDO LA ROCCA! 24 LUGLIO\, 14 E 21 AGOSTO – ORE 9.30 ROCCA D’ANFO\nAttività per famiglie sulla sezione Veneziana \nLe attività sono aperte a tutti\, i laboratori sono invece pensati nello specifico per i più piccoli. I bambini dovranno essere sempre accompagnati da un adulto. \nSi tratta di attività gratuite\, con prenotazione OBBLIGATORIA scrivendo a sistemamuseale@cmvs.it oppure tramite messaggio whatsapp al numero 3456192700.
URL:https://sistemamuseale.cmvs.it/event/esplorando-la-rocca-danfo-attivita-per-famiglie-2/
LOCATION:Parco della Rocca D’Anfo\, SS 237 c/o Rocca d'Anfo\, Anfo\, 25080\, Italia
CATEGORIES:Attività Ludica,Escursione,Visita Guidata
ATTACH;FMTTYPE=image/png:https://sistemamuseale.cmvs.it/wp-content/uploads/2024/07/famiglie-rocca-danfo-luglio-agosto.png
ORGANIZER;CN="Sistema%20Museale%20Valle%20Sabbia":MAILTO:sistemamuseale@cmvs.it
END:VEVENT
END:VCALENDAR