BEGIN:VCALENDAR
VERSION:2.0
PRODID:-//Sistema Museale - ECPv5.14.0.4//NONSGML v1.0//EN
CALSCALE:GREGORIAN
METHOD:PUBLISH
X-WR-CALNAME:Sistema Museale
X-ORIGINAL-URL:https://sistemamuseale.cmvs.it
X-WR-CALDESC:Events for Sistema Museale
REFRESH-INTERVAL;VALUE=DURATION:PT1H
X-Robots-Tag:noindex
X-PUBLISHED-TTL:PT1H
BEGIN:VTIMEZONE
TZID:Europe/Rome
BEGIN:DAYLIGHT
TZOFFSETFROM:+0100
TZOFFSETTO:+0200
TZNAME:CEST
DTSTART:20240331T010000
END:DAYLIGHT
BEGIN:STANDARD
TZOFFSETFROM:+0200
TZOFFSETTO:+0100
TZNAME:CET
DTSTART:20241027T010000
END:STANDARD
END:VTIMEZONE
BEGIN:VEVENT
DTSTART;TZID=Europe/Rome:20240817T190000
DTEND;TZID=Europe/Rome:20240817T210000
DTSTAMP:20260422T020451
CREATED:20240724T142908Z
LAST-MODIFIED:20240724T142908Z
UID:2434-1723921200-1723928400@sistemamuseale.cmvs.it
SUMMARY:Rocca al Chiaro di Luna con aperitivo
DESCRIPTION:ROCCA AL CHIARO DI LUNA CON APERITIVO\nSabato 17 agosto 2024 alle ore 19:00 \nVisita guidata\, durante il tour verrà offerto un aperitivo a tutti i visitatori \n15€ adulti\, 10€ bambini \nPrenotazioni sul sito www.roccadanfo.eu oppure chiamando il 375 622 1121 \nPortare scarpe comode/trekking\, acqua e torcia
URL:https://sistemamuseale.cmvs.it/event/rocca-al-chiaro-di-luna-con-aperitivo-2/
CATEGORIES:Enogastronomia,Escursione,Visita Guidata
ATTACH;FMTTYPE=image/png:https://sistemamuseale.cmvs.it/wp-content/uploads/2024/07/Agosto-ROCCA-AL-CHIARO-DI-LUNA-17-agosto-.png
END:VEVENT
END:VCALENDAR