BEGIN:VCALENDAR
VERSION:2.0
PRODID:-//Sistema Museale - ECPv5.14.0.4//NONSGML v1.0//EN
CALSCALE:GREGORIAN
METHOD:PUBLISH
X-WR-CALNAME:Sistema Museale
X-ORIGINAL-URL:https://sistemamuseale.cmvs.it
X-WR-CALDESC:Events for Sistema Museale
REFRESH-INTERVAL;VALUE=DURATION:PT1H
X-Robots-Tag:noindex
X-PUBLISHED-TTL:PT1H
BEGIN:VTIMEZONE
TZID:Europe/Rome
BEGIN:DAYLIGHT
TZOFFSETFROM:+0100
TZOFFSETTO:+0200
TZNAME:CEST
DTSTART:20240331T010000
END:DAYLIGHT
BEGIN:STANDARD
TZOFFSETFROM:+0200
TZOFFSETTO:+0100
TZNAME:CET
DTSTART:20241027T010000
END:STANDARD
END:VTIMEZONE
BEGIN:VEVENT
DTSTART;TZID=Europe/Rome:20240819T080000
DTEND;TZID=Europe/Rome:20240823T170000
DTSTAMP:20260422T020603
CREATED:20240524T073809Z
LAST-MODIFIED:20240524T073809Z
UID:2216-1724054400-1724432400@sistemamuseale.cmvs.it
SUMMARY:ARCHEO EXPERIENCE. UNA SETTIMANA DA ARCHEOLOGO
DESCRIPTION:Ritorna lo speciale evento per bambini e ragazzi dai 6 ai 12 anni dedicato alla scoperta del mondo dell’archeologia tra percorsi didattici\, laboratori esperienziali\, esplorazioni\, scoperte\, giochi e tanto altro! \nPer bambini e bambine dai 6 (prima elementare svolta) ai 12 anni (prima media svolta)\nDal 19 al 23 agosto 2024\, dal lunedì al venerdì dalle 8:00/8:30 alle 16:30/17:00\nCosto: 140\,00 € + 15\,00 € contributo assicurativo per un totale di 155\,00 €\nPranzo al sacco (l’organizzazione provvederà ad una merenda confezionata\, un frutto e una bibita) \n⚠️ I partecipanti dovranno essere accompagnati presso i luoghi di svolgimento delle attività secondo il programma settimanale che verrà fornito.\nPosti soggetti a disponibilità limitata. Prenotazione online tramite questo LINK. \n️Termine iscrizioni: 20 luglio 2024\nPer ulteriori informazioni contattare il Museo.\n__\nAttività a cura dei Servizi Educativi del MAVS in collaborazione con La Melagrana
URL:https://sistemamuseale.cmvs.it/event/archeo-experience-una-settimana-da-archeologo/
LOCATION:Area archeologica del Lucone di Polpenazze\, Via lago Lucone\, Polpenazze del Garda\, 25080\, Italia
CATEGORIES:Corso,Escursione,Visita Guidata
ATTACH;FMTTYPE=image/png:https://sistemamuseale.cmvs.it/wp-content/uploads/2024/05/LOCANDINA-CAMP-SOCIAL-2024.png
END:VEVENT
BEGIN:VEVENT
DTSTART;TZID=Europe/Rome:20240821T093000
DTEND;TZID=Europe/Rome:20240821T113000
DTSTAMP:20260422T020603
CREATED:20240702T095314Z
LAST-MODIFIED:20240702T095314Z
UID:2338-1724232600-1724239800@sistemamuseale.cmvs.it
SUMMARY:Esplorando la Rocca d'Anfo - Attività per famiglie
DESCRIPTION:ESPLORANDO LA ROCCA! 24 LUGLIO\, 14 E 21 AGOSTO – ORE 9.30 ROCCA D’ANFO\nAttività per famiglie sulla sezione Veneziana \nLe attività sono aperte a tutti\, i laboratori sono invece pensati nello specifico per i più piccoli. I bambini dovranno essere sempre accompagnati da un adulto. \nSi tratta di attività gratuite\, con prenotazione OBBLIGATORIA scrivendo a sistemamuseale@cmvs.it oppure tramite messaggio whatsapp al numero 3456192700.
URL:https://sistemamuseale.cmvs.it/event/esplorando-la-rocca-danfo-attivita-per-famiglie-3/
LOCATION:Parco della Rocca D’Anfo\, SS 237 c/o Rocca d'Anfo\, Anfo\, 25080\, Italia
CATEGORIES:Attività Ludica,Escursione,Visita Guidata
ATTACH;FMTTYPE=image/png:https://sistemamuseale.cmvs.it/wp-content/uploads/2024/07/famiglie-rocca-danfo-luglio-agosto.png
ORGANIZER;CN="Sistema%20Museale%20Valle%20Sabbia":MAILTO:sistemamuseale@cmvs.it
END:VEVENT
END:VCALENDAR