BEGIN:VCALENDAR
VERSION:2.0
PRODID:-//Sistema Museale - ECPv5.14.0.4//NONSGML v1.0//EN
CALSCALE:GREGORIAN
METHOD:PUBLISH
X-WR-CALNAME:Sistema Museale
X-ORIGINAL-URL:https://sistemamuseale.cmvs.it
X-WR-CALDESC:Events for Sistema Museale
REFRESH-INTERVAL;VALUE=DURATION:PT1H
X-Robots-Tag:noindex
X-PUBLISHED-TTL:PT1H
BEGIN:VTIMEZONE
TZID:Europe/Rome
BEGIN:DAYLIGHT
TZOFFSETFROM:+0100
TZOFFSETTO:+0200
TZNAME:CEST
DTSTART:20240331T010000
END:DAYLIGHT
BEGIN:STANDARD
TZOFFSETFROM:+0200
TZOFFSETTO:+0100
TZNAME:CET
DTSTART:20241027T010000
END:STANDARD
END:VTIMEZONE
BEGIN:VEVENT
DTSTART;TZID=Europe/Rome:20240914T170000
DTEND;TZID=Europe/Rome:20240914T190000
DTSTAMP:20260422T020615
CREATED:20240828T133822Z
LAST-MODIFIED:20240828T133822Z
UID:2490-1726333200-1726340400@sistemamuseale.cmvs.it
SUMMARY:Dal Mulino a San Gottardo\, passeggiata per Barghe
DESCRIPTION:DAL MULINO A SAN GOTTARDO\, 14 SETTEMBRE – ORE 17.00\nRitrovo: Municipio di BARGHE \nUna camminata accompagnati da Maria Vezzoni per le vie di Barghe fino alla suggestiva chiesa di San Gottardo\, con visita guidata. \nDurata: 2 ore\nAttrezzatura obbligatoria: acqua\, scarpe da ginnastica o trekking\, cappellino
URL:https://sistemamuseale.cmvs.it/event/dal-mulino-a-san-gottardo-passeggiata-per-barghe/
LOCATION:Barghe\, Via Nazionale\, 4\, Barghe\, 25070
CATEGORIES:Escursione,Visita Guidata
ATTACH;FMTTYPE=image/png:https://sistemamuseale.cmvs.it/wp-content/uploads/2024/08/14-settembre-barghe-locandina.png
ORGANIZER;CN="Sistema%20Museale%20Valle%20Sabbia":MAILTO:sistemamuseale@cmvs.it
END:VEVENT
END:VCALENDAR