BEGIN:VCALENDAR
VERSION:2.0
PRODID:-//Sistema Museale - ECPv5.14.0.4//NONSGML v1.0//EN
CALSCALE:GREGORIAN
METHOD:PUBLISH
X-WR-CALNAME:Sistema Museale
X-ORIGINAL-URL:https://sistemamuseale.cmvs.it
X-WR-CALDESC:Events for Sistema Museale
REFRESH-INTERVAL;VALUE=DURATION:PT1H
X-Robots-Tag:noindex
X-PUBLISHED-TTL:PT1H
BEGIN:VTIMEZONE
TZID:Europe/Rome
BEGIN:DAYLIGHT
TZOFFSETFROM:+0100
TZOFFSETTO:+0200
TZNAME:CEST
DTSTART:20240331T010000
END:DAYLIGHT
BEGIN:STANDARD
TZOFFSETFROM:+0200
TZOFFSETTO:+0100
TZNAME:CET
DTSTART:20241027T010000
END:STANDARD
END:VTIMEZONE
BEGIN:VEVENT
DTSTART;TZID=Europe/Rome:20240921T160000
DTEND;TZID=Europe/Rome:20240921T180000
DTSTAMP:20260422T020619
CREATED:20240618T152300Z
LAST-MODIFIED:20240828T143920Z
UID:2283-1726934400-1726941600@sistemamuseale.cmvs.it
SUMMARY:Dal Moretto al Fontanone\, visita guidata per famiglie
DESCRIPTION:Visita guidata al Santuario della Beata Vergine e breve passeggiata al sito carsico del Fontanone \nRITROVO presso il Santuario Passeggiata di circa 20 minuti adatta a tutti Attrezzatura obbligatoria: scarpe da trekking\, acqua\, cappellino. \nEvento gratuito con prenotazione obbligatoria.
URL:https://sistemamuseale.cmvs.it/event/dal-moretto-al-fontanone-visita-guidata-per-famiglie/
CATEGORIES:Escursione,Visita Guidata
ATTACH;FMTTYPE=image/png:https://sistemamuseale.cmvs.it/wp-content/uploads/2024/06/21-settembre-locandina-paitone.png
ORGANIZER;CN="Sistema%20Museale%20Valle%20Sabbia":MAILTO:sistemamuseale@cmvs.it
END:VEVENT
END:VCALENDAR