BEGIN:VCALENDAR
VERSION:2.0
PRODID:-//Sistema Museale - ECPv5.14.0.4//NONSGML v1.0//EN
CALSCALE:GREGORIAN
METHOD:PUBLISH
X-WR-CALNAME:Sistema Museale
X-ORIGINAL-URL:https://sistemamuseale.cmvs.it
X-WR-CALDESC:Events for Sistema Museale
REFRESH-INTERVAL;VALUE=DURATION:PT1H
X-Robots-Tag:noindex
X-PUBLISHED-TTL:PT1H
BEGIN:VTIMEZONE
TZID:Europe/Rome
BEGIN:DAYLIGHT
TZOFFSETFROM:+0100
TZOFFSETTO:+0200
TZNAME:CEST
DTSTART:20240331T010000
END:DAYLIGHT
BEGIN:STANDARD
TZOFFSETFROM:+0200
TZOFFSETTO:+0100
TZNAME:CET
DTSTART:20241027T010000
END:STANDARD
END:VTIMEZONE
BEGIN:VEVENT
DTSTART;TZID=Europe/Rome:20240928T150000
DTEND;TZID=Europe/Rome:20240928T173000
DTSTAMP:20260422T020617
CREATED:20240828T135647Z
LAST-MODIFIED:20240828T135915Z
UID:2499-1727535600-1727544600@sistemamuseale.cmvs.it
SUMMARY:Sui passi della Resistenza - trekking
DESCRIPTION:SUI PASSI DELLA RESISTENZA\, 28 SETTEMBRE – PERTICA BASSA MUSEO DELLA RESISTENZA (fraz. Forno d’Ono) IN OCCASIONE DELLE LE GIORNATE EUROPEE DEL PATRIMONIO 2 EVENTI GRATUITI \nVisita guidata con laboratorio dedicato ai ritratti (per bambini dai 5 anni)\, in contemporanea breve escursione per adulti sul Sentiero della Resistenza \nPer adulti: ritrovo al Municipio di Forno d’Ono alle ore 15:00.\nBreve trekking gratuito con guida escursionistica lungo il Sentiero della Resistenza\, visita guidata del Borgo di Spessio e del Museo della Resistenza di Pertica Bassa.\nLunghezza 5km\, dislivello 200mt. Attrezzatura richiesta: scarpe da trekking\, giacca a vento e pantaloni lunghi.\nPrenotazione obbligatoria: 338 507 2123 Giovanni Freddi \nPer bambini: ritrovo in museo alle 14:45.\nNon è richiesta la presenza dei genitori (previa firma di liberatoria). A seguire merenda\, conclusione attività intorno alle 17:30.
URL:https://sistemamuseale.cmvs.it/event/sui-passi-della-resistenza-trekking/
LOCATION:Museo della Resistenza e del Folklore Valsabbino\, Via Roma 7\, Forno d'Ono\, 25078\, Italia
CATEGORIES:Apertura Straordinaria,Attività Ludica,Escursione,Visita Guidata
ATTACH;FMTTYPE=image/png:https://sistemamuseale.cmvs.it/wp-content/uploads/2024/08/28-settembre-pertica-bassa-trekking-locandina.png
ORGANIZER;CN="Sistema%20Museale%20Valle%20Sabbia":MAILTO:sistemamuseale@cmvs.it
END:VEVENT
END:VCALENDAR