BEGIN:VCALENDAR
VERSION:2.0
PRODID:-//Sistema Museale - ECPv5.14.0.4//NONSGML v1.0//EN
CALSCALE:GREGORIAN
METHOD:PUBLISH
X-WR-CALNAME:Sistema Museale
X-ORIGINAL-URL:https://sistemamuseale.cmvs.it
X-WR-CALDESC:Events for Sistema Museale
REFRESH-INTERVAL;VALUE=DURATION:PT1H
X-Robots-Tag:noindex
X-PUBLISHED-TTL:PT1H
BEGIN:VTIMEZONE
TZID:Europe/Rome
BEGIN:DAYLIGHT
TZOFFSETFROM:+0100
TZOFFSETTO:+0200
TZNAME:CEST
DTSTART:20240331T010000
END:DAYLIGHT
BEGIN:STANDARD
TZOFFSETFROM:+0200
TZOFFSETTO:+0100
TZNAME:CET
DTSTART:20241027T010000
END:STANDARD
END:VTIMEZONE
BEGIN:VEVENT
DTSTART;TZID=Europe/Rome:20241110T093000
DTEND;TZID=Europe/Rome:20241110T143000
DTSTAMP:20260421T213455
CREATED:20241022T143143Z
LAST-MODIFIED:20241108T110726Z
UID:2592-1731231000-1731249000@sistemamuseale.cmvs.it
SUMMARY:*ANNULLATO* Museums & More in Valle Sabbia. Capovalle e il Monte Stino
DESCRIPTION:EVENTO ANNULLATO PER PROBLEMI SOPRAGGIUNTI AGLI ACCOMPAGNATORI. \nEscursione sul Monte Stino con degustazione \n\n10 novembre 2024 | ore 9:30 \nRitrovo: Piazza del Municipio di Capovalle \n\n\nSalita al Monte Stino seguendo l’Alta Via dei Forti e percorso delle trincee. Degustazione (facoltativa) di prodotti locali\, a seguire visita guidata del Museo dei Reperti Bellici di Capovalle. \n\nPrenotazioni (solo whatsapp\, fino a 24 ore prima): Giovanni 3385072123 \nAttività gratuita adatta a tutti. I bambini dovranno essere accompagnati da un adulto.\nDurata: 5 ore\, lunghezza 11 km (percorso ad anello\, dislivello 550mt)\nAttrezzatura obbligatoria: scarpe da trekking\, borraccia\, giaccavento e pantaloni lunghi.\nAssicurazione medica inclusa. \n\nDegustazione (facoltativa) di prodotti tipici a cura di Azienda Agricola Eggiolini\, su prenotazione al costo di 8€\, pagamento in loco. \n\n\nMuseums & More in Vallesabbia è una rassegna a cura del Sistema Museale della Valle Sabbia\, realizzata con il contributo di Regione Lombardia.
URL:https://sistemamuseale.cmvs.it/event/museums-more-in-valle-sabbia-capovalle-e-il-monte-stino/
LOCATION:Museo dei reperti bellici – Capovalle\, Via XXIV Maggio\, 9\, Capovalle\, BS\, 25070\, Italia
CATEGORIES:Enogastronomia,Escursione,Visita Guidata
ATTACH;FMTTYPE=image/png:https://sistemamuseale.cmvs.it/wp-content/uploads/2024/10/MM-10-novembre-capovalle-stino.png
END:VEVENT
END:VCALENDAR