BEGIN:VCALENDAR
VERSION:2.0
PRODID:-//Sistema Museale - ECPv5.14.0.4//NONSGML v1.0//EN
CALSCALE:GREGORIAN
METHOD:PUBLISH
X-WR-CALNAME:Sistema Museale
X-ORIGINAL-URL:https://sistemamuseale.cmvs.it
X-WR-CALDESC:Events for Sistema Museale
REFRESH-INTERVAL;VALUE=DURATION:PT1H
X-Robots-Tag:noindex
X-PUBLISHED-TTL:PT1H
BEGIN:VTIMEZONE
TZID:Europe/Rome
BEGIN:DAYLIGHT
TZOFFSETFROM:+0100
TZOFFSETTO:+0200
TZNAME:CEST
DTSTART:20220327T010000
END:DAYLIGHT
BEGIN:STANDARD
TZOFFSETFROM:+0200
TZOFFSETTO:+0100
TZNAME:CET
DTSTART:20221030T010000
END:STANDARD
END:VTIMEZONE
BEGIN:VEVENT
DTSTART;TZID=Europe/Rome:20220615T100000
DTEND;TZID=Europe/Rome:20220615T113000
DTSTAMP:20260425T145435
CREATED:20220606T124048Z
LAST-MODIFIED:20220615T073234Z
UID:970-1655287200-1655292600@sistemamuseale.cmvs.it
SUMMARY:Un mercoledì da Museo 15 Giugno
DESCRIPTION:Un mercoledì da museo \nLaboratori e giochi didattici ogni mercoledì in concomitanza con il mercato settimanale di Gavardo \n  \n15\, 22\, 29 giugno e 6\, 13\, 20\, 27 luglio – dalle 10:00 alle 11:30 \nPer bimbi e bimbe dai 6 agli 11 anni \n  \nNON è necessaria la prenotazione \n  \nCosto \n4 euro bambino (abbonamento a 3 mercoledì 10 euro – abbonamento a 5 mercoledì 15 euro)
URL:https://sistemamuseale.cmvs.it/event/un-mercoledi-da-museo-15-06/
LOCATION:museo archeologico della valle sabbia\, Piazza S. Bernardino\, 5\, Gavardo\, BS\, 25085\, Italia
CATEGORIES:Laboratori
ATTACH;FMTTYPE=image/png:https://sistemamuseale.cmvs.it/wp-content/uploads/2022/06/un-mercoledi-da-museo_giugno-luglio-2022.png
END:VEVENT
BEGIN:VEVENT
DTSTART;TZID=Europe/Rome:20220622T100000
DTEND;TZID=Europe/Rome:20220622T113000
DTSTAMP:20260425T145435
CREATED:20220615T073235Z
LAST-MODIFIED:20220615T073235Z
UID:1037-1655892000-1655897400@sistemamuseale.cmvs.it
SUMMARY:Un mercoledì da Museo 22 Giugno
DESCRIPTION:Un mercoledì da museo \nLaboratori e giochi didattici ogni mercoledì in concomitanza con il mercato settimanale di Gavardo \n  \n15\, 22\, 29 giugno e 6\, 13\, 20\, 27 luglio – dalle 10:00 alle 11:30 \nPer bimbi e bimbe dai 6 agli 11 anni \n  \nNON è necessaria la prenotazione \n  \nCosto \n4 euro bambino (abbonamento a 3 mercoledì 10 euro – abbonamento a 5 mercoledì 15 euro)
URL:https://sistemamuseale.cmvs.it/event/un-mercoledi-da-museo-22-06/
LOCATION:museo archeologico della valle sabbia\, Piazza S. Bernardino\, 5\, Gavardo\, BS\, 25085\, Italia
CATEGORIES:Laboratori
ATTACH;FMTTYPE=image/png:https://sistemamuseale.cmvs.it/wp-content/uploads/2022/06/un-mercoledi-da-museo_giugno-luglio-2022.png
END:VEVENT
BEGIN:VEVENT
DTSTART;TZID=Europe/Rome:20220629T100000
DTEND;TZID=Europe/Rome:20220629T113000
DTSTAMP:20260425T145435
CREATED:20220615T073558Z
LAST-MODIFIED:20220615T073558Z
UID:1041-1656496800-1656502200@sistemamuseale.cmvs.it
SUMMARY:Un mercoledì da Museo 29 Giugno
DESCRIPTION:Un mercoledì da museo \nLaboratori e giochi didattici ogni mercoledì in concomitanza con il mercato settimanale di Gavardo \n  \n15\, 22\, 29 giugno e 6\, 13\, 20\, 27 luglio – dalle 10:00 alle 11:30 \nPer bimbi e bimbe dai 6 agli 11 anni \n  \nNON è necessaria la prenotazione \n  \nCosto \n4 euro bambino (abbonamento a 3 mercoledì 10 euro – abbonamento a 5 mercoledì 15 euro)
URL:https://sistemamuseale.cmvs.it/event/un-mercoledi-da-museo-29-06/
LOCATION:museo archeologico della valle sabbia\, Piazza S. Bernardino\, 5\, Gavardo\, BS\, 25085\, Italia
CATEGORIES:Laboratori
ATTACH;FMTTYPE=image/png:https://sistemamuseale.cmvs.it/wp-content/uploads/2022/06/un-mercoledi-da-museo_giugno-luglio-2022.png
END:VEVENT
END:VCALENDAR