BEGIN:VCALENDAR
VERSION:2.0
PRODID:-//Sistema Museale - ECPv5.14.0.4//NONSGML v1.0//EN
CALSCALE:GREGORIAN
METHOD:PUBLISH
X-WR-CALNAME:Sistema Museale
X-ORIGINAL-URL:https://sistemamuseale.cmvs.it
X-WR-CALDESC:Events for Sistema Museale
REFRESH-INTERVAL;VALUE=DURATION:PT1H
X-Robots-Tag:noindex
X-PUBLISHED-TTL:PT1H
BEGIN:VTIMEZONE
TZID:Europe/Rome
BEGIN:DAYLIGHT
TZOFFSETFROM:+0100
TZOFFSETTO:+0200
TZNAME:CEST
DTSTART:20220327T010000
END:DAYLIGHT
BEGIN:STANDARD
TZOFFSETFROM:+0200
TZOFFSETTO:+0100
TZNAME:CET
DTSTART:20221030T010000
END:STANDARD
END:VTIMEZONE
BEGIN:VEVENT
DTSTART;TZID=Europe/Rome:20220702T143000
DTEND;TZID=Europe/Rome:20220702T170000
DTSTAMP:20260425T131635
CREATED:20220615T080945Z
LAST-MODIFIED:20220615T080945Z
UID:1057-1656772200-1656781200@sistemamuseale.cmvs.it
SUMMARY:Giochi Ingegnosi per bambini curiosi
DESCRIPTION:Sabato 2 Luglio ore 14:30 – Workshop per Famiglie con bambini (5+) \nInsieme faremo un salto nel passato alla scoperta dei giocattoli di una volta \n  \nL’attività è su prenotazione via Whatsapp al 339 7687463
URL:https://sistemamuseale.cmvs.it/event/giochi-ingegnosi-per-bambini-curiosi/
LOCATION:Museo della Civiltà contadina e degli antichi mestieri – Sabbio Chiese\, Piazza Rocca\, Sabbio Chiese\, BS\, 25070\, Italia
CATEGORIES:Laboratori
ATTACH;FMTTYPE=image/jpeg:https://sistemamuseale.cmvs.it/wp-content/uploads/2022/06/IMG_4301.jpg
ORGANIZER;CN="Museo%20della%20civilt%C3%A0%20contadina%20e%20dei%20mestieri%20Enrico%20Morelli":MAILTO:museoetnografico@comune.sabbio.bs.it
END:VEVENT
BEGIN:VEVENT
DTSTART;TZID=Europe/Rome:20220703T150000
DTEND;TZID=Europe/Rome:20220703T163000
DTSTAMP:20260425T131635
CREATED:20220629T065029Z
LAST-MODIFIED:20220629T065029Z
UID:1076-1656860400-1656865800@sistemamuseale.cmvs.it
SUMMARY:Scavando di impara: alla scoperta del mestiere dell'Archeologo
DESCRIPTION:Nuovo appuntamento domenicale per piccoli archeologi ed archeologhe del MAVS! \n Domenica 3 luglio 2022\n Due turni: ore 15:00 e 16:30\nArea archeologica del Lucone di Polpenazze – Via lago Lucone (Polpenazze del Garda) – link Google Maps: https://goo.gl/maps/PeoBLDttZvXXSXv2A \n❝ SCAVANDO SI IMPARA: ALLA SCOPERTA DEL MESTIERE DELL’ARCHEOLOGO ❞\nVisita guidata agli scavi del Lucone di Polpenazze e laboratorio di scavo simulato. \n Quota di partecipazione: 2€/partecipante (comprensivo di ticket di ingresso ed attività)\n Per bimbi dai 6 agli 11 anni\n—\n☛ Posti limitati: prenotazione necessaria ☚\n✎ Modulo di prenotazione online: https://forms.gle/ar9vhsbaCiKpvsE48 \nPer info:\n 0365.371474 (lunedì-venerdì ore 9:30-12:30) // 338.9336451\n info@museoarcheologicogavardo.it\n___\n*Attività in collaborazione con La Melagrana
URL:https://sistemamuseale.cmvs.it/event/scavando-di-impara-alla-scoperta-del-mestiere-dellarcheologo/
LOCATION:Area archeologica del Lucone di Polpenazze\, Via lago Lucone\, Polpenazze del Garda\, 25080\, Italia
CATEGORIES:Laboratori
ATTACH;FMTTYPE=image/png:https://sistemamuseale.cmvs.it/wp-content/uploads/2022/06/image008.png
END:VEVENT
BEGIN:VEVENT
DTSTART;TZID=Europe/Rome:20220706T100000
DTEND;TZID=Europe/Rome:20220706T113000
DTSTAMP:20260425T131635
CREATED:20220615T073753Z
LAST-MODIFIED:20220615T073753Z
UID:1043-1657101600-1657107000@sistemamuseale.cmvs.it
SUMMARY:Un mercoledì da Museo 6 Luglio
DESCRIPTION:Un mercoledì da museo \nLaboratori e giochi didattici ogni mercoledì in concomitanza con il mercato settimanale di Gavardo \n  \n15\, 22\, 29 giugno e 6\, 13\, 20\, 27 luglio – dalle 10:00 alle 11:30 \nPer bimbi e bimbe dai 6 agli 11 anni \n  \nNON è necessaria la prenotazione \n  \nCosto \n4 euro bambino (abbonamento a 3 mercoledì 10 euro – abbonamento a 5 mercoledì 15 euro)
URL:https://sistemamuseale.cmvs.it/event/un-mercoledi-da-museo-6-07/
LOCATION:museo archeologico della valle sabbia\, Piazza S. Bernardino\, 5\, Gavardo\, BS\, 25085\, Italia
CATEGORIES:Laboratori
ATTACH;FMTTYPE=image/png:https://sistemamuseale.cmvs.it/wp-content/uploads/2022/06/un-mercoledi-da-museo_giugno-luglio-2022.png
END:VEVENT
BEGIN:VEVENT
DTSTART;TZID=Europe/Rome:20220710T150000
DTEND;TZID=Europe/Rome:20220710T170000
DTSTAMP:20260425T131635
CREATED:20220704T194351Z
LAST-MODIFIED:20220706T103651Z
UID:948-1657465200-1657472400@sistemamuseale.cmvs.it
SUMMARY:Ferro\, acqua e fuoco. Alla scoperta della Fucina di Pamparane
DESCRIPTION:Fucina di Pamparane – Odolo 10 luglio \nVisita guidata alla fucina e creazione di un libretto pop up con immagini di strumenti e materiali legati all’antica lavorazione del ferro. \nL’attività è gratuita. \nI minori devono essere accompagnati da un adulto. \n  \nPer poter accedere alla Mappa cliccare QUI \n  \nVi aspettiamo numerosi\, la prenotazione è obbligatoria tramite mail: didattica@lamelagrana.it \nPer maggiori informazioni: 3389336551
URL:https://sistemamuseale.cmvs.it/event/ferro-acqua-e-fuoco-alla-scoperta-della-fucina-di-pamparane/
LOCATION:museo del ferro\, Via M. D'Azeglio\, 25076 Odolo BS\, Odolo\, Brescia\, 25076\, Italia
CATEGORIES:Laboratori
ATTACH;FMTTYPE=image/png:https://sistemamuseale.cmvs.it/wp-content/uploads/2022/06/Domenica-10.png
END:VEVENT
BEGIN:VEVENT
DTSTART;TZID=Europe/Rome:20220713T093000
DTEND;TZID=Europe/Rome:20220713T120000
DTSTAMP:20260425T131635
CREATED:20220711T094342Z
LAST-MODIFIED:20220711T094342Z
UID:1171-1657704600-1657713600@sistemamuseale.cmvs.it
SUMMARY:Esplorando la rocca - Percorso tematico e laboratorio
DESCRIPTION:Mercoledi 13 Luglio alle ore 9:30 presso la “Rocca d’Anfo” si svolgerà un percorso di visita alla parte veneziana e alla batteria Tirolo e a seguire laboratorio dedicato alla scoperta e ricostruzione dell’equipaggiamento del soldato confrontato con quello del moderno escursionista. \n\n\nTutte le attività sono gratuite \ni minori devono essere accompagnati da un adulto \nPer informazioni: \nCooperativa la MELAGRANA: 338 9336451 \nPrenotazione obbligatoria tramite mail all’indirizzo: didattica@lamelagrana.it
URL:https://sistemamuseale.cmvs.it/event/esplorando-la-rocca-percorso-tematico-e-laboratorio/
LOCATION:Parco della Rocca D’Anfo\, SS 237 c/o Rocca d'Anfo\, Anfo\, 25080\, Italia
CATEGORIES:Laboratori,Visita Guidata
ATTACH;FMTTYPE=image/png:https://sistemamuseale.cmvs.it/wp-content/uploads/2022/07/Mercoledì-13.png
ORGANIZER;CN="Cooperativa%20La%20Melagrana":MAILTO:didattica@lamelagrana.it
END:VEVENT
BEGIN:VEVENT
DTSTART;TZID=Europe/Rome:20220713T100000
DTEND;TZID=Europe/Rome:20220713T113000
DTSTAMP:20260425T131635
CREATED:20220615T073943Z
LAST-MODIFIED:20220615T073943Z
UID:1045-1657706400-1657711800@sistemamuseale.cmvs.it
SUMMARY:Un mercoledì da Museo 13 Luglio
DESCRIPTION:Un mercoledì da museo \nLaboratori e giochi didattici ogni mercoledì in concomitanza con il mercato settimanale di Gavardo \n  \n15\, 22\, 29 giugno e 6\, 13\, 20\, 27 luglio – dalle 10:00 alle 11:30 \nPer bimbi e bimbe dai 6 agli 11 anni \n  \nNON è necessaria la prenotazione \n  \nCosto \n4 euro bambino (abbonamento a 3 mercoledì 10 euro – abbonamento a 5 mercoledì 15 euro)
URL:https://sistemamuseale.cmvs.it/event/un-mercoledi-da-museo-13-07/
LOCATION:museo archeologico della valle sabbia\, Piazza S. Bernardino\, 5\, Gavardo\, BS\, 25085\, Italia
CATEGORIES:Laboratori
ATTACH;FMTTYPE=image/png:https://sistemamuseale.cmvs.it/wp-content/uploads/2022/06/un-mercoledi-da-museo_giugno-luglio-2022.png
END:VEVENT
BEGIN:VEVENT
DTSTART;TZID=Europe/Rome:20220714T150000
DTEND;TZID=Europe/Rome:20220714T170000
DTSTAMP:20260425T131635
CREATED:20220711T095442Z
LAST-MODIFIED:20220713T110308Z
UID:1183-1657810800-1657818000@sistemamuseale.cmvs.it
SUMMARY:Ordito e trame - La tessitura nel passato
DESCRIPTION:Giovedi 14 Luglio alle ore 15 presso la raccolta etnografica “Habitar in sta terra”a Bagolino si svolgerà una  visita alla mostra dedicata alla tessitura ospitata nella casa museo e laboratorio di creazione di una piccola porzione di tessuto utilizzando il telaio\n\n\nTutte le attività sono gratuite \ni minori devono essere accompagnati da un adulto \nPer informazioni: \nCooperativa la MELAGRANA: 338 9336451 \nPrenotazione obbligatoria tramite mail all’indirizzo: didattica@lamelagrana.it
URL:https://sistemamuseale.cmvs.it/event/ordito-e-trame-la-tessitura-nel-passato/
LOCATION:Casa Museo\, Via Madonna di San Luca 47\, Bagolino\, 25072\, Italia
CATEGORIES:Laboratori,Visita Guidata
ATTACH;FMTTYPE=image/png:https://sistemamuseale.cmvs.it/wp-content/uploads/2022/07/Giovedì-14.png
ORGANIZER;CN="Cooperativa%20La%20Melagrana":MAILTO:didattica@lamelagrana.it
END:VEVENT
BEGIN:VEVENT
DTSTART;TZID=Europe/Rome:20220717T150000
DTEND;TZID=Europe/Rome:20220717T170000
DTSTAMP:20260425T131635
CREATED:20220711T093959Z
LAST-MODIFIED:20220713T110336Z
UID:951-1658070000-1658077200@sistemamuseale.cmvs.it
SUMMARY:Macchinari e utensili. Gioco a tappe alla scoperta del Museo
DESCRIPTION:Domenica 17  Luglio alle ore 15 presso il “museo del lavoro” di Vestone si svolgerà il laboratorio Macchinari ed utensili gioco a tappe alla scoperta del museo con Visita al museo attraverso un percorso a tappe con giochi enigmistici\, puzzle\, indovinelli per scoprire reperti significativi della collezione \n\n  \n\n\n  \n\n\nTutte le attività sono gratuite \ni minori devono essere accompagnati da un adulto \nPer informazioni: \nCooperativa la MELAGRANA: 338 9336451 \nPrenotazione obbligatoria tramite mail all’indirizzo: didattica@lamelagrana.it
URL:https://sistemamuseale.cmvs.it/event/macchinari-e-utensili-gioco-a-tappe-alla-scoperta-del-museo/
LOCATION:Museo del Lavoro – Vestone\, Vestone\, BS\, 25078\, Italia
CATEGORIES:Laboratori,Visita Guidata
ATTACH;FMTTYPE=image/png:https://sistemamuseale.cmvs.it/wp-content/uploads/2022/07/Domenica-17.png
ORGANIZER;CN="Cooperativa%20La%20Melagrana":MAILTO:didattica@lamelagrana.it
END:VEVENT
BEGIN:VEVENT
DTSTART;TZID=Europe/Rome:20220720T093000
DTEND;TZID=Europe/Rome:20220720T120000
DTSTAMP:20260425T131635
CREATED:20220711T094607Z
LAST-MODIFIED:20220711T094607Z
UID:1174-1658309400-1658318400@sistemamuseale.cmvs.it
SUMMARY:Esplorando la rocca - Percorso tematico e laboratorio
DESCRIPTION:Mercoledi 20  Luglio alle ore 9:30 presso la “rocca di Anfo” si svolgerà un percorso di visita alla parte veneziana e alla batteria Tirolo e a seguire laboratorio dedicato alla scoperta e ricostruzione dell’equipaggiamento del soldato confrontato con quello del moderno escursionista. \n\n\nTutte le attività sono gratuite \ni minori devono essere accompagnati da un adulto \nPer informazioni: \nCooperativa la MELAGRANA: 338 9336451 \nPrenotazione obbligatoria tramite mail all’indirizzo: didattica@lamelagrana.it
URL:https://sistemamuseale.cmvs.it/event/esplorando-la-rocca-percorso-tematico-e-laboratorio-2/
LOCATION:Parco della Rocca D’Anfo\, SS 237 c/o Rocca d'Anfo\, Anfo\, 25080\, Italia
CATEGORIES:Laboratori,Visita Guidata
ATTACH;FMTTYPE=image/png:https://sistemamuseale.cmvs.it/wp-content/uploads/2022/07/Mercoledì-20.png
ORGANIZER;CN="Cooperativa%20La%20Melagrana":MAILTO:didattica@lamelagrana.it
END:VEVENT
BEGIN:VEVENT
DTSTART;TZID=Europe/Rome:20220720T100000
DTEND;TZID=Europe/Rome:20220720T113000
DTSTAMP:20260425T131635
CREATED:20220615T074127Z
LAST-MODIFIED:20220615T074127Z
UID:1047-1658311200-1658316600@sistemamuseale.cmvs.it
SUMMARY:Un mercoledì da Museo 20 Luglio
DESCRIPTION:Un mercoledì da museo \nLaboratori e giochi didattici ogni mercoledì in concomitanza con il mercato settimanale di Gavardo \n  \n15\, 22\, 29 giugno e 6\, 13\, 20\, 27 luglio – dalle 10:00 alle 11:30 \nPer bimbi e bimbe dai 6 agli 11 anni \n  \nNON è necessaria la prenotazione \n  \nCosto \n4 euro bambino (abbonamento a 3 mercoledì 10 euro – abbonamento a 5 mercoledì 15 euro)
URL:https://sistemamuseale.cmvs.it/event/un-mercoledi-da-museo-20-07/
LOCATION:BS
CATEGORIES:Laboratori
ATTACH;FMTTYPE=image/png:https://sistemamuseale.cmvs.it/wp-content/uploads/2022/06/un-mercoledi-da-museo_giugno-luglio-2022.png
END:VEVENT
BEGIN:VEVENT
DTSTART;TZID=Europe/Rome:20220724T150000
DTEND;TZID=Europe/Rome:20220724T170000
DTSTAMP:20260425T131635
CREATED:20220704T194953Z
LAST-MODIFIED:20220711T095006Z
UID:957-1658674800-1658682000@sistemamuseale.cmvs.it
SUMMARY:Vita al fronte. Gioco a tappe alla scoperta dei reperti del museo
DESCRIPTION:Domenica 24 Luglio alle ore 15 presso il “museo dei reperti bellici” di Capovalle si svolgerà una visita al museo attraverso un percorso a tappe con giochi enigmistici\, puzzle\, indovinelli per scoprire reperti significativi della collezione\n\n\nTutte le attività sono gratuite \ni minori devono essere accompagnati da un adulto \nPer informazioni: \nCooperativa la MELAGRANA: 338 9336451 \nPrenotazione obbligatoria tramite mail all’indirizzo: didattica@lamelagrana.it
URL:https://sistemamuseale.cmvs.it/event/vita-al-fronte-gioco-a-tappe-alla-scoperta-dei-reperti-del-museo/
LOCATION:Museo dei reperti bellici – Capovalle\, Via XXIV Maggio\, 9\, Capovalle\, BS\, 25070\, Italia
CATEGORIES:Laboratori,Visita Guidata
ATTACH;FMTTYPE=image/png:https://sistemamuseale.cmvs.it/wp-content/uploads/2022/06/Domenica-24.png
ORGANIZER;CN="Sistema%20Museale%20Valle%20Sabbia":MAILTO:sistemamuseale@cmvs.it
END:VEVENT
BEGIN:VEVENT
DTSTART;TZID=Europe/Rome:20220727T093000
DTEND;TZID=Europe/Rome:20220727T120000
DTSTAMP:20260425T131635
CREATED:20220711T094808Z
LAST-MODIFIED:20220711T094808Z
UID:1177-1658914200-1658923200@sistemamuseale.cmvs.it
SUMMARY:Esplorando la rocca - Percorso tematico e laboratorio
DESCRIPTION:Mercoledi 27  Luglio alle ore 9:30 presso la “rocca di Anfo” si svolgerà un percorso di visita alla parte veneziana e alla batteria Tirolo e a seguire laboratorio dedicato alla scoperta e ricostruzione dell’equipaggiamento del soldato confrontato con quello del moderno escursionista. \n\n\nTutte le attività sono gratuite \ni minori devono essere accompagnati da un adulto \nPer informazioni: \nCooperativa la MELAGRANA: 338 9336451 \nPrenotazione obbligatoria tramite mail all’indirizzo: didattica@lamelagrana.it
URL:https://sistemamuseale.cmvs.it/event/esplorando-la-rocca-percorso-tematico-e-laboratorio-3/
LOCATION:Parco della Rocca D’Anfo\, SS 237 c/o Rocca d'Anfo\, Anfo\, 25080\, Italia
CATEGORIES:Laboratori,Visita Guidata
ATTACH;FMTTYPE=image/png:https://sistemamuseale.cmvs.it/wp-content/uploads/2022/07/Mercoledì-27.png
ORGANIZER;CN="Cooperativa%20La%20Melagrana":MAILTO:didattica@lamelagrana.it
END:VEVENT
BEGIN:VEVENT
DTSTART;TZID=Europe/Rome:20220727T100000
DTEND;TZID=Europe/Rome:20220727T113000
DTSTAMP:20260425T131635
CREATED:20220615T074255Z
LAST-MODIFIED:20220615T074255Z
UID:1049-1658916000-1658921400@sistemamuseale.cmvs.it
SUMMARY:Un mercoledì da Museo 27 Luglio
DESCRIPTION:Un mercoledì da museo \nLaboratori e giochi didattici ogni mercoledì in concomitanza con il mercato settimanale di Gavardo \n  \n15\, 22\, 29 giugno e 6\, 13\, 20\, 27 luglio – dalle 10:00 alle 11:30 \nPer bimbi e bimbe dai 6 agli 11 anni \n  \nNON è necessaria la prenotazione \n  \nCosto \n4 euro bambino (abbonamento a 3 mercoledì 10 euro – abbonamento a 5 mercoledì 15 euro)
URL:https://sistemamuseale.cmvs.it/event/un-mercoledi-da-museo-27-luglio/
LOCATION:museo archeologico della valle sabbia\, Piazza S. Bernardino\, 5\, Gavardo\, BS\, 25085\, Italia
CATEGORIES:Laboratori
ATTACH;FMTTYPE=image/png:https://sistemamuseale.cmvs.it/wp-content/uploads/2022/06/un-mercoledi-da-museo_giugno-luglio-2022.png
END:VEVENT
BEGIN:VEVENT
DTSTART;TZID=Europe/Rome:20220728T150000
DTEND;TZID=Europe/Rome:20220728T170000
DTSTAMP:20260425T131635
CREATED:20220711T095753Z
LAST-MODIFIED:20220713T110155Z
UID:1186-1659020400-1659027600@sistemamuseale.cmvs.it
SUMMARY:Ferro\, Acqua e fuoco - Alla scoperta della fucina
DESCRIPTION:Giovedì 28 Luglio alle ore 15 presso il museo del ferro “fucina di Pamparane” di Odolo si svolgerà il laboratorio Ferro\, Acqua e fuoco Alla scoperta della fucina con Visita guidata alla fucina e creazione di un libretto pop up con immagini di strumenti e materiali legati all’antica lavorazione del ferro. \n\n  \nTutte le attività sono gratuite \ni minori devono essere accompagnati da un adulto \nPer informazioni: \nCooperativa la MELAGRANA: 338 9336451 \nPrenotazione obbligatoria tramite mail all’indirizzo: didattica@lamelagrana.it
URL:https://sistemamuseale.cmvs.it/event/ferro-acqua-e-fuoco-alla-scoperta-della-fucina/
LOCATION:museo del ferro\, Via M. D'Azeglio\, 25076 Odolo BS\, Odolo\, Brescia\, 25076\, Italia
CATEGORIES:Apertura Straordinaria,Laboratori,Visita Guidata
ATTACH;FMTTYPE=image/png:https://sistemamuseale.cmvs.it/wp-content/uploads/2022/07/Giovedì-28.png
ORGANIZER;CN="Cooperativa%20La%20Melagrana":MAILTO:didattica@lamelagrana.it
END:VEVENT
BEGIN:VEVENT
DTSTART;TZID=Europe/Rome:20220730T150000
DTEND;TZID=Europe/Rome:20220730T170000
DTSTAMP:20260425T131635
CREATED:20220704T194127Z
LAST-MODIFIED:20220713T110129Z
UID:954-1659193200-1659200400@sistemamuseale.cmvs.it
SUMMARY:RicicliAmo - L'arte del riciclo nella civiltà contadina
DESCRIPTION:Sabato 30 Luglio alle ore 15 presso il ” museo della civiltà contadina e degli antichi mestieri” di Sabbio Chiese si svolgerà una visita al museo e laboratorio durante il quale i partecipanti sperimenteranno l utilizzo di oggetti e materiali d’uso del passato dando vita a inusuali opere d’arte.\n\n  \n\n\n\nTutte le attività sono gratuite \ni minori devono essere accompagnati da un adulto \nPer informazioni: \nCooperativa la MELAGRANA: 338 9336451 \nPrenotazione obbligatoria tramite mail all’indirizzo: didattica@lamelagrana.it
URL:https://sistemamuseale.cmvs.it/event/ricicliamo-larte-del-riciclo-nella-civilta-contadina/
LOCATION:Museo della Civiltà contadina e degli antichi mestieri – Sabbio Chiese\, Piazza Rocca\, Sabbio Chiese\, BS\, 25070\, Italia
CATEGORIES:Laboratori,Visita Guidata
ATTACH;FMTTYPE=image/png:https://sistemamuseale.cmvs.it/wp-content/uploads/2022/06/Sabato-30.png
ORGANIZER;CN="Sistema%20Museale%20Valle%20Sabbia":MAILTO:sistemamuseale@cmvs.it
END:VEVENT
END:VCALENDAR