BEGIN:VCALENDAR
VERSION:2.0
PRODID:-//Sistema Museale - ECPv5.14.0.4//NONSGML v1.0//EN
CALSCALE:GREGORIAN
METHOD:PUBLISH
X-WR-CALNAME:Sistema Museale
X-ORIGINAL-URL:https://sistemamuseale.cmvs.it
X-WR-CALDESC:Events for Sistema Museale
REFRESH-INTERVAL;VALUE=DURATION:PT1H
X-Robots-Tag:noindex
X-PUBLISHED-TTL:PT1H
BEGIN:VTIMEZONE
TZID:Europe/Rome
BEGIN:DAYLIGHT
TZOFFSETFROM:+0100
TZOFFSETTO:+0200
TZNAME:CEST
DTSTART:20240331T010000
END:DAYLIGHT
BEGIN:STANDARD
TZOFFSETFROM:+0200
TZOFFSETTO:+0100
TZNAME:CET
DTSTART:20241027T010000
END:STANDARD
END:VTIMEZONE
BEGIN:VEVENT
DTSTART;TZID=Europe/Rome:20240107T150000
DTEND;TZID=Europe/Rome:20240107T170000
DTSTAMP:20260424T060639
CREATED:20240103T082715Z
LAST-MODIFIED:20240103T084848Z
UID:1998-1704639600-1704646800@sistemamuseale.cmvs.it
SUMMARY:Le tavolette lignee del MAVS - laboratorio per bambini
DESCRIPTION:Nuovo appuntamento nell’ambito della rassegna “MAVS for KIDS”\, il ciclo di iniziative del Museo Archeologico della Valle Sabbia dedicate ai più piccoli. \nDomenica 7 gennaio\, alle ore 15\, nella sede di piazza San Bernardino a Gavardo è in programma lo speciale evento Le tavolette lignee del MAVS\, un laboratorio creativo alla scoperta della bellezza del legno dipinto. \nLe 19 tavolette lignee\, sono state scoperte nel 1979\, nelle travature di una delle stanze dell’edificio sede del museo in occasione dei restauri per adibire i locali a sale espositive. Rappresentano 6 stemmi araldici\, 7 virtù e 6 vizi e sono state datate alla seconda metà del XV secolo. \nL’iniziativa\, curata dai servizi educativi del MAVS in collaborazione con le educatrici della Cooperativa La Melagrana\, ha un costo di 2 euro a partecipante ed è rivolta alle bimbe e ai bimbi dai 6 agli 11 anni accompagnati. È richiesta la prenotazione tramite modulo Google. \nPer ulteriori informazioni è possibile telefonare ai numeri 0365.371474 (dal martedì al venerdì\, dalle 9.00 alle 13.00\, il giovedì anche dalle 14.00 alle 17.00 e la domenica dalle 14.30 alle 18.30)\, 338.9336451\, oppure inviare una mail a info@museoarcheologicogavardo.it.
URL:https://sistemamuseale.cmvs.it/event/tavolette-lignee-del-mavs-laboratorio-per-bambini/
LOCATION:museo archeologico della valle sabbia\, Piazza S. Bernardino\, 5\, Gavardo\, BS\, 25085\, Italia
CATEGORIES:Laboratori,Visita Guidata
ATTACH;FMTTYPE=image/png:https://sistemamuseale.cmvs.it/wp-content/uploads/2024/01/7gennaio-locandina-sito.png
END:VEVENT
END:VCALENDAR