BEGIN:VCALENDAR
VERSION:2.0
PRODID:-//Sistema Museale - ECPv5.14.0.4//NONSGML v1.0//EN
CALSCALE:GREGORIAN
METHOD:PUBLISH
X-WR-CALNAME:Sistema Museale
X-ORIGINAL-URL:https://sistemamuseale.cmvs.it
X-WR-CALDESC:Events for Sistema Museale
REFRESH-INTERVAL;VALUE=DURATION:PT1H
X-Robots-Tag:noindex
X-PUBLISHED-TTL:PT1H
BEGIN:VTIMEZONE
TZID:Europe/Rome
BEGIN:DAYLIGHT
TZOFFSETFROM:+0100
TZOFFSETTO:+0200
TZNAME:CEST
DTSTART:20240331T010000
END:DAYLIGHT
BEGIN:STANDARD
TZOFFSETFROM:+0200
TZOFFSETTO:+0100
TZNAME:CET
DTSTART:20241027T010000
END:STANDARD
END:VTIMEZONE
BEGIN:VEVENT
DTSTART;TZID=Europe/Rome:20240303T150000
DTEND;TZID=Europe/Rome:20240303T170000
DTSTAMP:20260424T020512
CREATED:20240221T104811Z
LAST-MODIFIED:20240306T121210Z
UID:2058-1709478000-1709485200@sistemamuseale.cmvs.it
SUMMARY:Domenica al MAVS. Gli animali del buco del frate
DESCRIPTION:Una nuova Domenica al museo! \nAttività creativa/laboratorio dedicata a bambine e bambini dai 4 agli 11 anni alla scoperta degli animali della grotta del buco del frate… orsi\, lupi e tanto altro! \nCosto 2€ a persona\nMinori accompagnati\nI posti sono limitati\, prenotazione necessaria a questo link. \nPer info contattare il Museo di Gavardo.\n*Evento in collaborazione con La Melagrana
URL:https://sistemamuseale.cmvs.it/event/gli-animali-del-buco-del-frate-al-mavs/
LOCATION:Gavardo
CATEGORIES:Laboratori,Visita Guidata
ATTACH;FMTTYPE=image/png:https://sistemamuseale.cmvs.it/wp-content/uploads/2024/02/3-marzo_animali-del-buco-del-frate_locandina-sito.png
END:VEVENT
END:VCALENDAR