BEGIN:VCALENDAR
VERSION:2.0
PRODID:-//Sistema Museale - ECPv5.14.0.4//NONSGML v1.0//EN
CALSCALE:GREGORIAN
METHOD:PUBLISH
X-WR-CALNAME:Sistema Museale
X-ORIGINAL-URL:https://sistemamuseale.cmvs.it
X-WR-CALDESC:Events for Sistema Museale
REFRESH-INTERVAL;VALUE=DURATION:PT1H
X-Robots-Tag:noindex
X-PUBLISHED-TTL:PT1H
BEGIN:VTIMEZONE
TZID:Europe/Rome
BEGIN:DAYLIGHT
TZOFFSETFROM:+0100
TZOFFSETTO:+0200
TZNAME:CEST
DTSTART:20240331T010000
END:DAYLIGHT
BEGIN:STANDARD
TZOFFSETFROM:+0200
TZOFFSETTO:+0100
TZNAME:CET
DTSTART:20241027T010000
END:STANDARD
END:VTIMEZONE
BEGIN:VEVENT
DTSTART;TZID=Europe/Rome:20240901T150000
DTEND;TZID=Europe/Rome:20240901T170000
DTSTAMP:20260423T141139
CREATED:20240820T132950Z
LAST-MODIFIED:20240821T094017Z
UID:2484-1725202800-1725210000@sistemamuseale.cmvs.it
SUMMARY:METALLURGIA AL LUCONE! #Mavs4kids
DESCRIPTION:Nuovo appuntamento domenicale per i piccoli archeologi ed archeologhe del MAVS e le loro famiglie! \nVisita e laboratorio creativo alla scoperta dei metalli nella preistoria! \n  \nDomenica 1 settembre 2024 ore 15:00 \nPer bimbi dai 6 agli 11 anni (minori accompagnati) \nPresso il sito archeologico del Lucone di Polpenazze\, via Lago Lucone Polpenazze del Garda \nIn caso di maltempo l’attività verrà annullata o spostata presso il Museo di Gavardo \n  \nAttività gratuita. Prenotazione necessaria: posti soggetti a disponibilità limitata \nModulo di prenotazione online: https://form.jotform.com/242212768446358 \nPer info: \n0365.371474 (lunedì-venerdì ore 9.00-13.00) \ninfo@museoarcheologicogavardo.it \n*Attività in collaborazione con La Melagrana
URL:https://sistemamuseale.cmvs.it/event/metallurgia/
LOCATION:Area archeologica del Lucone di Polpenazze\, Via lago Lucone\, Polpenazze del Garda\, 25080\, Italia
CATEGORIES:Apertura Straordinaria,Attività Ludica,Laboratori,Visita Guidata
ATTACH;FMTTYPE=image/png:https://sistemamuseale.cmvs.it/wp-content/uploads/2024/08/METALLURGIA-AL-LUCONE_new-1-settembre.png
END:VEVENT
BEGIN:VEVENT
DTSTART;TZID=Europe/Rome:20240908T150000
DTEND;TZID=Europe/Rome:20240908T170000
DTSTAMP:20260423T141139
CREATED:20240830T080448Z
LAST-MODIFIED:20240904T065218Z
UID:2508-1725807600-1725814800@sistemamuseale.cmvs.it
SUMMARY:Laboratorio Parole come...Ponti - Per segni e per scritture
DESCRIPTION:In occasione della Giornata Mondiale dell’Alfabetizzazione varie iniziative presso il Museo degli Stampatori «da Sabbio» e il MAVS. \nLaboratorio per bambini (6+) Parole come… Ponti\na cura dei servizi educativi del museo Sabbio Chiese\, domenica 8 settembre 2024\, ore 15 \nPer info e iscrizioni:\nMuseo Stampatori «da Sabbio» www.museostampatorisabbio.it | cell. 338 1495924 (WhatsApp)\nMAVS Gavardo museoarcheologicogavardo.it | tel. 0365 371474 (in orari di apertura)
URL:https://sistemamuseale.cmvs.it/event/per-segni-e-per-scritture-alfabeti-attraverso-i-secoli-4/
LOCATION:Museo Stampatori “Da Sabbio”\, Via Parrocchiale\, 13\, Sabbio Chiese\, BS\, 25070\, Italia
CATEGORIES:Apertura Straordinaria,Attività Ludica,Laboratori
ATTACH;FMTTYPE=image/jpeg:https://sistemamuseale.cmvs.it/wp-content/uploads/2024/08/sabbio-8-settembre.jpeg
END:VEVENT
BEGIN:VEVENT
DTSTART;TZID=Europe/Rome:20240915T150000
DTEND;TZID=Europe/Rome:20240915T170000
DTSTAMP:20260423T141139
CREATED:20240830T080402Z
LAST-MODIFIED:20240830T080402Z
UID:2511-1726412400-1726419600@sistemamuseale.cmvs.it
SUMMARY:Per segni e per scritture. Alfabeti attraverso i secoli
DESCRIPTION:In occasione della Giornata Mondiale dell’Alfabetizzazione varie iniziative presso il Museo degli Stampatori «da Sabbio» e il MAVS. \nLaboratorio per bambini (8+) Scripta Manent\na cura dei servizi educativi del museo\nGavardo\, MAVS – Museo Archeologico della Valle Sabbia\ndomenica 15 settembre 2024\, ore 15 \nPer info e iscrizioni:\nMuseo Stampatori «da Sabbio» www.museostampatorisabbio.it | cell. 338 1495924 (WhatsApp)\nMAVS Gavardo museoarcheologicogavardo.it | tel. 0365 371474 (in orari di apertura)
URL:https://sistemamuseale.cmvs.it/event/per-segni-e-per-scritture-alfabeti-attraverso-i-secoli-3/
LOCATION:museo archeologico della valle sabbia\, Piazza S. Bernardino\, 5\, Gavardo\, BS\, 25085\, Italia
CATEGORIES:Attività Ludica,Laboratori
ATTACH;FMTTYPE=image/jpeg:https://sistemamuseale.cmvs.it/wp-content/uploads/2024/08/Locandina_PerSegniePerScritture_page-0001.jpg
END:VEVENT
BEGIN:VEVENT
DTSTART;TZID=Europe/Rome:20240928T150000
DTEND;TZID=Europe/Rome:20240928T173000
DTSTAMP:20260423T141139
CREATED:20240724T121249Z
LAST-MODIFIED:20240828T135258Z
UID:2423-1727535600-1727544600@sistemamuseale.cmvs.it
SUMMARY:Sui passi della Resistenza - laboratorio bambini
DESCRIPTION:SUI PASSI DELLA RESISTENZA\, 28 SETTEMBRE – PERTICA BASSA MUSEO DELLA RESISTENZA (fraz. Forno d’Ono) IN OCCASIONE DELLE LE GIORNATE EUROPEE DEL PATRIMONIO 2 EVENTI GRATUITI \nVisita guidata con laboratorio dedicato ai ritratti (per bambini dai 5 anni)\, in contemporanea breve escursione per adulti sul Sentiero della Resistenza \nPer bambini: ritrovo in museo alle 14:45.\nNon è richiesta la presenza dei genitori (previa firma di liberatoria). A seguire merenda\, conclusione attività intorno alle 17:30. \nPer adulti: ritrovo al Municipio di Forno d’Ono alle ore 15:00.\nBreve trekking gratuito con guida escursionistica lungo il Sentiero della Resistenza\, visita guidata del Borgo di Spessio e del Museo della Resistenza di Pertica Bassa.\nLunghezza 5km\, dislivello 200mt. Attrezzatura richiesta: scarpe da trekking\, giacca a vento e pantaloni lunghi. \nEntrambi gli eventi\, come tutta la rassegna Museums and More in Valle Sabbia\, sono gratuiti con prenotazione obbligatoria.
URL:https://sistemamuseale.cmvs.it/event/sui-passi-della-resistenza-bambini/
LOCATION:Museo della Resistenza e del Folklore Valsabbino\, Via Roma 7\, Forno d'Ono\, 25078\, Italia
CATEGORIES:Apertura Straordinaria,Attività Ludica,Laboratori,Visita Guidata
ATTACH;FMTTYPE=image/png:https://sistemamuseale.cmvs.it/wp-content/uploads/2024/08/28-settembre-pertica-bassa-museo-resistenza-bambini.png
ORGANIZER;CN="Sistema%20Museale%20Valle%20Sabbia":MAILTO:sistemamuseale@cmvs.it
END:VEVENT
END:VCALENDAR