BEGIN:VCALENDAR
VERSION:2.0
PRODID:-//Sistema Museale - ECPv5.14.0.4//NONSGML v1.0//EN
CALSCALE:GREGORIAN
METHOD:PUBLISH
X-WR-CALNAME:Sistema Museale
X-ORIGINAL-URL:https://sistemamuseale.cmvs.it
X-WR-CALDESC:Events for Sistema Museale
REFRESH-INTERVAL;VALUE=DURATION:PT1H
X-Robots-Tag:noindex
X-PUBLISHED-TTL:PT1H
BEGIN:VTIMEZONE
TZID:Europe/Rome
BEGIN:DAYLIGHT
TZOFFSETFROM:+0100
TZOFFSETTO:+0200
TZNAME:CEST
DTSTART:20250330T010000
END:DAYLIGHT
BEGIN:STANDARD
TZOFFSETFROM:+0200
TZOFFSETTO:+0100
TZNAME:CET
DTSTART:20251026T010000
END:STANDARD
END:VTIMEZONE
BEGIN:VEVENT
DTSTART;TZID=Europe/Rome:20250104T100000
DTEND;TZID=Europe/Rome:20250104T120000
DTSTAMP:20260421T150803
CREATED:20241210T105219Z
LAST-MODIFIED:20241210T105902Z
UID:2665-1735984800-1735992000@sistemamuseale.cmvs.it
SUMMARY:Museums & More in Valle Sabbia. Laboratorio per bambini Giallo Zafferanone e Rosso Cartamo
DESCRIPTION:Laboratorio di tintura naturale a freddo con i fiori di Carthamus tinctorius \nBiblioteca di Vobarno \n4 gennaio 2025 | ore 10:00 \nNel corso del laboratorio i bambini e le bambine\, con l’aiuto delle loro famiglie\, potranno sperimentare una tecnica di tintura naturale a freddo.\nL’attività prevede la preparazione del “bagno colore” per la tintura che consiste nella spremitura manuale dei fiori in acqua. In un secondo momento\, il filato grezzo verrà immerso nel “bagno colore” e agitato con le mani permettendo al colorante di fissarsi stabilmente sulla superficie. Al termine del laboratorio\, il filato tinto con le proprie mani potrà essere portato a casa come ricordo e utilizzato come portachiavi. \nDurata: 2 ore circa.\nI bambini (età consigliata 5-12 anni) dovranno essere accompagnati da un adulto.\nAttività gratuita\, prenotazione obbligatoria\, fino a 24 ore prima dell’evento: 345 6192700 (solo whatsapp) oppure didattica@lamelagrana.it \nMuseums & More in Vallesabbia è una rassegna a cura del Sistema Museale della Valle Sabbia\, realizzata con il contributo di Regione Lombardia.
URL:https://sistemamuseale.cmvs.it/event/museums-more-in-valle-sabbia-laboratorio-per-bambini-giallo-zafferanone-e-rosso-cartamo/
LOCATION:Biblioteca Comunale di Vobarno\, Piazza Marina Corradini\, 6\, Vobarno\, 25079
CATEGORIES:Attività Ludica,Laboratori
ATTACH;FMTTYPE=image/png:https://sistemamuseale.cmvs.it/wp-content/uploads/2024/12/MM-vobarno-4-gen.png
ORGANIZER;CN="Sistema%20Museale%20Valle%20Sabbia":MAILTO:sistemamuseale@cmvs.it
END:VEVENT
BEGIN:VEVENT
DTSTART;TZID=Europe/Rome:20250112T150000
DTEND;TZID=Europe/Rome:20250112T170000
DTSTAMP:20260421T150803
CREATED:20250103T090735Z
LAST-MODIFIED:20250103T090735Z
UID:2698-1736694000-1736701200@sistemamuseale.cmvs.it
SUMMARY:MAVS 4 kids - Alla moda del passato: diamo vita al nostro monile preistorico!
DESCRIPTION:Ritorna un nuovo appuntamento nell’ambito della rassegna “MAVS for KIDS”\, il ciclo di iniziative del Museo Archeologico della Valle Sabbia dedicate ai più piccoli. \nDomenica 12 gennaio\, alle ore 15\, nella sede di piazza San Bernardino a Gavardo è in programma lo speciale evento “Alla moda del passato: diamo vita al nostro monile preistorico!”\, un laboratorio creativo alla scoperta degli antichi gioielli. \nL’iniziativa\, curata dai servizi educativi del MAVS in collaborazione con le educatrici della Cooperativa La Melagrana\, ha un costo di 2 euro a partecipante ed è rivolta alle bimbe e ai bimbi dai 6 agli 11 anni accompagnati. È richiesta la prenotazione tramite modulo Google reperibile sul sito web del museo \nPer ulteriori informazioni è possibile telefonare ai numeri 0365.371474 (dal martedì al venerdì\, dalle 9.00 alle 13.00\, il giovedì anche dalle 14.00 alle 17.00 e la domenica dalle 14.30 alle 18.30)\, oppure inviare una mail a info@museoarcheologicogavardo.it.
URL:https://sistemamuseale.cmvs.it/event/mavs-4-kids-alla-moda-del-passato-diamo-vita-al-nostro-monile-preistorico/
LOCATION:museo archeologico della valle sabbia\, Piazza S. Bernardino\, 5\, Gavardo\, BS\, 25085\, Italia
CATEGORIES:Attività Ludica,Laboratori,Visita Guidata
ATTACH;FMTTYPE=image/jpeg:https://sistemamuseale.cmvs.it/wp-content/uploads/2025/01/12-gennaio-2025.jpg
END:VEVENT
END:VCALENDAR