BEGIN:VCALENDAR
VERSION:2.0
PRODID:-//Sistema Museale - ECPv5.14.0.4//NONSGML v1.0//EN
CALSCALE:GREGORIAN
METHOD:PUBLISH
X-WR-CALNAME:Sistema Museale
X-ORIGINAL-URL:https://sistemamuseale.cmvs.it
X-WR-CALDESC:Events for Sistema Museale
REFRESH-INTERVAL;VALUE=DURATION:PT1H
X-Robots-Tag:noindex
X-PUBLISHED-TTL:PT1H
BEGIN:VTIMEZONE
TZID:Europe/Rome
BEGIN:DAYLIGHT
TZOFFSETFROM:+0100
TZOFFSETTO:+0200
TZNAME:CEST
DTSTART:20250330T010000
END:DAYLIGHT
BEGIN:STANDARD
TZOFFSETFROM:+0200
TZOFFSETTO:+0100
TZNAME:CET
DTSTART:20251026T010000
END:STANDARD
END:VTIMEZONE
BEGIN:VEVENT
DTSTART;TZID=Europe/Rome:20250504T150000
DTEND;TZID=Europe/Rome:20250504T170000
DTSTAMP:20260421T092519
CREATED:20250423T095219Z
LAST-MODIFIED:20250423T095219Z
UID:2763-1746370800-1746378000@sistemamuseale.cmvs.it
SUMMARY:Mavs 4 kids - Animali del MAVS
DESCRIPTION:Torna un nuovo appuntamento al Mavs nell’ambito delle domeniche dedicate alle famiglie e della rassegna “Mavs for Kids”. \nDomenica 4 maggio\, presso la sede di piazza San Bernardino a Gavardo\, si svolgerà l’evento “Gli animali del Mavs”\, un’attività di laboratorio in cui bambine e bambini saranno coinvolti nella scoperta degli animali che popolano il museo di Gavardo. \nL’orario di inizio è per le ore 15.00. \nL’iniziativa\, curata dal servizio didattico del MAVS in collaborazione con le operatrici de La Melagrana\, con un costo di partecipazione di 2 euro a persona\, è rivolta ai bimbi e alle bimbe dai 4 agli 11 anni accompagnati. \nI posti sono limitati\, pertanto la prenotazione è necessaria e potrà effettuarsi mediante il link del modulo online\, presente sul sito web del museo. \nPer ulteriori informazioni\, telefonare al 0365.371474 (dal lunedì al venerdì\, dalle 9.00 alle 13.00 e il giovedì anche dalle 14.00 alle 17.00)\, oppure inviare una mail a: info@museoarcheologicogavardo.it.
URL:https://sistemamuseale.cmvs.it/event/mavs-4-kids-animali-del-mavs/
LOCATION:museo archeologico della valle sabbia\, Piazza S. Bernardino\, 5\, Gavardo\, BS\, 25085\, Italia
CATEGORIES:Attività Ludica,Laboratori,Visita Guidata
ATTACH;FMTTYPE=image/png:https://sistemamuseale.cmvs.it/wp-content/uploads/2025/04/ANIMALI-DEL-MAVS_4-MAGGIO.png
END:VEVENT
BEGIN:VEVENT
DTSTART;TZID=Europe/Rome:20250510T143000
DTEND;TZID=Europe/Rome:20250510T160000
DTSTAMP:20260421T092519
CREATED:20250430T073143Z
LAST-MODIFIED:20250430T073143Z
UID:2766-1746887400-1746892800@sistemamuseale.cmvs.it
SUMMARY:Laboratorio per bambini "La stampa si fa con tutto - Stampare con... la colla"
DESCRIPTION:Il Museo Stampatori “Da Sabbio” è lieto di presentare un nuovo appuntamento dedicato alle famiglie con il laboratorio creativo La stampa si fa con tutto – Stampare con… la colla.\nSabato 10 maggio 2025 dalle 14:30\nEtà consigliata: Bambini dai 5 anni in su\, accompagnati da un adulto \nDurante questo laboratorio\, i partecipanti avranno l’opportunità di sperimentare una tecnica di stampa alternativa e sorprendente utilizzando la colla come strumento principale. Un’esperienza pratica che stimola la manualità e la creatività\, permettendo di scoprire come oggetti di uso quotidiano possano trasformarsi in strumenti artistici.\nL’attività è pensata per avvicinare i più giovani al mondo della stampa attraverso un approccio ludico e interattivo\, in linea con la missione educativa del nostro museo. \nIl laboratorio è completamente gratuito\nÈ necessaria la prenotazione tramite WhatsApp al numero 338 1495924\nTutti i materiali necessari saranno forniti dal museo
URL:https://sistemamuseale.cmvs.it/event/laboratorio-per-bambini-la-stampa-si-fa-con-tutto-stampare-con-la-colla/
LOCATION:Museo Stampatori “Da Sabbio”\, Via Parrocchiale\, 13\, Sabbio Chiese\, BS\, 25070\, Italia
CATEGORIES:Attività Ludica,Laboratori
ATTACH;FMTTYPE=image/jpeg:https://sistemamuseale.cmvs.it/wp-content/uploads/2025/04/museo-stampatori-10-maggio-lab.jpeg
END:VEVENT
BEGIN:VEVENT
DTSTART;TZID=Europe/Rome:20250525T150000
DTEND;TZID=Europe/Rome:20250525T170000
DTSTAMP:20260421T092519
CREATED:20250516T102928Z
LAST-MODIFIED:20250516T102928Z
UID:2774-1748185200-1748192400@sistemamuseale.cmvs.it
SUMMARY:A caccia di dipinti
DESCRIPTION:Attività per famiglie a Belprato\, nella locandina tutti i dettagli.
URL:https://sistemamuseale.cmvs.it/event/a-caccia-di-dipinti/
LOCATION:BS
CATEGORIES:Attività Ludica,Laboratori
ATTACH;FMTTYPE=image/jpeg:https://sistemamuseale.cmvs.it/wp-content/uploads/2025/05/belprato-25-maggio.jpeg
END:VEVENT
END:VCALENDAR