BEGIN:VCALENDAR
VERSION:2.0
PRODID:-//Sistema Museale - ECPv5.14.0.4//NONSGML v1.0//EN
CALSCALE:GREGORIAN
METHOD:PUBLISH
X-WR-CALNAME:Sistema Museale
X-ORIGINAL-URL:https://sistemamuseale.cmvs.it
X-WR-CALDESC:Events for Sistema Museale
REFRESH-INTERVAL;VALUE=DURATION:PT1H
X-Robots-Tag:noindex
X-PUBLISHED-TTL:PT1H
BEGIN:VTIMEZONE
TZID:Europe/Rome
BEGIN:DAYLIGHT
TZOFFSETFROM:+0100
TZOFFSETTO:+0200
TZNAME:CEST
DTSTART:20230326T010000
END:DAYLIGHT
BEGIN:STANDARD
TZOFFSETFROM:+0200
TZOFFSETTO:+0100
TZNAME:CET
DTSTART:20231029T010000
END:STANDARD
END:VTIMEZONE
BEGIN:VEVENT
DTSTART;TZID=Europe/Rome:20230702T150000
DTEND;TZID=Europe/Rome:20230702T180000
DTSTAMP:20260424T180415
CREATED:20230626T110110Z
LAST-MODIFIED:20230626T110213Z
UID:1554-1688310000-1688320800@sistemamuseale.cmvs.it
SUMMARY:Ceramisti si diventa... al MAVS
DESCRIPTION:UNA DOMENICA ALLA SCOPERTA DELL’ARTE DEGLI ANTICHI VASAI. \nRitorna domenica 2 luglio il consueto appuntamento settimanale dedicato ai bambini e alle famiglie al MAVS di Gavardo\, in occasione dello speciale evento “Ceramisti si diventa”. \nNella sede di piazza San Bernardino a Gavardo i partecipanti\, dopo un percorso didattico tematico\, potranno sperimentare le tecniche di lavorazione della ceramica in uso nella preistoria e realizzare così il proprio vaso. \nSono previsti due turni\, rispettivamente alle 15 e alle 16.30. \nL’iniziativa\, curata dal servizio didattico del MAVS in collaborazione con le operatrici de La Melagrana\, con un costo di partecipazione di 2 euro a persona\, è riservata ai bimbi dai 6 agli 11 anni\, accompagnati. \nLa prenotazione\, obbligatoria\, potrà effettuarsi mediante questo link. \nPer ulteriori informazioni\, è possibile telefonare ai numeri 0365.371474 (entro venerdì\, dalle 9.30 alle 12.30)\, 338.9336451\, oppure inviare una mail a: info@museoarcheologicogavardo.it
URL:https://sistemamuseale.cmvs.it/event/ceramisti-si-diventa-al-mavs/
LOCATION:Gavardo
CATEGORIES:Laboratori
ATTACH;FMTTYPE=image/png:https://sistemamuseale.cmvs.it/wp-content/uploads/2023/06/5.CERAMISTI_SI_DIVENTA-Grafica-2-luglio.png
END:VEVENT
END:VCALENDAR