BEGIN:VCALENDAR
VERSION:2.0
PRODID:-//Sistema Museale - ECPv5.14.0.4//NONSGML v1.0//EN
CALSCALE:GREGORIAN
METHOD:PUBLISH
X-WR-CALNAME:Sistema Museale
X-ORIGINAL-URL:https://sistemamuseale.cmvs.it
X-WR-CALDESC:Events for Sistema Museale
REFRESH-INTERVAL;VALUE=DURATION:PT1H
X-Robots-Tag:noindex
X-PUBLISHED-TTL:PT1H
BEGIN:VTIMEZONE
TZID:Europe/Rome
BEGIN:DAYLIGHT
TZOFFSETFROM:+0100
TZOFFSETTO:+0200
TZNAME:CEST
DTSTART:20230326T010000
END:DAYLIGHT
BEGIN:STANDARD
TZOFFSETFROM:+0200
TZOFFSETTO:+0100
TZNAME:CET
DTSTART:20231029T010000
END:STANDARD
END:VTIMEZONE
BEGIN:VEVENT
DTSTART;TZID=Europe/Rome:20230923T153000
DTEND;TZID=Europe/Rome:20230923T173000
DTSTAMP:20260424T144027
CREATED:20230921T070437Z
LAST-MODIFIED:20230921T070437Z
UID:1814-1695483000-1695490200@sistemamuseale.cmvs.it
SUMMARY:LABOR. A spasso tra trama e ordito
DESCRIPTION:Laboratorio di tessitura per bambini a cura di Kleio. Percorsi di storia.\nNumero massimo di bambini: 15 (più accompagnatori)\n\n\nL’evento si svolgerà dalle ore 15:30 presso la Cappella del cotonificio in via Arnoldo Bellini.\n\nInfo e prenotazioni\nBiblioteca di Roè Volciano\n0365/63738\n\n\nNell’ambito della rassegna LABOR: percorsi ed esperienze inedite tra valle e lago\, progetto curato dal Sistema Museale di Valle Sabbia e il Sistema Bibliotecario Nord Est Bresciano\, aderente alla Rete Bibliotecaria Bresciana\, di cui è capofila la Provincia di Brescia\, e di numerosi altri soggetti.\nGli eventi\, legati dal tema comune del lavoro e degli antichi mestieri\, si terranno da luglio a dicembre 2023 in varie località e sedi della Valle Sabbia e del Lago di Garda.
URL:https://sistemamuseale.cmvs.it/event/labor-a-spasso-tra-trama-e-ordito/
LOCATION:Cappella del Cotonificio\, Via Arnoldo Bellini\, Roè Volciano\, 25070\, Italia
CATEGORIES:Laboratori
ATTACH;FMTTYPE=image/png:https://sistemamuseale.cmvs.it/wp-content/uploads/2023/09/roe-23-settembre-def.png
END:VEVENT
END:VCALENDAR