BEGIN:VCALENDAR
VERSION:2.0
PRODID:-//Sistema Museale - ECPv5.14.0.4//NONSGML v1.0//EN
CALSCALE:GREGORIAN
METHOD:PUBLISH
X-WR-CALNAME:Sistema Museale
X-ORIGINAL-URL:https://sistemamuseale.cmvs.it
X-WR-CALDESC:Events for Sistema Museale
REFRESH-INTERVAL;VALUE=DURATION:PT1H
X-Robots-Tag:noindex
X-PUBLISHED-TTL:PT1H
BEGIN:VTIMEZONE
TZID:Europe/Rome
BEGIN:DAYLIGHT
TZOFFSETFROM:+0100
TZOFFSETTO:+0200
TZNAME:CEST
DTSTART:20230326T010000
END:DAYLIGHT
BEGIN:STANDARD
TZOFFSETFROM:+0200
TZOFFSETTO:+0100
TZNAME:CET
DTSTART:20231029T010000
END:STANDARD
END:VTIMEZONE
BEGIN:VEVENT
DTSTART;TZID=Europe/Rome:20230924T150000
DTEND;TZID=Europe/Rome:20230924T170000
DTSTAMP:20260424T144029
CREATED:20230921T071228Z
LAST-MODIFIED:20230921T071228Z
UID:1828-1695567600-1695574800@sistemamuseale.cmvs.it
SUMMARY:LABOR. L'antica arte di fare la carta. Il lavoro del mastro cartaio
DESCRIPTION:L’antica arte di fare la carta. Il lavoro del Mastro Cartaio.\nVisita guidata e laboratorio per adulti e bambini\n\nLaboratorio in cui potrai realizzare il tuo personale foglio di carta artigianale\, in occasione delle Giornate Europee del Patrimonio.\n\n\nL’evento si svolgerà dalle ore 15:00 presso il Museo della Carta.\n\nInfo e prenotazioni\nMuseo della carta\n0365/641050\ninfo@valledellecartiere.it\n\n\nNell’ambito della rassegna LABOR: percorsi ed esperienze inedite tra valle e lago\, progetto curato dal Sistema Museale di Valle Sabbia e il Sistema Bibliotecario Nord Est Bresciano\, aderente alla Rete Bibliotecaria Bresciana\, di cui è capofila la Provincia di Brescia\, e di numerosi altri soggetti.\nGli eventi\, legati dal tema comune del lavoro e degli antichi mestieri\, si terranno da luglio a dicembre 2023 in varie località e sedi della Valle Sabbia e del Lago di Garda.
URL:https://sistemamuseale.cmvs.it/event/labor-lantica-arte-di-fare-la-carta-il-lavoro-del-mastro-cartaio/
LOCATION:Museo della Carta\, Via valle delle Cartiere\, Toscolano Maderno\, 25088
CATEGORIES:Laboratori,Visita Guidata
ATTACH;FMTTYPE=image/png:https://sistemamuseale.cmvs.it/wp-content/uploads/2023/09/toscolano-24-settembre.png
END:VEVENT
END:VCALENDAR