BEGIN:VCALENDAR
VERSION:2.0
PRODID:-//Sistema Museale - ECPv5.14.0.4//NONSGML v1.0//EN
CALSCALE:GREGORIAN
METHOD:PUBLISH
X-WR-CALNAME:Sistema Museale
X-ORIGINAL-URL:https://sistemamuseale.cmvs.it
X-WR-CALDESC:Events for Sistema Museale
REFRESH-INTERVAL;VALUE=DURATION:PT1H
X-Robots-Tag:noindex
X-PUBLISHED-TTL:PT1H
BEGIN:VTIMEZONE
TZID:Europe/Rome
BEGIN:DAYLIGHT
TZOFFSETFROM:+0100
TZOFFSETTO:+0200
TZNAME:CEST
DTSTART:20230326T010000
END:DAYLIGHT
BEGIN:STANDARD
TZOFFSETFROM:+0200
TZOFFSETTO:+0100
TZNAME:CET
DTSTART:20231029T010000
END:STANDARD
END:VTIMEZONE
BEGIN:VEVENT
DTSTART;TZID=Europe/Rome:20230930T150000
DTEND;TZID=Europe/Rome:20230930T180000
DTSTAMP:20260424T132042
CREATED:20230921T073156Z
LAST-MODIFIED:20230921T073156Z
UID:1846-1696086000-1696096800@sistemamuseale.cmvs.it
SUMMARY:LABOR. Laboratorio di acquarelli e gioco dell'oca per bambini
DESCRIPTION:Presso il Parco del Vrenda di Odolo un pomeriggio dedicato ai più piccoli.\n\n\nLaboratorio di acquerelli e gioco dell’oca per bambini \nLettura di leggende e racconti su acqua\, fuoco e ferro \nGIOCAGATTO a squadre con merenda finale \nN° max partecipanti: 30. Prenotazione consigliata \n\n\nAppuntamento dalle ore 15:00 al parco\, per maggiori informazioni contattare la biblioteca 0365826376.\n\n\nNell’ambito della rassegna LABOR: percorsi ed esperienze inedite tra valle e lago\, progetto curato dal Sistema Museale di Valle Sabbia e il Sistema Bibliotecario Nord Est Bresciano\, aderente alla Rete Bibliotecaria Bresciana\, di cui è capofila la Provincia di Brescia\, e di numerosi altri soggetti.\nGli eventi\, legati dal tema comune del lavoro e degli antichi mestieri\, si terranno da luglio a dicembre 2023 in varie località e sedi della Valle Sabbia e del Lago di Garda.
URL:https://sistemamuseale.cmvs.it/event/labor-laboratorio-di-acquarelli-e-gioco-delloca-per-bambini/
LOCATION:Parco al Vrenda\, Odolo
CATEGORIES:Laboratori
ATTACH;FMTTYPE=image/png:https://sistemamuseale.cmvs.it/wp-content/uploads/2023/09/odolo-vrenda-30-settembre.png
END:VEVENT
END:VCALENDAR