BEGIN:VCALENDAR
VERSION:2.0
PRODID:-//Sistema Museale - ECPv5.14.0.4//NONSGML v1.0//EN
CALSCALE:GREGORIAN
METHOD:PUBLISH
X-WR-CALNAME:Sistema Museale
X-ORIGINAL-URL:https://sistemamuseale.cmvs.it
X-WR-CALDESC:Events for Sistema Museale
REFRESH-INTERVAL;VALUE=DURATION:PT1H
X-Robots-Tag:noindex
X-PUBLISHED-TTL:PT1H
BEGIN:VTIMEZONE
TZID:Europe/Rome
BEGIN:DAYLIGHT
TZOFFSETFROM:+0100
TZOFFSETTO:+0200
TZNAME:CEST
DTSTART:20230326T010000
END:DAYLIGHT
BEGIN:STANDARD
TZOFFSETFROM:+0200
TZOFFSETTO:+0100
TZNAME:CET
DTSTART:20231029T010000
END:STANDARD
END:VTIMEZONE
BEGIN:VEVENT
DTSTART;TZID=Europe/Rome:20231001T150000
DTEND;TZID=Europe/Rome:20231001T170000
DTSTAMP:20260424T132017
CREATED:20230929T075618Z
LAST-MODIFIED:20230929T075618Z
UID:1872-1696172400-1696179600@sistemamuseale.cmvs.it
SUMMARY:Labor. Marmi e pietre colorate. L'arte dell'intarsio
DESCRIPTION:Un pomeriggio dedicato ai più piccoli\, alla scoperta dell’arte dell’intarsio.\nAppuntamento alle ore 15:00 in Piazza Feltrinelli\, per maggiori informazioni contattare Ufficio Cultura del Comune di Gargnano\n03657988305 – biblioteca@comune.gargnano.bs.it\n\n\nNell’ambito della rassegna LABOR: percorsi ed esperienze inedite tra valle e lago\, progetto curato dal Sistema Museale di Valle Sabbia e il Sistema Bibliotecario Nord Est Bresciano\, aderente alla Rete Bibliotecaria Bresciana\, di cui è capofila la Provincia di Brescia\, e di numerosi altri soggetti.\nGli eventi\, legati dal tema comune del lavoro e degli antichi mestieri\, si terranno da luglio a dicembre 2023 in varie località e sedi della Valle Sabbia e del Lago di Garda.
URL:https://sistemamuseale.cmvs.it/event/labor-marmi-e-pietre-colorate-larte-dellintarsio/
LOCATION:Ex Palazzo Municipale Gargnano\, Piazza Feltrinelli\, Gargnano\, 25084\, Italia
CATEGORIES:Laboratori
ATTACH;FMTTYPE=image/jpeg:https://sistemamuseale.cmvs.it/wp-content/uploads/2023/09/un-borgo-tutto-da-scoprire.-gargnano-e-la-sua-storia_page-0001.jpg
END:VEVENT
BEGIN:VEVENT
DTSTART;TZID=Europe/Rome:20231001T150000
DTEND;TZID=Europe/Rome:20231001T180000
DTSTAMP:20260424T132017
CREATED:20230927T131051Z
LAST-MODIFIED:20230927T131051Z
UID:1863-1696172400-1696183200@sistemamuseale.cmvs.it
SUMMARY:LABOR. Il primo pane
DESCRIPTION:Un doppio appuntamento al MAVS organizzato nell’ambito della rassegna “LABOR: percorsi ed esperienze inedite tra valle e lago” curata dal Sistema Museale Valle Sabbia e Sistema Bibliotecario Nord-Est Bresciano. \nDomenica 1° ottobre alle ore 15:00\, presso la Sala Bruni Conter del Museo di Gavardo è in programma la conferenza tematica “ Il primo pane. L’agricoltura preistorica dall’introduzione all’età del Bronzo “; a seguire alle ore 17:00 si svolgerà un laboratorio didattico per bimbi dai 6 agli 11 anni\, con prenotazione obbligatoria da effettuarsi a questo link. \nIn linea con il tema dell’iniziativa generale legata alla promozione del territorio attraverso una serie di eventi legati al tema comune del lavoro e degli antichi mestieri\, nella Sala Bruni Conter del museo gavardese alle ore 15 ci sarà una conferenza\, gratuita e a ingresso libero\, dal titolo “Il primo pane. L’agricoltura preistorica dall’introduzione all’età del Bronzo” durante la quale interverranno Marco Baioni direttore del MAVS\, Claudia Mangani conservatrice del Museo Civico Archeologico G. Rambotti di Desenzano del Garda e Mauro Rottoli di ARCO – Cooperativa di Ricerche Archeobiologiche di Como. \nSuccessivamente alle ore 17 si svolgerà un laboratorio didattico\, a cura delle operatrici de La Melagrana\, rivolto ai bimbi dai 6 agli 11 anni\, in cui sarà possibile sperimentare le antiche tecniche di produzione della farina e lavorazione del pane.Per quest’ultima attività\, che prevede un costo di partecipazione di 2 euro a persona\, è richiesta la prenotazione\, che potrà effettuarsi mediante il link del modulo online presente nella sezione “news ed eventi” del sito web del museo. \n 
URL:https://sistemamuseale.cmvs.it/event/labor-il-primo-pane/
LOCATION:Gavardo
CATEGORIES:Conferenza,Laboratori
ATTACH;FMTTYPE=image/png:https://sistemamuseale.cmvs.it/wp-content/uploads/2023/09/3.Labor_1.10.png
END:VEVENT
END:VCALENDAR