BEGIN:VCALENDAR
VERSION:2.0
PRODID:-//Sistema Museale - ECPv5.14.0.4//NONSGML v1.0//EN
CALSCALE:GREGORIAN
METHOD:PUBLISH
X-WR-CALNAME:Sistema Museale
X-ORIGINAL-URL:https://sistemamuseale.cmvs.it
X-WR-CALDESC:Events for Sistema Museale
REFRESH-INTERVAL;VALUE=DURATION:PT1H
X-Robots-Tag:noindex
X-PUBLISHED-TTL:PT1H
BEGIN:VTIMEZONE
TZID:Europe/Rome
BEGIN:DAYLIGHT
TZOFFSETFROM:+0100
TZOFFSETTO:+0200
TZNAME:CEST
DTSTART:20230326T010000
END:DAYLIGHT
BEGIN:STANDARD
TZOFFSETFROM:+0200
TZOFFSETTO:+0100
TZNAME:CET
DTSTART:20231029T010000
END:STANDARD
END:VTIMEZONE
BEGIN:VEVENT
DTSTART;TZID=Europe/Rome:20231007T150000
DTEND;TZID=Europe/Rome:20231007T170000
DTSTAMP:20260424T132017
CREATED:20230929T080552Z
LAST-MODIFIED:20230929T080552Z
UID:1885-1696690800-1696698000@sistemamuseale.cmvs.it
SUMMARY:Labor. Quanti tipi di stampa!
DESCRIPTION:Laboratorio per bambini dai 6 anni al Museo della Civiltà Contadina e dei Mestieri di Sabbio Chiese. \n\nOre 15\, ritrovo in piazza Rocca a Sabbio Chiese\nInformazioni e prenotazioni: Cooperativa La Melagrana 338.9336451\n\n\n\nNell’ambito della rassegna LABOR: percorsi ed esperienze inedite tra valle e lago\, progetto curato dal Sistema Museale di Valle Sabbia e il Sistema Bibliotecario Nord Est Bresciano\, aderente alla Rete Bibliotecaria Bresciana\, di cui è capofila la Provincia di Brescia\, e di numerosi altri soggetti.\nGli eventi\, legati dal tema comune del lavoro e degli antichi mestieri\, si terranno da luglio a dicembre 2023 in varie località e sedi della Valle Sabbia e del Lago di Garda.
URL:https://sistemamuseale.cmvs.it/event/labor-quanti-tipi-di-stampa/
LOCATION:Museo della Civiltà contadina e degli antichi mestieri – Sabbio Chiese\, Piazza Rocca\, Sabbio Chiese\, BS\, 25070\, Italia
CATEGORIES:Laboratori,Visita Guidata
ATTACH;FMTTYPE=image/png:https://sistemamuseale.cmvs.it/wp-content/uploads/2023/09/sabbio-7-ottobre.png
END:VEVENT
END:VCALENDAR